Workbook
Name Испытания: [1]Справочник!$K$3:$K$45
Name Пол: [2]Справочник!$A$3:$A$4
Name Ступень: [2]Справочник!$E$3:$E$18

Sheet Стартовые
A1: Фестиваль: | B1: =Протокол!A2 -> Городской Зимний фестиваль Всероссийского физкультурно-спортивного комплекса "Готов к труду и обороне" (ГТО) среди трудовых коллективов и лиц различных возрастных категорий, посвящённый 95-летней годовщине создания комплекса ГТО
A2: Испытание: | B2: Прыжок в длину с места толчком двумя ногами
A3: дата выполнения: | B3: =Протокол!B4 -> 46095 | D3: Место выполнения: | G3: =Протокол!B6 -> Великий Новгород, ул. Вересова, д.8, МАУ "СШ №2"
A4: № | B4: ФИО | C4: Команда | D4: УИН | E4: Дата рождения | G4: Возрастная ступень | H4: Пол | I4: Результат
A5: 1 | B5: =Протокол!B8 -> Павлюкова Татьяна Александровна | C5: =Протокол!C8 -> ПАО "АКРОН" - 1 | D5: =Протокол!D8 -> 25-53-0007650 | E5: =Протокол!E8 -> 24.01.1979 | F5: =Протокол!F8 -> 47 | G5: =Протокол!G8 -> 13 | H5: =Протокол!H8 -> ж
A6: 2 | B6: =Протокол!B9 -> Павлюков Андрей Васильевич | C6: =Протокол!C9 -> ПАО "АКРОН" - 1 | D6: =Протокол!D9 -> 25-53-0022363 | E6: =Протокол!E9 -> 21.08.1983 | F6: =Протокол!F9 -> 42 | G6: =Протокол!G9 -> 12 | H6: =Протокол!H9 -> м
A7: 3 | B7: =Протокол!B10 -> Богидаева Жанна Радиславовна | C7: =Протокол!C10 -> ПАО "АКРОН" - 1 | D7: =Протокол!D10 -> 25-53-0026508 | E7: =Протокол!E10 -> 21.11.1982 | F7: =Протокол!F10 -> 43 | G7: =Протокол!G10 -> 12 | H7: =Протокол!H10 -> ж
A8: 4 | B8: =Протокол!B11 -> Васильева Валентина Николаевна | C8: =Протокол!C11 -> ПАО "АКРОН" - 1 | D8: =Протокол!D11 -> 25-53-0002358 | E8: =Протокол!E11 -> 29.04.1984 | F8: =Протокол!F11 -> 41 | G8: =Протокол!G11 -> 12 | H8: =Протокол!H11 -> ж
A9: 5 | B9: =Протокол!B12 -> Иванов Дмитрий Владимирович | C9: =Протокол!C12 -> ПАО "АКРОН" - 1 | D9: =Протокол!D12 -> 25-53-0007169 | E9: =Протокол!E12 -> 04.04.1991 | F9: =Протокол!F12 -> 34 | G9: =Протокол!G12 -> 10 | H9: =Протокол!H12 -> м
A10: 6 | B10: =Протокол!B13 -> Иванова Мария Александровна | C10: =Протокол!C13 -> ПАО "АКРОН" - 1 | D10: =Протокол!D13 -> 26-53-0000494 | E10: =Протокол!E13 -> 26.09.1991 | F10: =Протокол!F13 -> 34 | G10: =Протокол!G13 -> 10 | H10: =Протокол!H13 -> ж
A11: Судья на виде________________________________________
A13: Фестиваль: | B13: =B1 -> Городской Зимний фестиваль Всероссийского физкультурно-спортивного комплекса "Готов к труду и обороне" (ГТО) среди трудовых коллективов и лиц различных возрастных категорий, посвящённый 95-летней годовщине создания комплекса ГТО
A14: Испытание: | B14: =B2 -> Прыжок в длину с места толчком двумя ногами
A15: дата выполнения: | B15: =B3 -> 46095 | D15: Место выполнения: | G15: =G3 -> Великий Новгород, ул. Вересова, д.8, МАУ "СШ №2"
A16: № | B16: ФИО | C16: Команда | D16: УИН | E16: Дата рождения | G16: Возрастная ступень | H16: Пол | I16: Результат
A17: 1 | B17: =Протокол!B15 -> Красильников Анатолий Юрьевич | C17: =Протокол!C15 -> ПАО "АКРОН" - 2 | D17: =Протокол!D15 -> 26-53-0000977 | E17: =Протокол!E15 -> 20.11.1984 | F17: =Протокол!F15 -> 41 | G17: =Протокол!G15 -> 12 | H17: =Протокол!H15 -> м
A18: 2 | B18: =Протокол!B16 -> Григорьев Дмитрий Евгеньевич | C18: =Протокол!C16 -> ПАО "АКРОН" - 2 | D18: =Протокол!D16 -> 25-53-0011752 | E18: =Протокол!E16 -> 16.08.1988 | F18: =Протокол!F16 -> 37 | G18: =Протокол!G16 -> 11 | H18: =Протокол!H16 -> м
A19: 3 | B19: =Протокол!B17 -> Воронецкий Олег Геннадьевич | C19: =Протокол!C17 -> ПАО "АКРОН" - 2 | D19: =Протокол!D17 -> 26-53-0001048 | E19: =Протокол!E17 -> 17.05.1991 | F19: =Протокол!F17 -> 34 | G19: =Протокол!G17 -> 10 | H19: =Протокол!H17 -> м
A20: 4 | B20: =Протокол!B18 -> Сомова Елена Леонидовна | C20: =Протокол!C18 -> ПАО "АКРОН" - 2 | D20: =Протокол!D18 -> 26-53-0001691 | E20: =Протокол!E18 -> 02.10.1972 | F20: =Протокол!F18 -> 53 | G20: =Протокол!G18 -> 14 | H20: =Протокол!H18 -> ж
A21: 5 | B21: =Протокол!B19 -> Кузьмина Марина Алексеевна | C21: =Протокол!C19 -> ПАО "АКРОН" - 2 | D21: =Протокол!D19 -> 26-53-0001765 | E21: =Протокол!E19 -> 02.08.1982 | F21: =Протокол!F19 -> 43 | G21: =Протокол!G19 -> 12 | H21: =Протокол!H19 -> ж
A22: 6 | B22: =Протокол!B20 -> Лукина Анна Леонидовна | C22: =Протокол!C20 -> ПАО "АКРОН" - 2 | D22: =Протокол!D20 -> 26-53-0001778 | E22: =Протокол!E20 -> 10.06.1980 | F22: =Протокол!F20 -> 45 | G22: =Протокол!G20 -> 13 | H22: =Протокол!H20 -> ж
A23: Судья на виде________________________________________
A25: Фестиваль: | B25: =B1 -> Городской Зимний фестиваль Всероссийского физкультурно-спортивного комплекса "Готов к труду и обороне" (ГТО) среди трудовых коллективов и лиц различных возрастных категорий, посвящённый 95-летней годовщине создания комплекса ГТО
A26: Испытание: | B26: =B2 -> Прыжок в длину с места толчком двумя ногами
A27: дата выполнения: | B27: =B3 -> 46095 | D27: Место выполнения: | G27: =G3 -> Великий Новгород, ул. Вересова, д.8, МАУ "СШ №2"
A28: № | B28: ФИО | C28: Команда | D28: УИН | E28: Дата рождения | G28: Возрастная ступень | H28: Пол | I28: Результат
A29: 1 | B29: =Протокол!B22 -> Шарейко Юлия Ивановна | C29: =Протокол!C22 -> ПАО "АКРОН" - 3 | D29: =Протокол!D22 -> 26-53-0001310 | E29: =Протокол!E22 -> 15.04.1985 | F29: =Протокол!F22 -> 40 | G29: =Протокол!G22 -> 12 | H29: =Протокол!H22 -> ж
A30: 2 | B30: =Протокол!B23 -> Левкина Ирина Владимировна | C30: =Протокол!C23 -> ПАО "АКРОН" - 3 | D30: =Протокол!D23 -> 26-53-0001915 | E30: =Протокол!E23 -> 15.03.1980 | F30: =Протокол!F23 -> 45 | G30: =Протокол!G23 -> 13 | H30: =Протокол!H23 -> ж
A31: 3 | B31: =Протокол!B24 -> Бачурина Оксана Юрьевна | C31: =Протокол!C24 -> ПАО "АКРОН" - 3 | D31: =Протокол!D24 -> 26-53-0001864 | E31: =Протокол!E24 -> 09.10.1980 | F31: =Протокол!F24 -> 45 | G31: =Протокол!G24 -> 13 | H31: =Протокол!H24 -> ж
A32: 4 | B32: =Протокол!B25 -> Чазова Светлана Александровна | C32: =Протокол!C25 -> ПАО "АКРОН" - 3 | D32: =Протокол!D25 -> 26-53-0001867 | E32: =Протокол!E25 -> 22.08.1973 | F32: =Протокол!F25 -> 52 | G32: =Протокол!G25 -> 14 | H32: =Протокол!H25 -> ж
A33: 5 | B33: =Протокол!B26 -> Сорокина Яна Андреевна | C33: =Протокол!C26 -> ПАО "АКРОН" - 3 | D33: =Протокол!D26 -> 25-53-0003435 | E33: =Протокол!E26 -> 07.06.1990 | F33: =Протокол!F26 -> 35 | G33: =Протокол!G26 -> 11 | H33: =Протокол!H26 -> ж
A34: 6 | B34: =Протокол!B27 -> Юферев Сергей Евгеньевич | C34: =Протокол!C27 -> ПАО "АКРОН" - 3 | D34: =Протокол!D27 -> 24-53-0003082 | E34: =Протокол!E27 -> 24.03.1974 | F34: =Протокол!F27 -> 51 | G34: =Протокол!G27 -> 14 | H34: =Протокол!H27 -> м
A35: Судья на виде________________________________________
A37: Фестиваль: | B37: =B1 -> Городской Зимний фестиваль Всероссийского физкультурно-спортивного комплекса "Готов к труду и обороне" (ГТО) среди трудовых коллективов и лиц различных возрастных категорий, посвящённый 95-летней годовщине создания комплекса ГТО
A38: Испытание: | B38: =B2 -> Прыжок в длину с места толчком двумя ногами
A39: дата выполнения: | B39: =B3 -> 46095 | D39: Место выполнения: | G39: =G3 -> Великий Новгород, ул. Вересова, д.8, МАУ "СШ №2"
A40: № | B40: ФИО | C40: Команда | D40: УИН | E40: Дата рождения | G40: Возрастная ступень | H40: Пол | I40: Результат
A41: 1 | B41: =Протокол!B29 -> Кондрашкин Алексей Сергеевич | C41: =Протокол!C29 -> НФ АО НПК СПП | D41: =Протокол!D29 -> 25-53-0010732 | E41: =Протокол!E29 -> 30.01.1985 | F41: =Протокол!F29 -> 41 | G41: =Протокол!G29 -> 12 | H41: =Протокол!H29 -> м
A42: 2 | B42: =Протокол!B30 -> Галиулина Альбина Рустамовна | C42: =Протокол!C30 -> НФ АО НПК СПП | D42: =Протокол!D30 -> 23-53-0011798 | E42: =Протокол!E30 -> 03.08.1991 | F42: =Протокол!F30 -> 34 | G42: =Протокол!G30 -> 10 | H42: =Протокол!H30 -> ж
A43: 3 | B43: =Протокол!B31 -> Родионов Павел Владимирович | C43: =Протокол!C31 -> НФ АО НПК СПП | D43: =Протокол!D31 -> 25-53-0001892 | E43: =Протокол!E31 -> 02.10.1980 | F43: =Протокол!F31 -> 45 | G43: =Протокол!G31 -> 13 | H43: =Протокол!H31 -> м
...

Sheet Протокол
A1: Сводный протокол выполнения государственных требований к физической подготовленности граждан Российской Федерации
A2: Городской Зимний фестиваль Всероссийского физкультурно-спортивного комплекса "Готов к труду и обороне" (ГТО) среди трудовых коллективов и лиц различных возрастных категорий, посвящённый 95-летней годовщине создания комплекса ГТО
B3: Дата выполнения:
B4: 46095
B5: Место выполнения:
B6: Великий Новгород, ул. Вересова, д.8, МАУ "СШ №2"
A7: № | B7: ФИО | C7: Команда | D7: УИН участника | E7: Дата рождения | F7: Лет | G7: Ступень | H7: Пол | I7: Бег на 30 м (с) | J7: очки | K7: Бег на 60 м (с) | L7: очки | M7: Бег на 100 м (с) | N7: очки | O7: Бег на 1000 м (мин, с) | P7: очки | Q7: Бег на 1500 м (мин, с) | R7: очки | S7: Бег на 2000 м (мин, с) | T7: очки | U7: Бег на 3000 м (мин, с) | V7: очки | W7: Бег на лыжах на 1000 м (мин, с) | X7: очки | Y7: Бег на лыжах на 2000 м (мин, с) | Z7: очки | AA7: Бег на лыжах на 3000 м (мин, с) | AB7: очки | AC7: Бег на лыжах на 5000 м (мин, с) | AD7: очки | AE7: Передвижение на лыжах на 2 км (мин, с) | AF7: очки | AG7: Передвижение на лыжах на 3 км (мин, с) | AH7: очки | AI7: Смешанное передвижение на 1000 м (мин,с) | AJ7: очки | AK7: Смешанное передвижение на 2000 м (мин, с) | AL7: очки | AM7: Смешанное передвижение по пересеченной местности на 1000 м (мин,с) | AN7: очки | AO7: Смешанное передвижение по пересеченной местности на 2 км (мин, с) | AP7: очки | AQ7: Смешанное передвижение по пересеченной местности на 3 км (мин, с) | AR7: очки | AS7: Кросс на 2000 м (по пересеченной местности (мин, с) | AT7: очки | AU7: Кросс на 3000 м (по пересеченной местности (мин, с) | AV7: очки | AW7: Кросс на 5000 м (по пересеченной местности (мин, с) | AX7: очки | AY7: Скандинавская ходьба на 3 км (мин, с) | AZ7: очки | BA7: Подтягивание из виса на высокой перекладине (количество раз) | BB7: очки | BC7: Подтягивание из виса лежа на низкой перекладине 90 см (количество раз) | BD7: очки | BE7: Рывок гири 16 кг (количество раз) | BF7: очки | BG7: Cгибание и разгибание рук в упоре лежа на полу (количество раз) | BH7: очки | BI7: Сгибание и разгибание рук в упоре о гимнастическую скамью(количество раз) | BJ7: очки | BK7: Сгибание и разгибание рук в упоре о сиденье стула (количество раз) | BL7: очки | BM7: Наклон вперед из положения стоя на гимнастической скамье (от уровня скамьи - см) | BN7: очки | BO7: Прыжок в длину с места толчком двумя ногами (см) | BP7: очки | BQ7: Поднимание туловища из положения лежа на спине (количество раз за 1 мин) | BR7: очки | BS7: Стрельба из положения сидя или стоя с опорой локтей о стол или стойку, дистанция – 10 м (очки): из пневматической винтовки с открытым прицелом | BT7: очки | BU7: Стрельба из пневматической винтовки с диоптрическим прицелом, либо «электронного оружия» | BV7: очки | BW7: Метание мяча в цель, дистанция 6 м (кол-во попаданий) | BX7: очки | BY7: Метание мяча весом 150 г (м) | BZ7: очки | CA7: Метание спортивного снаряда весом 700 г (м) | CB7: очки | CC7: Метание спортивного снаряда весом 500 г (м) | CD7: очки | CE7: Челночный бег 3 х 10 м (с) | CF7: очки | CG7: Плавание 25 м (мин, с) | CH7: очки | CI7: Плавание 50 м (мин, с) | CJ7: очки | CK7: Сумма очков
A8: 1 | B8: Павлюкова Татьяна Александровна | C8: ПАО "АКРОН" - 1 | D8: 25-53-0007650 | E8: 24.01.1979 | F8: =IF(E8="",0,INT(($B$4-E8)/365.25)) -> 47 | G8: =IFERROR(VLOOKUP(F8,Ступени!$A$2:$B$99,2,0),"") -> 13 | H8: ж | J8: =IF(I8="",0,IF(AND(G8=2,H8="м"),VLOOKUP(I8,'30м'!$A$4:$B$71,2,0),IF(AND(G8=2,H8="ж"),VLOOKUP(I8,'30м'!$D$4:$E$71,2,0),IF(AND(G8=3,H8="м"),VLOOKUP(I8,'30м'!$G$4:$H$71,2,0),IF(AND(G8=3,H8="ж"),VLOOKUP(I8,'30м'!$J$4:$K$71,2,0),IF(AND(G8=4,H8="м"),VLOOKUP(I8,'30м'!$M$4:$N$71,2,0),IF(AND(G8=4,H8="ж"),VLOOKUP(I8,'30м'!$P$4:$Q$71,2,0),IF(AND(G8=5,H8="м"),VLOOKUP(I8,'30м'!$S$4:$T$71,2,0),IF(AND(G8=5,H8="ж"),VLOOKUP(I8,'30м'!$V$4:$W$71,2,0),""))))))))) -> 0 | L8: =IF(K8="",0,IF(AND(G8=4,H8="м"),VLOOKUP(K8,'60м'!$A$4:$B$129,2,0),IF(AND(G8=4,H8="ж"),VLOOKUP(K8,'60м'!$D$4:$E$129,2,0),IF(AND(G8=5,H8="м"),VLOOKUP(K8,'60м'!$G$4:$H$129,2,0),IF(AND(G8=5,H8="ж"),VLOOKUP(K8,'60м'!$J$4:$K$129,2,0),IF(AND(G8=6,H8="м"),VLOOKUP(K8,'60м'!$M$4:$N$129,2,0),IF(AND(G8=6,H8="ж"),VLOOKUP(K8,'60м'!$P$4:$Q$129,2,0),IF(AND(G8=7,H8="м"),VLOOKUP(K8,'60м'!$S$4:$T$129,2,0),IF(AND(G8=7,H8="ж"),VLOOKUP(K8,'60м'!$V$4:$W$129,2,0),IF(AND(G8=8,H8="м"),VLOOKUP(K8,'60м'!$Y$4:$Z$129,2,0),IF(AND(G8=8,H8="ж"),VLOOKUP(K8,'60м'!$AB$4:$AC$129,2,0),IF(AND(G8=9,H8="м"),VLOOKUP(K8,'60м'!$AE$4:$AF$129,2,0),IF(AND(G8=9,H8="ж"),VLOOKUP(K8,'60м'!$AH$4:$AI$129,2,0),IF(AND(G8=10,H8="м"),VLOOKUP(K8,'60м'!$AK$4:$AL$129,2,0),IF(AND(G8=10,H8="ж"),VLOOKUP(K8,'60м'!$AN$4:$AO$129,2,0),IF(AND(G8=11,H8="м"),VLOOKUP(K8,'60м'!$AQ$4:$AR$129,2,0),IF(AND(G8=11,H8="ж"),VLOOKUP(K8,'60м'!$AT$4:$AU$129,2,0),IF(AND(G8=12,H8="м"),VLOOKUP(K8,'60м'!$AW$4:$AX$129,2,0),IF(AND(G8=12,H8="ж"),VLOOKUP(K8,'60м'!$AZ$4:$BA$129,2,0),IF(AND(G8=13,H8="м"),VLOOKUP(K8,'60м'!$BC$4:$BD$129,2,0),IF(AND(G8=13,H8="ж"),VLOOKUP(K8,'60м'!$BF$4:$BG$129,2,0),""))))))))))))))))))))) -> 0 | N8: =IF(M8="",0,IF(AND(G8=6,H8="м"),VLOOKUP(M8,'100м'!$A$4:$B$134,2,0),IF(AND(G8=6,H8="ж"),VLOOKUP(M8,'100м'!$D$4:$E$134,2,0),IF(AND(G8=7,H8="м"),VLOOKUP(M8,'100м'!$G$4:$H$134,2,0),IF(AND(G8=7,H8="ж"),VLOOKUP(M8,'100м'!$J$4:$K$134,2,0),IF(AND(G8=8,H8="м"),VLOOKUP(M8,'100м'!$M$4:$N$134,2,0),IF(AND(G8=8,H8="ж"),VLOOKUP(M8,'100м'!$P$4:$Q$134,2,0),IF(AND(G8=9,H8="м"),VLOOKUP(M8,'100м'!$S$4:$T$134,2,0),IF(AND(G8=9,H8="ж"),VLOOKUP(M8,'100м'!$V$4:$W$134,2,0),""))))))))) -> 0 | R8: =IF(Q8="",0,IF(AND(G8=4,H8="м"),VLOOKUP(Q8,'1500м'!$A$4:$B$364,2,0),IF(AND(G8=4,H8="ж"),VLOOKUP(Q8,'1500м'!$D$4:$E$364,2,0),""))) -> 0 | T8: =IF(S8="",0,IF(AND(G8=5,H8="м"),VLOOKUP(S8,'2000м'!$A$4:$B$780,2,0),IF(AND(G8=5,H8="ж"),VLOOKUP(S8,'2000м'!$D$4:$E$780,2,0),IF(AND(G8=6,H8="ж"),VLOOKUP(S8,'2000м'!$G$4:$H$780,2,0),IF(AND(G8=7,H8="ж"),VLOOKUP(S8,'2000м'!$J$4:$K$780,2,0),IF(AND(G8=8,H8="ж"),VLOOKUP(S8,'2000м'!$M$4:$N$780,2,0),"")))))) -> 0 | V8: =IF(U8="",0,IF(AND(G8=6,H8="м"),VLOOKUP(U8,'3000м'!$A$4:$B$594,2,0),IF(AND(G8=7,H8="м"),VLOOKUP(U8,'3000м'!$D$4:$E$594,2,0),IF(AND(G8=8,H8="м"),VLOOKUP(U8,'3000м'!$G$4:$H$594,2,0),IF(AND(G8=9,H8="м"),VLOOKUP(U8,'3000м'!$J$4:$K$594,2,0),IF(AND(G8=10,H8="м"),VLOOKUP(U8,'3000м'!$M$4:$N$594,2,0),IF(AND(G8=11,H8="м"),VLOOKUP(U8,'3000м'!$P$4:$Q$594,2,0),""))))))) -> 0 | BB8: =IF(BA8="",0,IF(AND(G8=2,H8="м"),VLOOKUP(BA8,Подтягивание!$A$4:$B$79,2,0),IF(AND(G8=3,H8="м"),VLOOKUP(BA8,Подтягивание!$D$4:$E$79,2,0),IF(AND(G8=4,H8="м"),VLOOKUP(BA8,Подтягивание!$G$4:$H$79,2,0),IF(AND(G8=5,H8="м"),VLOOKUP(BA8,Подтягивание!$J$4:$K$79,2,0),IF(AND(G8=6,H8="м"),VLOOKUP(BA8,Подтягивание!$M$4:$N$79,2,0),IF(AND(G8=7,H8="м"),VLOOKUP(BA8,Подтягивание!$P$4:$Q$79,2,0),IF(AND(G8=8,H8="м"),VLOOKUP(BA8,Подтягивание!$S$4:$T$79,2,0),IF(AND(G8=9,H8="м"),VLOOKUP(BA8,Подтягивание!$V$4:$W$79,2,0),IF(AND(G8=10,H8="м"),VLOOKUP(BA8,Подтягивание!$Y$4:$Z$79,2,0),IF(AND(G8=11,H8="м"),VLOOKUP(BA8,Подтягивание!$AB$4:$AC$79,2,0),IF(AND(G8=12,H8="м"),VLOOKUP(BA8,Подтягивание!$AE$4:$AF$79,2,0),IF(AND(G8=13,H8="м"),VLOOKUP(BA8,Подтягивание!$AH$4:$AI$79,2,0),IF(AND(G8=14,H8="м"),VLOOKUP(BA8,Подтягивание!$AK$4:$AL$79,2,0),IF(AND(G8=15,H8="м"),VLOOKUP(BA8,Подтягивание!$AN$4:$AO$79,2,0),""))))))))))))))) -> 0 | BF8: =IF(BE8="",0,IF(AND(G8=6,H8="м"),VLOOKUP(BE8,Гиря!$A$4:$B$166,2,0),IF(AND(G8=7,H8="м"),VLOOKUP(BE8,Гиря!$D$4:$E$166,2,0),IF(AND(G8=8,H8="м"),VLOOKUP(BE8,Гиря!$G$4:$H$166,2,0),IF(AND(G8=9,H8="м"),VLOOKUP(BE8,Гиря!$J$4:$K$166,2,0),IF(AND(G8=10,H8="м"),VLOOKUP(BE8,Гиря!$M$4:$N$166,2,0),IF(AND(G8=11,H8="м"),VLOOKUP(BE8,Гиря!$P$4:$Q$166,2,0),IF(AND(G8=12,H8="м"),VLOOKUP(BE8,Гиря!$S$4:$T$166,2,0),IF(AND(G8=13,H8="м"),VLOOKUP(BE8,Гиря!$V$4:$W$166,2,0),IF(AND(G8=14,H8="м"),VLOOKUP(BE8,Гиря!$Y$4:$Z$166,2,0),IF(AND(G8=15,H8="м"),VLOOKUP(BE8,Гиря!$AB$4:$AC$166,2,0),""))))))))))) -> 0 | BG8: 1 | BH8: =IF(BG8="",0,IF(AND(G8=2,H8="м"),VLOOKUP(BG8,'Отж. от пола'!$A$4:$B$169,2,0),IF(AND(G8=2,H8="ж"),VLOOKUP(BG8,'Отж. от пола'!$D$4:$E$169,2,0),IF(AND(G8=3,H8="м"),VLOOKUP(BG8,'Отж. от пола'!$G$4:$H$169,2,0),IF(AND(G8=3,H8="ж"),VLOOKUP(BG8,'Отж. от пола'!$J$4:$K$169,2,0),IF(AND(G8=4,H8="м"),VLOOKUP(BG8,'Отж. от пола'!$M$4:$N$169,2,0),IF(AND(G8=4,H8="ж"),VLOOKUP(BG8,'Отж. от пола'!$P$4:$Q$169,2,0),IF(AND(G8=5,H8="м"),VLOOKUP(BG8,'Отж. от пола'!$S$4:$T$169,2,0),IF(AND(G8=5,H8="ж"),VLOOKUP(BG8,'Отж. от пола'!$V$4:$W$169,2,0),IF(AND(G8=6,H8="м"),VLOOKUP(BG8,'Отж. от пола'!$Y$4:$Z$169,2,0),IF(AND(G8=6,H8="ж"),VLOOKUP(BG8,'Отж. от пола'!$AB$4:$AC$169,2,0),IF(AND(G8=7,H8="м"),VLOOKUP(BG8,'Отж. от пола'!$AE$4:$AF$169,2,0),IF(AND(G8=7,H8="ж"),VLOOKUP(BG8,'Отж. от пола'!$AH$4:$AI$169,2,0),IF(AND(G8=8,H8="м"),VLOOKUP(BG8,'Отж. от пола'!$AK$4:$AL$169,2,0),IF(AND(G8=8,H8="ж"),VLOOKUP(BG8,'Отж. от пола'!$AN$4:$AO$169,2,0),IF(AND(G8=9,H8="м"),VLOOKUP(BG8,'Отж. от пола'!$AQ$4:$AR$169,2,0),IF(AND(G8=9,H8="ж"),VLOOKUP(BG8,'Отж. от пола'!$AT$4:$AU$169,2,0),IF(AND(G8=10,H8="м"),VLOOKUP(BG8,'Отж. от пола'!$AW$4:$AX$169,2,0),IF(AND(G8=10,H8="ж"),VLOOKUP(BG8,'Отж. от пола'!$AZ$4:$BA$169,2,0),IF(AND(G8=11,H8="м"),VLOOKUP(BG8,'Отж. от пола'!$BC$4:$BD$169,2,0),IF(AND(G8=11,H8="ж"),VLOOKUP(BG8,'Отж. от пола'!$BF$4:$BG$169,2,0),IF(AND(G8=12,H8="м"),VLOOKUP(BG8,'Отж. от пола'!$BI$4:$BJ$169,2,0),IF(AND(G8=12,H8="ж"),VLOOKUP(BG8,'Отж. от пола'!$BL$4:$BM$169,2,0),IF(AND(G8=13,H8="м"),VLOOKUP(BG8,'Отж. от пола'!$BO$4:$BP$169,2,0),IF(AND(G8=13,H8="ж"),VLOOKUP(BG8,'Отж. от пола'!$BR$4:$BS$169,2,0),IF(AND(G8=14,H8="м"),VLOOKUP(BG8,'Отж. от пола'!$BU$4:$BV$169,2,0),IF(AND(G8=14,H8="ж"),VLOOKUP(BG8,'Отж. от пола'!$BX$4:$BY$169,2,0),IF(AND(G8=15,H8="м"),VLOOKUP(BG8,'Отж. от пола'!$CA$4:$CB$169,2,0),IF(AND(G8=15,H8="ж"),VLOOKUP(BG8,'Отж. от пола'!$CD$4:$CE$169,2,0),""))))))))))))))))))))))))))))) -> 17 | BJ8: =IF(BI8="",0,IF(AND(G8=16,H8="м"),VLOOKUP(BI8,'Отж.от скамьи'!$A$4:$B$79,2,0),IF(AND(G8=16,H8="ж"),VLOOKUP(BI8,'Отж.от скамьи'!$D$4:$E$79,2,0),IF(AND(G8=17,H8="м"),VLOOKUP(BI8,'Отж.от скамьи'!$G$4:$H$79,2,0),IF(AND(G8=17,H8="ж"),VLOOKUP(BI8,'Отж.от скамьи'!$J$4:$K$79,2,0),""))))) -> 0 | BL8: =IF(BK8="",0,IF(AND(G8=18,H8="м"),VLOOKUP(BK8,'Отж.от стула'!$A$4:$B$68,2,0),IF(AND(G8=18,H8="ж"),VLOOKUP(BK8,'Отж.от стула'!$D$4:$E$69,2,0),""))) -> 0 | BM8: 7 | BN8: =IF(BM8="",0,IF(AND(G8=2,H8="м"),VLOOKUP(BM8,Наклон!$A$4:$B$69,2,0),IF(AND(G8=2,H8="ж"),VLOOKUP(BM8,Наклон!$A$74:$B$139,2,0),IF(AND(G8=3,H8="м"),VLOOKUP(BM8,Наклон!$D$4:$E$69,2,0),IF(AND(G8=3,H8="ж"),VLOOKUP(BM8,Наклон!$D$74:$E$139,2,0),IF(AND(G8=4,H8="м"),VLOOKUP(BM8,Наклон!$G$4:$H$69,2,0),IF(AND(G8=4,H8="ж"),VLOOKUP(BM8,Наклон!$G$74:$H$139,2,0),IF(AND(G8=5,H8="м"),VLOOKUP(BM8,Наклон!$J$4:$K$69,2,0),IF(AND(G8=5,H8="ж"),VLOOKUP(BM8,Наклон!$J$74:$K$139,2,0),IF(AND(G8=6,H8="м"),VLOOKUP(BM8,Наклон!$M$4:$N$69,2,0),IF(AND(G8=6,H8="ж"),VLOOKUP(BM8,Наклон!$M$74:$N$139,2,0),IF(AND(G8=7,H8="м"),VLOOKUP(BM8,Наклон!$P$4:$Q$69,2,0),IF(AND(G8=7,H8="ж"),VLOOKUP(BM8,Наклон!$P$74:$Q$139,2,0),IF(AND(G8=8,H8="м"),VLOOKUP(BM8,Наклон!$S$4:$T$69,2,0),IF(AND(G8=8,H8="ж"),VLOOKUP(BM8,Наклон!$S$74:$T$139,2,0),IF(AND(G8=9,H8="м"),VLOOKUP(BM8,Наклон!$V$4:$W$69,2,0),IF(AND(G8=9,H8="ж"),VLOOKUP(BM8,Наклон!$V$74:$W$139,2,0),IF(AND(G8=10,H8="м"),VLOOKUP(BM8,Наклон!$Y$4:$Z$69,2,0),IF(AND(G8=10,H8="ж"),VLOOKUP(BM8,Наклон!$Y$74:$Z$139,2,0),IF(AND(G8=11,H8="м"),VLOOKUP(BM8,Наклон!$AB$4:$AC$69,2,0),IF(AND(G8=11,H8="ж"),VLOOKUP(BM8,Наклон!$AB$74:$AC$139,2,0),IF(AND(G8=12,H8="м"),VLOOKUP(BM8,Наклон!$AE$4:$AF$69,2,0),IF(AND(G8=12,H8="ж"),VLOOKUP(BM8,Наклон!$AE$74:$AF$139,2,0),IF(AND(G8=13,H8="м"),VLOOKUP(BM8,Наклон!$AH$4:$AI$69,2,0),IF(AND(G8=13,H8="ж"),VLOOKUP(BM8,Наклон!$AH$74:$AI$139,2,0),IF(AND(G8=14,H8="м"),VLOOKUP(BM8,Наклон!$AK$4:$AL$69,2,0),IF(AND(G8=14,H8="ж"),VLOOKUP(BM8,Наклон!$AK$74:$AL$139,2,0),IF(AND(G8=15,H8="м"),VLOOKUP(BM8,Наклон!$AN$4:$AO$69,2,0),IF(AND(G8=15,H8="ж"),VLOOKUP(BM8,Наклон!$AN$74:$AO$139,2,0),IF(AND(G8=16,H8="м"),VLOOKUP(BM8,Наклон!$AQ$4:$AR$69,2,0),IF(AND(G8=16,H8="ж"),VLOOKUP(BM8,Наклон!$AQ$74:$AR$139,2,0),IF(AND(G8=17,H8="м"),VLOOKUP(BM8,Наклон!$AT$4:$AU$69,2,0),IF(AND(G8=17,H8="ж"),VLOOKUP(BM8,Наклон!$AT$74:$AU$139,2,0),IF(AND(G8=18,H8="м"),VLOOKUP(BM8,Наклон!$AW$4:$AX$69,2,0),IF(AND(G8=18,H8="ж"),VLOOKUP(BM8,Наклон!$AW$74:$AX$139,2,0)))))))))))))))))))))))))))))))))))) -> 48 | BP8: =IF(BO8="",0,IF(AND(G8=2,H8="м"),VLOOKUP(BO8,'Прыжок в длину'!$A$4:$B$294,2,0),IF(AND(G8=2,H8="ж"),VLOOKUP(BO8,'Прыжок в длину'!$D$4:$E$294,2,0),IF(AND(G8=3,H8="м"),VLOOKUP(BO8,'Прыжок в длину'!$G$4:$H$294,2,0),IF(AND(G8=3,H8="ж"),VLOOKUP(BO8,'Прыжок в длину'!$J$4:$K$294,2,0),IF(AND(G8=4,H8="м"),VLOOKUP(BO8,'Прыжок в длину'!$M$4:$N$294,2,0),IF(AND(G8=4,H8="ж"),VLOOKUP(BO8,'Прыжок в длину'!$P$4:$Q$294,2,0),IF(AND(G8=5,H8="м"),VLOOKUP(BO8,'Прыжок в длину'!$S$4:$T$294,2,0),IF(AND(G8=5,H8="ж"),VLOOKUP(BO8,'Прыжок в длину'!$V$4:$W$294,2,0),IF(AND(G8=6,H8="м"),VLOOKUP(BO8,'Прыжок в длину'!$Y$4:$Z$294,2,0),IF(AND(G8=6,H8="ж"),VLOOKUP(BO8,'Прыжок в длину'!$AB$4:$AC$294,2,0),IF(AND(G8=7,H8="м"),VLOOKUP(BO8,'Прыжок в длину'!$AE$4:$AF$294,2,0),IF(AND(G8=7,H8="ж"),VLOOKUP(BO8,'Прыжок в длину'!$AH$4:$AI$294,2,0),IF(AND(G8=8,H8="м"),VLOOKUP(BO8,'Прыжок в длину'!$AK$4:$AL$294,2,0),IF(AND(G8=8,H8="ж"),VLOOKUP(BO8,'Прыжок в длину'!$AN$4:$AO$294,2,0),IF(AND(G8=9,H8="м"),VLOOKUP(BO8,'Прыжок в длину'!$AQ$4:$AR$294,2,0),IF(AND(G8=9,H8="ж"),VLOOKUP(BO8,'Прыжок в длину'!$AT$4:$AU$294,2,0),IF(AND(G8=10,H8="м"),VLOOKUP(BO8,'Прыжок в длину'!$AW$4:$AX$294,2,0),IF(AND(G8=10,H8="ж"),VLOOKUP(BO8,'Прыжок в длину'!$AZ$4:$BA$294,2,0),IF(AND(G8=11,H8="м"),VLOOKUP(BO8,'Прыжок в длину'!BC4:$BD$294,2,0),IF(AND(G8=11,H8="ж"),VLOOKUP(BO8,'Прыжок в длину'!$BF$4:$BG$294,2,0),""))))))))))))))))))))) -> 0 | BQ8: 13 | BR8: =IF(BQ8="",0,IF(AND(G8=2,H8="м"),VLOOKUP(BQ8,Пресс!$A$4:$B$104,2,0),IF(AND(G8=2,H8="ж"),VLOOKUP(BQ8,Пресс!$D$4:$E$104,2,0),IF(AND(G8=3,H8="м"),VLOOKUP(BQ8,Пресс!$G$4:$H$104,2,0),IF(AND(G8=3,H8="ж"),VLOOKUP(BQ8,Пресс!$J$4:$K$104,2,0),IF(AND(G8=4,H8="м"),VLOOKUP(BQ8,Пресс!$M$4:$N$104,2,0),IF(AND(G8=4,H8="ж"),VLOOKUP(BQ8,Пресс!$P$4:$Q$104,2,0),IF(AND(G8=5,H8="м"),VLOOKUP(BQ8,Пресс!$S$4:$T$104,2,0),IF(AND(G8=5,H8="ж"),VLOOKUP(BQ8,Пресс!$V$4:$W$104,2,0),IF(AND(G8=6,H8="м"),VLOOKUP(BQ8,Пресс!$Y$4:$Z$104,2,0),IF(AND(G8=6,H8="ж"),VLOOKUP(BQ8,Пресс!$AB$4:$AC$104,2,0),IF(AND(G8=7,H8="м"),VLOOKUP(BQ8,Пресс!$AE$4:$AF$104,2,0),IF(AND(G8=7,H8="ж"),VLOOKUP(BQ8,Пресс!$AH$4:$AI$104,2,0),IF(AND(G8=8,H8="м"),VLOOKUP(BQ8,Пресс!$AK$4:$AL$104,2,0),IF(AND(G8=8,H8="ж"),VLOOKUP(BQ8,Пресс!$AN$4:$AO$104,2,0),IF(AND(G8=9,H8="м"),VLOOKUP(BQ8,Пресс!$AQ$4:$AR$104,2,0),IF(AND(G8=9,H8="ж"),VLOOKUP(BQ8,Пресс!$AT$4:$AU$104,2,0),IF(AND(G8=10,H8="м"),VLOOKUP(BQ8,Пресс!$AW$4:$AX$104,2,0),IF(AND(G8=10,H8="ж"),VLOOKUP(BQ8,Пресс!$AZ$4:$BA$104,2,0),IF(AND(G8=11,H8="м"),VLOOKUP(BQ8,Пресс!$BC$4:$BD$104,2,0),IF(AND(G8=11,H8="ж"),VLOOKUP(BQ8,Пресс!$BF$4:$BG$104,2,0),IF(AND(G8=12,H8="м"),VLOOKUP(BQ8,Пресс!$BI$4:$BJ$104,2,0),IF(AND(G8=12,H8="ж"),VLOOKUP(BQ8,Пресс!$BL$4:$BM$104,2,0),IF(AND(G8=13,H8="м"),VLOOKUP(BQ8,Пресс!$BO$4:$BP$104,2,0),IF(AND(G8=13,H8="ж"),VLOOKUP(BQ8,Пресс!$BR$4:$BS$104,2,0),IF(AND(G8=14,H8="м"),VLOOKUP(BQ8,Пресс!$BU$4:$BV$104,2,0),IF(AND(G8=14,H8="ж"),VLOOKUP(BQ8,Пресс!$BX$4:$BY$104,2,0),IF(AND(G8=15,H8="м"),VLOOKUP(BQ8,Пресс!$CA$4:$CB$104,2,0),IF(AND(G8=15,H8="ж"),VLOOKUP(BQ8,Пресс!$CD$4:$CE$104,2,0),IF(AND(G8=16,H8="м"),VLOOKUP(BQ8,Пресс!$CG$4:$CH$104,2,0),IF(AND(G8=16,H8="ж"),VLOOKUP(BQ8,Пресс!$CJ$4:$CK$104,2,0),IF(AND(G8=17,H8="м"),VLOOKUP(BQ8,Пресс!$CM$4:$CN$104,2,0),IF(AND(G8=17,H8="ж"),VLOOKUP(BQ8,Пресс!$CP$4:$CQ$104,2,0),IF(AND(G8=18,H8="м"),VLOOKUP(BQ8,Пресс!$CS$4:$CT$104,2,0),IF(AND(G8=18,H8="ж"),VLOOKUP(BQ8,Пресс!$CV$4:$CW$104,2,0),""))))))))))))))))))))))))))))))))))) -> 40 | BV8: =IF(BU8="",0,IF(AND(G8=4,H8="м"),VLOOKUP(BU8,Стрельба!$A$4:$B$54,2,0),IF(AND(G8=4,H8="ж"),VLOOKUP(BU8,Стрельба!$D$4:$E$54,2,0),IF(AND(G8=5,H8="м"),VLOOKUP(BU8,Стрельба!$G$4:$H$54,2,0),IF(AND(G8=5,H8="ж"),VLOOKUP(BU8,Стрельба!$J$4:$K$54,2,0),IF(AND(G8=6,H8="м"),VLOOKUP(BU8,Стрельба!$M$4:$N$54,2,0),IF(AND(G8=6,H8="ж"),VLOOKUP(BU8,Стрельба!$P$4:$Q$54,2,0),IF(AND(G8=7,H8="м"),VLOOKUP(BU8,Стрельба!$S$4:$T$54,2,0),IF(AND(G8=7,H8="ж"),VLOOKUP(BU8,Стрельба!$V$4:$W$54,2,0),IF(AND(G8=8,H8="м"),VLOOKUP(BU8,Стрельба!$Y$4:$Z$54,2,0),IF(AND(G8=8,H8="ж"),VLOOKUP(BU8,Стрельба!$AB$4:$AC$54,2,0),IF(AND(G8=9,H8="м"),VLOOKUP(BU8,Стрельба!$AE$4:$AF$54,2,0),IF(AND(G8=9,H8="ж"),VLOOKUP(BU8,Стрельба!$AH$4:$AI$54,2,0),IF(AND(G8=10,H8="м"),VLOOKUP(BU8,Стрельба!$AK$4:$AL$54,2,0),IF(AND(G8=10,H8="ж"),VLOOKUP(BU8,Стрельба!$AN$4:$AO$54,2,0),IF(AND(G8=11,H8="м"),VLOOKUP(BU8,Стрельба!$AQ$4:$AR$54,2,0),IF(AND(G8=11,H8="ж"),VLOOKUP(BU8,Стрельба!$AT$4:$AU$54,2,0),IF(AND(G8=12,H8="м"),VLOOKUP(BU8,Стрельба!$AW$4:$AX$54,2,0),IF(AND(G8=12,H8="ж"),VLOOKUP(BU8,Стрельба!$AZ$4:$BA$54,2,0),IF(AND(G8=13,H8="м"),VLOOKUP(BU8,Стрельба!$BC$4:$BD$54,2,0),IF(AND(G8=13,H8="ж"),VLOOKUP(BU8,Стрельба!$BF$4:$BG$54,2,0),IF(AND(G8=14,H8="м"),VLOOKUP(BU8,Стрельба!$BI$4:$BJ$54,2,0),IF(AND(G8=14,H8="ж"),VLOOKUP(BU8,Стрельба!$BL$4:$BM$54,2,0),IF(AND(G8=15,H8="м"),VLOOKUP(BU8,Стрельба!$BO$4:$BP$54,2,0),IF(AND(G8=15,H8="ж"),VLOOKUP(BU8,Стрельба!$BR$4:$BS$54,2,0),""))))))))))))))))))))))))) -> 0 | BZ8: =IF(BY8="",0,IF(AND(G8=3,H8="м"),VLOOKUP(BY8,'Метание 150г'!$A$4:$B$784,2,0),IF(AND(G8=3,H8="ж"),VLOOKUP(BY8,'Метание 150г'!$D$4:$E$784,2,0),IF(AND(G8=4,H8="м"),VLOOKUP(BY8,'Метание 150г'!$G$4:$H$784,2,0),IF(AND(G8=4,H8="ж"),VLOOKUP(BY8,'Метание 150г'!$J$4:$K$784,2,0),IF(AND(G8=5,H8="м"),VLOOKUP(BY8,'Метание 150г'!$M$4:$N$784,2,0),IF(AND(G8=5,H8="ж"),VLOOKUP(BY8,'Метание 150г'!$P$4:$Q$784,2,0),""))))))) -> 0 | CB8: =IF(CA8="",0,IF(AND(G8=6,H8="м"),VLOOKUP(CA8,'Метание 700г'!$A$4:$B$574,2,0),IF(AND(G8=7,H8="м"),VLOOKUP(CA8,'Метание 700г'!$D$4:$E$574,2,0),IF(AND(G8=8,H8="м"),VLOOKUP(CA8,'Метание 700г'!$G$4:$H$574,2,0),"")))) -> 0 | CD8: =IF(CC8="",0,IF(AND(G8=6,H8="ж"),VLOOKUP(CC8,'Метание 500г'!$A$4:$B$565,2,0),IF(AND(G8=7,H8="ж"),VLOOKUP(CC8,'Метание 500г'!$D$4:$E$565,2,0),IF(AND(G8=8,H8="ж"),VLOOKUP(CC8,'Метание 500г'!$G$4:$H$565,2,0),IF(AND(G8=9,H8="ж"),VLOOKUP(CC8,'Метание 500г'!$J$4:$K$565,2,0),IF(AND(G8=10,H8="ж"),VLOOKUP(CC8,'Метание 500г'!$M$4:$N$565,2,0),IF(AND(G8=11,H8="ж"),VLOOKUP(CC8,'Метание 500г'!$P$4:$Q$565,2,0),""))))))) -> 0 | CH8: =IF(CG8="",0,IF(AND(G8=2,H8="м"),VLOOKUP(CG8,'Плавание 25 м'!$A$4:$B$2333,2,0),IF(AND(G8=2,H8="ж"),VLOOKUP(CG8,'Плавание 25 м'!$D$4:$E$2333,2,0),IF(AND(G8=16,H8="м"),VLOOKUP(CG8,'Плавание 25 м'!$G$4:$H$2333,2,0),IF(AND(G8=16,H8="ж"),VLOOKUP(CG8,'Плавание 25 м'!$J$4:$K$2333,2,0),IF(AND(G8=17,H8="м"),VLOOKUP(CG8,'Плавание 25 м'!$M$4:$N$2333,2,0),IF(AND(G8=17,H8="ж"),VLOOKUP(CG8,'Плавание 25 м'!$P$4:$Q$2333,2,0),IF(AND(G8=18,H8="м"),VLOOKUP(CG8,'Плавание 25 м'!$S$4:$T$2333,2,0),IF(AND(G8=18,H8="ж"),VLOOKUP(CG8,'Плавание 25 м'!$V$4:$W$2333,2,0),""))))))))) -> 0 | CJ8: =IF(CI8="",0,IF(AND(G8=3,H8="м"),VLOOKUP(CI8,'Плавание 50 м'!$A$4:$B$1954,2,0),IF(AND(G8=3,H8="ж"),VLOOKUP(CI8,'Плавание 50 м'!$D$4:$E$1954,2,0),IF(AND(G8=4,H8="м"),VLOOKUP(CI8,'Плавание 50 м'!$G$4:$H$1954,2,0),IF(AND(G8=4,H8="ж"),VLOOKUP(CI8,'Плавание 50 м'!$J$4:$K$1954,2,0),IF(AND(G8=5,H8="м"),VLOOKUP(CI8,'Плавание 50 м'!$M$4:$N$1954,2,0),IF(AND(G8=5,H8="ж"),VLOOKUP(CI8,'Плавание 50 м'!$P$4:$Q$1954,2,0),IF(AND(G8=6,H8="м"),VLOOKUP(CI8,'Плавание 50 м'!$S$4:$T$1954,2,0),IF(AND(G8=6,H8="ж"),VLOOKUP(CI8,'Плавание 50 м'!$V$4:$W$1954,2,0),IF(AND(G8=7,H8="м"),VLOOKUP(CI8,'Плавание 50 м'!$Y$4:$Z$1954,2,0),IF(AND(G8=7,H8="ж"),VLOOKUP(CI8,'Плавание 50 м'!$AB$4:$AC$1954,2,0),IF(AND(G8=8,H8="м"),VLOOKUP(CI8,'Плавание 50 м'!$AE$4:$AF$1954,2,0),IF(AND(G8=8,H8="ж"),VLOOKUP(CI8,'Плавание 50 м'!$AH$4:$AI$1954,2,0),IF(AND(G8=9,H8="м"),VLOOKUP(CI8,'Плавание 50 м'!$AK$4:$AL$1954,2,0),IF(AND(G8=9,H8="ж"),VLOOKUP(CI8,'Плавание 50 м'!$AN$4:$AO$1954,2,0),IF(AND(G8=10,H8="м"),VLOOKUP(CI8,'Плавание 50 м'!$AQ$4:$AR$1954,2,0),IF(AND(G8=10,H8="ж"),VLOOKUP(CI8,'Плавание 50 м'!$AT$4:$AU$1954,2,0),IF(AND(G8=11,H8="м"),VLOOKUP(CI8,'Плавание 50 м'!$AW$4:$AX$1954,2,0),IF(AND(G8=11,H8="ж"),VLOOKUP(CI8,'Плавание 50 м'!$AZ$4:$BA$1954,2,0),IF(AND(G8=12,H8="м"),VLOOKUP(CI8,'Плавание 50 м'!$BC$4:$BD$1954,2,0),IF(AND(G8=12,H8="ж"),VLOOKUP(CI8,'Плавание 50 м'!$BF$4:$BG$1954,2,0),IF(AND(G8=13,H8="м"),VLOOKUP(CI8,'Плавание 50 м'!$BI$4:$BJ$1954,2,0),IF(AND(G8=13,H8="ж"),VLOOKUP(CI8,'Плавание 50 м'!$BL$4:$BM$1954,2,0),IF(AND(G8=14,H8="м"),VLOOKUP(CI8,'Плавание 50 м'!$BO$4:$BP$1954,2,0),IF(AND(G8=14,H8="ж"),VLOOKUP(CI8,'Плавание 50 м'!$BR$4:$BS$1954,2,0),IF(AND(G8=15,H8="м"),VLOOKUP(CI8,'Плавание 50 м'!$BU$4:$BV$1954,2,0),IF(AND(G8=15,H8="ж"),VLOOKUP(CI8,'Плавание 50 м'!$BX$4:$BY$1954,2,0),""))))))))))))))))))))))))))) -> 0 | CK8: =BR8+BN8+BH8 -> 105
A9: 2 | B9: Павлюков Андрей Васильевич | C9: ПАО "АКРОН" - 1 | D9: 25-53-0022363 | E9: 21.08.1983 | F9: =IF(E9="",0,INT(($B$4-E9)/365.25)) -> 42 | G9: =IFERROR(VLOOKUP(F9,Ступени!$A$2:$B$99,2,0),"") -> 12 | H9: м | J9: =IF(I9="",0,IF(AND(G9=2,H9="м"),VLOOKUP(I9,'30м'!$A$4:$B$71,2,0),IF(AND(G9=2,H9="ж"),VLOOKUP(I9,'30м'!$D$4:$E$71,2,0),IF(AND(G9=3,H9="м"),VLOOKUP(I9,'30м'!$G$4:$H$71,2,0),IF(AND(G9=3,H9="ж"),VLOOKUP(I9,'30м'!$J$4:$K$71,2,0),IF(AND(G9=4,H9="м"),VLOOKUP(I9,'30м'!$M$4:$N$71,2,0),IF(AND(G9=4,H9="ж"),VLOOKUP(I9,'30м'!$P$4:$Q$71,2,0),IF(AND(G9=5,H9="м"),VLOOKUP(I9,'30м'!$S$4:$T$71,2,0),IF(AND(G9=5,H9="ж"),VLOOKUP(I9,'30м'!$V$4:$W$71,2,0),""))))))))) -> 0 | L9: =IF(K9="",0,IF(AND(G9=4,H9="м"),VLOOKUP(K9,'60м'!$A$4:$B$129,2,0),IF(AND(G9=4,H9="ж"),VLOOKUP(K9,'60м'!$D$4:$E$129,2,0),IF(AND(G9=5,H9="м"),VLOOKUP(K9,'60м'!$G$4:$H$129,2,0),IF(AND(G9=5,H9="ж"),VLOOKUP(K9,'60м'!$J$4:$K$129,2,0),IF(AND(G9=6,H9="м"),VLOOKUP(K9,'60м'!$M$4:$N$129,2,0),IF(AND(G9=6,H9="ж"),VLOOKUP(K9,'60м'!$P$4:$Q$129,2,0),IF(AND(G9=7,H9="м"),VLOOKUP(K9,'60м'!$S$4:$T$129,2,0),IF(AND(G9=7,H9="ж"),VLOOKUP(K9,'60м'!$V$4:$W$129,2,0),IF(AND(G9=8,H9="м"),VLOOKUP(K9,'60м'!$Y$4:$Z$129,2,0),IF(AND(G9=8,H9="ж"),VLOOKUP(K9,'60м'!$AB$4:$AC$129,2,0),IF(AND(G9=9,H9="м"),VLOOKUP(K9,'60м'!$AE$4:$AF$129,2,0),IF(AND(G9=9,H9="ж"),VLOOKUP(K9,'60м'!$AH$4:$AI$129,2,0),IF(AND(G9=10,H9="м"),VLOOKUP(K9,'60м'!$AK$4:$AL$129,2,0),IF(AND(G9=10,H9="ж"),VLOOKUP(K9,'60м'!$AN$4:$AO$129,2,0),IF(AND(G9=11,H9="м"),VLOOKUP(K9,'60м'!$AQ$4:$AR$129,2,0),IF(AND(G9=11,H9="ж"),VLOOKUP(K9,'60м'!$AT$4:$AU$129,2,0),IF(AND(G9=12,H9="м"),VLOOKUP(K9,'60м'!$AW$4:$AX$129,2,0),IF(AND(G9=12,H9="ж"),VLOOKUP(K9,'60м'!$AZ$4:$BA$129,2,0),IF(AND(G9=13,H9="м"),VLOOKUP(K9,'60м'!$BC$4:$BD$129,2,0),IF(AND(G9=13,H9="ж"),VLOOKUP(K9,'60м'!$BF$4:$BG$129,2,0),""))))))))))))))))))))) -> 0 | N9: =IF(M9="",0,IF(AND(G9=6,H9="м"),VLOOKUP(M9,'100м'!$A$4:$B$134,2,0),IF(AND(G9=6,H9="ж"),VLOOKUP(M9,'100м'!$D$4:$E$134,2,0),IF(AND(G9=7,H9="м"),VLOOKUP(M9,'100м'!$G$4:$H$134,2,0),IF(AND(G9=7,H9="ж"),VLOOKUP(M9,'100м'!$J$4:$K$134,2,0),IF(AND(G9=8,H9="м"),VLOOKUP(M9,'100м'!$M$4:$N$134,2,0),IF(AND(G9=8,H9="ж"),VLOOKUP(M9,'100м'!$P$4:$Q$134,2,0),IF(AND(G9=9,H9="м"),VLOOKUP(M9,'100м'!$S$4:$T$134,2,0),IF(AND(G9=9,H9="ж"),VLOOKUP(M9,'100м'!$V$4:$W$134,2,0),""))))))))) -> 0 | R9: =IF(Q9="",0,IF(AND(G9=4,H9="м"),VLOOKUP(Q9,'1500м'!$A$4:$B$364,2,0),IF(AND(G9=4,H9="ж"),VLOOKUP(Q9,'1500м'!$D$4:$E$364,2,0),""))) -> 0 | T9: =IF(S9="",0,IF(AND(G9=5,H9="м"),VLOOKUP(S9,'2000м'!$A$4:$B$780,2,0),IF(AND(G9=5,H9="ж"),VLOOKUP(S9,'2000м'!$D$4:$E$780,2,0),IF(AND(G9=6,H9="ж"),VLOOKUP(S9,'2000м'!$G$4:$H$780,2,0),IF(AND(G9=7,H9="ж"),VLOOKUP(S9,'2000м'!$J$4:$K$780,2,0),IF(AND(G9=8,H9="ж"),VLOOKUP(S9,'2000м'!$M$4:$N$780,2,0),"")))))) -> 0 | V9: =IF(U9="",0,IF(AND(G9=6,H9="м"),VLOOKUP(U9,'3000м'!$A$4:$B$594,2,0),IF(AND(G9=7,H9="м"),VLOOKUP(U9,'3000м'!$D$4:$E$594,2,0),IF(AND(G9=8,H9="м"),VLOOKUP(U9,'3000м'!$G$4:$H$594,2,0),IF(AND(G9=9,H9="м"),VLOOKUP(U9,'3000м'!$J$4:$K$594,2,0),IF(AND(G9=10,H9="м"),VLOOKUP(U9,'3000м'!$M$4:$N$594,2,0),IF(AND(G9=11,H9="м"),VLOOKUP(U9,'3000м'!$P$4:$Q$594,2,0),""))))))) -> 0 | BB9: =IF(BA9="",0,IF(AND(G9=2,H9="м"),VLOOKUP(BA9,Подтягивание!$A$4:$B$79,2,0),IF(AND(G9=3,H9="м"),VLOOKUP(BA9,Подтягивание!$D$4:$E$79,2,0),IF(AND(G9=4,H9="м"),VLOOKUP(BA9,Подтягивание!$G$4:$H$79,2,0),IF(AND(G9=5,H9="м"),VLOOKUP(BA9,Подтягивание!$J$4:$K$79,2,0),IF(AND(G9=6,H9="м"),VLOOKUP(BA9,Подтягивание!$M$4:$N$79,2,0),IF(AND(G9=7,H9="м"),VLOOKUP(BA9,Подтягивание!$P$4:$Q$79,2,0),IF(AND(G9=8,H9="м"),VLOOKUP(BA9,Подтягивание!$S$4:$T$79,2,0),IF(AND(G9=9,H9="м"),VLOOKUP(BA9,Подтягивание!$V$4:$W$79,2,0),IF(AND(G9=10,H9="м"),VLOOKUP(BA9,Подтягивание!$Y$4:$Z$79,2,0),IF(AND(G9=11,H9="м"),VLOOKUP(BA9,Подтягивание!$AB$4:$AC$79,2,0),IF(AND(G9=12,H9="м"),VLOOKUP(BA9,Подтягивание!$AE$4:$AF$79,2,0),IF(AND(G9=13,H9="м"),VLOOKUP(BA9,Подтягивание!$AH$4:$AI$79,2,0),IF(AND(G9=14,H9="м"),VLOOKUP(BA9,Подтягивание!$AK$4:$AL$79,2,0),IF(AND(G9=15,H9="м"),VLOOKUP(BA9,Подтягивание!$AN$4:$AO$79,2,0),""))))))))))))))) -> 0 | BF9: =IF(BE9="",0,IF(AND(G9=6,H9="м"),VLOOKUP(BE9,Гиря!$A$4:$B$166,2,0),IF(AND(G9=7,H9="м"),VLOOKUP(BE9,Гиря!$D$4:$E$166,2,0),IF(AND(G9=8,H9="м"),VLOOKUP(BE9,Гиря!$G$4:$H$166,2,0),IF(AND(G9=9,H9="м"),VLOOKUP(BE9,Гиря!$J$4:$K$166,2,0),IF(AND(G9=10,H9="м"),VLOOKUP(BE9,Гиря!$M$4:$N$166,2,0),IF(AND(G9=11,H9="м"),VLOOKUP(BE9,Гиря!$P$4:$Q$166,2,0),IF(AND(G9=12,H9="м"),VLOOKUP(BE9,Гиря!$S$4:$T$166,2,0),IF(AND(G9=13,H9="м"),VLOOKUP(BE9,Гиря!$V$4:$W$166,2,0),IF(AND(G9=14,H9="м"),VLOOKUP(BE9,Гиря!$Y$4:$Z$166,2,0),IF(AND(G9=15,H9="м"),VLOOKUP(BE9,Гиря!$AB$4:$AC$166,2,0),""))))))))))) -> 0 | BG9: 50 | BH9: =IF(BG9="",0,IF(AND(G9=2,H9="м"),VLOOKUP(BG9,'Отж. от пола'!$A$4:$B$169,2,0),IF(AND(G9=2,H9="ж"),VLOOKUP(BG9,'Отж. от пола'!$D$4:$E$169,2,0),IF(AND(G9=3,H9="м"),VLOOKUP(BG9,'Отж. от пола'!$G$4:$H$169,2,0),IF(AND(G9=3,H9="ж"),VLOOKUP(BG9,'Отж. от пола'!$J$4:$K$169,2,0),IF(AND(G9=4,H9="м"),VLOOKUP(BG9,'Отж. от пола'!$M$4:$N$169,2,0),IF(AND(G9=4,H9="ж"),VLOOKUP(BG9,'Отж. от пола'!$P$4:$Q$169,2,0),IF(AND(G9=5,H9="м"),VLOOKUP(BG9,'Отж. от пола'!$S$4:$T$169,2,0),IF(AND(G9=5,H9="ж"),VLOOKUP(BG9,'Отж. от пола'!$V$4:$W$169,2,0),IF(AND(G9=6,H9="м"),VLOOKUP(BG9,'Отж. от пола'!$Y$4:$Z$169,2,0),IF(AND(G9=6,H9="ж"),VLOOKUP(BG9,'Отж. от пола'!$AB$4:$AC$169,2,0),IF(AND(G9=7,H9="м"),VLOOKUP(BG9,'Отж. от пола'!$AE$4:$AF$169,2,0),IF(AND(G9=7,H9="ж"),VLOOKUP(BG9,'Отж. от пола'!$AH$4:$AI$169,2,0),IF(AND(G9=8,H9="м"),VLOOKUP(BG9,'Отж. от пола'!$AK$4:$AL$169,2,0),IF(AND(G9=8,H9="ж"),VLOOKUP(BG9,'Отж. от пола'!$AN$4:$AO$169,2,0),IF(AND(G9=9,H9="м"),VLOOKUP(BG9,'Отж. от пола'!$AQ$4:$AR$169,2,0),IF(AND(G9=9,H9="ж"),VLOOKUP(BG9,'Отж. от пола'!$AT$4:$AU$169,2,0),IF(AND(G9=10,H9="м"),VLOOKUP(BG9,'Отж. от пола'!$AW$4:$AX$169,2,0),IF(AND(G9=10,H9="ж"),VLOOKUP(BG9,'Отж. от пола'!$AZ$4:$BA$169,2,0),IF(AND(G9=11,H9="м"),VLOOKUP(BG9,'Отж. от пола'!$BC$4:$BD$169,2,0),IF(AND(G9=11,H9="ж"),VLOOKUP(BG9,'Отж. от пола'!$BF$4:$BG$169,2,0),IF(AND(G9=12,H9="м"),VLOOKUP(BG9,'Отж. от пола'!$BI$4:$BJ$169,2,0),IF(AND(G9=12,H9="ж"),VLOOKUP(BG9,'Отж. от пола'!$BL$4:$BM$169,2,0),IF(AND(G9=13,H9="м"),VLOOKUP(BG9,'Отж. от пола'!$BO$4:$BP$169,2,0),IF(AND(G9=13,H9="ж"),VLOOKUP(BG9,'Отж. от пола'!$BR$4:$BS$169,2,0),IF(AND(G9=14,H9="м"),VLOOKUP(BG9,'Отж. от пола'!$BU$4:$BV$169,2,0),IF(AND(G9=14,H9="ж"),VLOOKUP(BG9,'Отж. от пола'!$BX$4:$BY$169,2,0),IF(AND(G9=15,H9="м"),VLOOKUP(BG9,'Отж. от пола'!$CA$4:$CB$169,2,0),IF(AND(G9=15,H9="ж"),VLOOKUP(BG9,'Отж. от пола'!$CD$4:$CE$169,2,0),""))))))))))))))))))))))))))))) -> 69 | BJ9: =IF(BI9="",0,IF(AND(G9=16,H9="м"),VLOOKUP(BI9,'Отж.от скамьи'!$A$4:$B$79,2,0),IF(AND(G9=16,H9="ж"),VLOOKUP(BI9,'Отж.от скамьи'!$D$4:$E$79,2,0),IF(AND(G9=17,H9="м"),VLOOKUP(BI9,'Отж.от скамьи'!$G$4:$H$79,2,0),IF(AND(G9=17,H9="ж"),VLOOKUP(BI9,'Отж.от скамьи'!$J$4:$K$79,2,0),""))))) -> 0 | BL9: =IF(BK9="",0,IF(AND(G9=18,H9="м"),VLOOKUP(BK9,'Отж.от стула'!$A$4:$B$68,2,0),IF(AND(G9=18,H9="ж"),VLOOKUP(BK9,'Отж.от стула'!$D$4:$E$69,2,0),""))) -> 0 | BM9: 26 | BN9: =IF(BM9="",0,IF(AND(G9=2,H9="м"),VLOOKUP(BM9,Наклон!$A$4:$B$69,2,0),IF(AND(G9=2,H9="ж"),VLOOKUP(BM9,Наклон!$A$74:$B$139,2,0),IF(AND(G9=3,H9="м"),VLOOKUP(BM9,Наклон!$D$4:$E$69,2,0),IF(AND(G9=3,H9="ж"),VLOOKUP(BM9,Наклон!$D$74:$E$139,2,0),IF(AND(G9=4,H9="м"),VLOOKUP(BM9,Наклон!$G$4:$H$69,2,0),IF(AND(G9=4,H9="ж"),VLOOKUP(BM9,Наклон!$G$74:$H$139,2,0),IF(AND(G9=5,H9="м"),VLOOKUP(BM9,Наклон!$J$4:$K$69,2,0),IF(AND(G9=5,H9="ж"),VLOOKUP(BM9,Наклон!$J$74:$K$139,2,0),IF(AND(G9=6,H9="м"),VLOOKUP(BM9,Наклон!$M$4:$N$69,2,0),IF(AND(G9=6,H9="ж"),VLOOKUP(BM9,Наклон!$M$74:$N$139,2,0),IF(AND(G9=7,H9="м"),VLOOKUP(BM9,Наклон!$P$4:$Q$69,2,0),IF(AND(G9=7,H9="ж"),VLOOKUP(BM9,Наклон!$P$74:$Q$139,2,0),IF(AND(G9=8,H9="м"),VLOOKUP(BM9,Наклон!$S$4:$T$69,2,0),IF(AND(G9=8,H9="ж"),VLOOKUP(BM9,Наклон!$S$74:$T$139,2,0),IF(AND(G9=9,H9="м"),VLOOKUP(BM9,Наклон!$V$4:$W$69,2,0),IF(AND(G9=9,H9="ж"),VLOOKUP(BM9,Наклон!$V$74:$W$139,2,0),IF(AND(G9=10,H9="м"),VLOOKUP(BM9,Наклон!$Y$4:$Z$69,2,0),IF(AND(G9=10,H9="ж"),VLOOKUP(BM9,Наклон!$Y$74:$Z$139,2,0),IF(AND(G9=11,H9="м"),VLOOKUP(BM9,Наклон!$AB$4:$AC$69,2,0),IF(AND(G9=11,H9="ж"),VLOOKUP(BM9,Наклон!$AB$74:$AC$139,2,0),IF(AND(G9=12,H9="м"),VLOOKUP(BM9,Наклон!$AE$4:$AF$69,2,0),IF(AND(G9=12,H9="ж"),VLOOKUP(BM9,Наклон!$AE$74:$AF$139,2,0),IF(AND(G9=13,H9="м"),VLOOKUP(BM9,Наклон!$AH$4:$AI$69,2,0),IF(AND(G9=13,H9="ж"),VLOOKUP(BM9,Наклон!$AH$74:$AI$139,2,0),IF(AND(G9=14,H9="м"),VLOOKUP(BM9,Наклон!$AK$4:$AL$69,2,0),IF(AND(G9=14,H9="ж"),VLOOKUP(BM9,Наклон!$AK$74:$AL$139,2,0),IF(AND(G9=15,H9="м"),VLOOKUP(BM9,Наклон!$AN$4:$AO$69,2,0),IF(AND(G9=15,H9="ж"),VLOOKUP(BM9,Наклон!$AN$74:$AO$139,2,0),IF(AND(G9=16,H9="м"),VLOOKUP(BM9,Наклон!$AQ$4:$AR$69,2,0),IF(AND(G9=16,H9="ж"),VLOOKUP(BM9,Наклон!$AQ$74:$AR$139,2,0),IF(AND(G9=17,H9="м"),VLOOKUP(BM9,Наклон!$AT$4:$AU$69,2,0),IF(AND(G9=17,H9="ж"),VLOOKUP(BM9,Наклон!$AT$74:$AU$139,2,0),IF(AND(G9=18,H9="м"),VLOOKUP(BM9,Наклон!$AW$4:$AX$69,2,0),IF(AND(G9=18,H9="ж"),VLOOKUP(BM9,Наклон!$AW$74:$AX$139,2,0)))))))))))))))))))))))))))))))))))) -> 90 | BP9: =IF(BO9="",0,IF(AND(G9=2,H9="м"),VLOOKUP(BO9,'Прыжок в длину'!$A$4:$B$294,2,0),IF(AND(G9=2,H9="ж"),VLOOKUP(BO9,'Прыжок в длину'!$D$4:$E$294,2,0),IF(AND(G9=3,H9="м"),VLOOKUP(BO9,'Прыжок в длину'!$G$4:$H$294,2,0),IF(AND(G9=3,H9="ж"),VLOOKUP(BO9,'Прыжок в длину'!$J$4:$K$294,2,0),IF(AND(G9=4,H9="м"),VLOOKUP(BO9,'Прыжок в длину'!$M$4:$N$294,2,0),IF(AND(G9=4,H9="ж"),VLOOKUP(BO9,'Прыжок в длину'!$P$4:$Q$294,2,0),IF(AND(G9=5,H9="м"),VLOOKUP(BO9,'Прыжок в длину'!$S$4:$T$294,2,0),IF(AND(G9=5,H9="ж"),VLOOKUP(BO9,'Прыжок в длину'!$V$4:$W$294,2,0),IF(AND(G9=6,H9="м"),VLOOKUP(BO9,'Прыжок в длину'!$Y$4:$Z$294,2,0),IF(AND(G9=6,H9="ж"),VLOOKUP(BO9,'Прыжок в длину'!$AB$4:$AC$294,2,0),IF(AND(G9=7,H9="м"),VLOOKUP(BO9,'Прыжок в длину'!$AE$4:$AF$294,2,0),IF(AND(G9=7,H9="ж"),VLOOKUP(BO9,'Прыжок в длину'!$AH$4:$AI$294,2,0),IF(AND(G9=8,H9="м"),VLOOKUP(BO9,'Прыжок в длину'!$AK$4:$AL$294,2,0),IF(AND(G9=8,H9="ж"),VLOOKUP(BO9,'Прыжок в длину'!$AN$4:$AO$294,2,0),IF(AND(G9=9,H9="м"),VLOOKUP(BO9,'Прыжок в длину'!$AQ$4:$AR$294,2,0),IF(AND(G9=9,H9="ж"),VLOOKUP(BO9,'Прыжок в длину'!$AT$4:$AU$294,2,0),IF(AND(G9=10,H9="м"),VLOOKUP(BO9,'Прыжок в длину'!$AW$4:$AX$294,2,0),IF(AND(G9=10,H9="ж"),VLOOKUP(BO9,'Прыжок в длину'!$AZ$4:$BA$294,2,0),IF(AND(G9=11,H9="м"),VLOOKUP(BO9,'Прыжок в длину'!BC5:$BD$294,2,0),IF(AND(G9=11,H9="ж"),VLOOKUP(BO9,'Прыжок в длину'!$BF$4:$BG$294,2,0),""))))))))))))))))))))) -> 0 | BQ9: 35 | BR9: =IF(BQ9="",0,IF(AND(G9=2,H9="м"),VLOOKUP(BQ9,Пресс!$A$4:$B$104,2,0),IF(AND(G9=2,H9="ж"),VLOOKUP(BQ9,Пресс!$D$4:$E$104,2,0),IF(AND(G9=3,H9="м"),VLOOKUP(BQ9,Пресс!$G$4:$H$104,2,0),IF(AND(G9=3,H9="ж"),VLOOKUP(BQ9,Пресс!$J$4:$K$104,2,0),IF(AND(G9=4,H9="м"),VLOOKUP(BQ9,Пресс!$M$4:$N$104,2,0),IF(AND(G9=4,H9="ж"),VLOOKUP(BQ9,Пресс!$P$4:$Q$104,2,0),IF(AND(G9=5,H9="м"),VLOOKUP(BQ9,Пресс!$S$4:$T$104,2,0),IF(AND(G9=5,H9="ж"),VLOOKUP(BQ9,Пресс!$V$4:$W$104,2,0),IF(AND(G9=6,H9="м"),VLOOKUP(BQ9,Пресс!$Y$4:$Z$104,2,0),IF(AND(G9=6,H9="ж"),VLOOKUP(BQ9,Пресс!$AB$4:$AC$104,2,0),IF(AND(G9=7,H9="м"),VLOOKUP(BQ9,Пресс!$AE$4:$AF$104,2,0),IF(AND(G9=7,H9="ж"),VLOOKUP(BQ9,Пресс!$AH$4:$AI$104,2,0),IF(AND(G9=8,H9="м"),VLOOKUP(BQ9,Пресс!$AK$4:$AL$104,2,0),IF(AND(G9=8,H9="ж"),VLOOKUP(BQ9,Пресс!$AN$4:$AO$104,2,0),IF(AND(G9=9,H9="м"),VLOOKUP(BQ9,Пресс!$AQ$4:$AR$104,2,0),IF(AND(G9=9,H9="ж"),VLOOKUP(BQ9,Пресс!$AT$4:$AU$104,2,0),IF(AND(G9=10,H9="м"),VLOOKUP(BQ9,Пресс!$AW$4:$AX$104,2,0),IF(AND(G9=10,H9="ж"),VLOOKUP(BQ9,Пресс!$AZ$4:$BA$104,2,0),IF(AND(G9=11,H9="м"),VLOOKUP(BQ9,Пресс!$BC$4:$BD$104,2,0),IF(AND(G9=11,H9="ж"),VLOOKUP(BQ9,Пресс!$BF$4:$BG$104,2,0),IF(AND(G9=12,H9="м"),VLOOKUP(BQ9,Пресс!$BI$4:$BJ$104,2,0),IF(AND(G9=12,H9="ж"),VLOOKUP(BQ9,Пресс!$BL$4:$BM$104,2,0),IF(AND(G9=13,H9="м"),VLOOKUP(BQ9,Пресс!$BO$4:$BP$104,2,0),IF(AND(G9=13,H9="ж"),VLOOKUP(BQ9,Пресс!$BR$4:$BS$104,2,0),IF(AND(G9=14,H9="м"),VLOOKUP(BQ9,Пресс!$BU$4:$BV$104,2,0),IF(AND(G9=14,H9="ж"),VLOOKUP(BQ9,Пресс!$BX$4:$BY$104,2,0),IF(AND(G9=15,H9="м"),VLOOKUP(BQ9,Пресс!$CA$4:$CB$104,2,0),IF(AND(G9=15,H9="ж"),VLOOKUP(BQ9,Пресс!$CD$4:$CE$104,2,0),IF(AND(G9=16,H9="м"),VLOOKUP(BQ9,Пресс!$CG$4:$CH$104,2,0),IF(AND(G9=16,H9="ж"),VLOOKUP(BQ9,Пресс!$CJ$4:$CK$104,2,0),IF(AND(G9=17,H9="м"),VLOOKUP(BQ9,Пресс!$CM$4:$CN$104,2,0),IF(AND(G9=17,H9="ж"),VLOOKUP(BQ9,Пресс!$CP$4:$CQ$104,2,0),IF(AND(G9=18,H9="м"),VLOOKUP(BQ9,Пресс!$CS$4:$CT$104,2,0),IF(AND(G9=18,H9="ж"),VLOOKUP(BQ9,Пресс!$CV$4:$CW$104,2,0),""))))))))))))))))))))))))))))))))))) -> 59 | BV9: =IF(BU9="",0,IF(AND(G9=4,H9="м"),VLOOKUP(BU9,Стрельба!$A$4:$B$54,2,0),IF(AND(G9=4,H9="ж"),VLOOKUP(BU9,Стрельба!$D$4:$E$54,2,0),IF(AND(G9=5,H9="м"),VLOOKUP(BU9,Стрельба!$G$4:$H$54,2,0),IF(AND(G9=5,H9="ж"),VLOOKUP(BU9,Стрельба!$J$4:$K$54,2,0),IF(AND(G9=6,H9="м"),VLOOKUP(BU9,Стрельба!$M$4:$N$54,2,0),IF(AND(G9=6,H9="ж"),VLOOKUP(BU9,Стрельба!$P$4:$Q$54,2,0),IF(AND(G9=7,H9="м"),VLOOKUP(BU9,Стрельба!$S$4:$T$54,2,0),IF(AND(G9=7,H9="ж"),VLOOKUP(BU9,Стрельба!$V$4:$W$54,2,0),IF(AND(G9=8,H9="м"),VLOOKUP(BU9,Стрельба!$Y$4:$Z$54,2,0),IF(AND(G9=8,H9="ж"),VLOOKUP(BU9,Стрельба!$AB$4:$AC$54,2,0),IF(AND(G9=9,H9="м"),VLOOKUP(BU9,Стрельба!$AE$4:$AF$54,2,0),IF(AND(G9=9,H9="ж"),VLOOKUP(BU9,Стрельба!$AH$4:$AI$54,2,0),IF(AND(G9=10,H9="м"),VLOOKUP(BU9,Стрельба!$AK$4:$AL$54,2,0),IF(AND(G9=10,H9="ж"),VLOOKUP(BU9,Стрельба!$AN$4:$AO$54,2,0),IF(AND(G9=11,H9="м"),VLOOKUP(BU9,Стрельба!$AQ$4:$AR$54,2,0),IF(AND(G9=11,H9="ж"),VLOOKUP(BU9,Стрельба!$AT$4:$AU$54,2,0),IF(AND(G9=12,H9="м"),VLOOKUP(BU9,Стрельба!$AW$4:$AX$54,2,0),IF(AND(G9=12,H9="ж"),VLOOKUP(BU9,Стрельба!$AZ$4:$BA$54,2,0),IF(AND(G9=13,H9="м"),VLOOKUP(BU9,Стрельба!$BC$4:$BD$54,2,0),IF(AND(G9=13,H9="ж"),VLOOKUP(BU9,Стрельба!$BF$4:$BG$54,2,0),IF(AND(G9=14,H9="м"),VLOOKUP(BU9,Стрельба!$BI$4:$BJ$54,2,0),IF(AND(G9=14,H9="ж"),VLOOKUP(BU9,Стрельба!$BL$4:$BM$54,2,0),IF(AND(G9=15,H9="м"),VLOOKUP(BU9,Стрельба!$BO$4:$BP$54,2,0),IF(AND(G9=15,H9="ж"),VLOOKUP(BU9,Стрельба!$BR$4:$BS$54,2,0),""))))))))))))))))))))))))) -> 0 | BZ9: =IF(BY9="",0,IF(AND(G9=3,H9="м"),VLOOKUP(BY9,'Метание 150г'!$A$4:$B$784,2,0),IF(AND(G9=3,H9="ж"),VLOOKUP(BY9,'Метание 150г'!$D$4:$E$784,2,0),IF(AND(G9=4,H9="м"),VLOOKUP(BY9,'Метание 150г'!$G$4:$H$784,2,0),IF(AND(G9=4,H9="ж"),VLOOKUP(BY9,'Метание 150г'!$J$4:$K$784,2,0),IF(AND(G9=5,H9="м"),VLOOKUP(BY9,'Метание 150г'!$M$4:$N$784,2,0),IF(AND(G9=5,H9="ж"),VLOOKUP(BY9,'Метание 150г'!$P$4:$Q$784,2,0),""))))))) -> 0 | CB9: =IF(CA9="",0,IF(AND(G9=6,H9="м"),VLOOKUP(CA9,'Метание 700г'!$A$4:$B$574,2,0),IF(AND(G9=7,H9="м"),VLOOKUP(CA9,'Метание 700г'!$D$4:$E$574,2,0),IF(AND(G9=8,H9="м"),VLOOKUP(CA9,'Метание 700г'!$G$4:$H$574,2,0),"")))) -> 0 | CD9: =IF(CC9="",0,IF(AND(G9=6,H9="ж"),VLOOKUP(CC9,'Метание 500г'!$A$4:$B$565,2,0),IF(AND(G9=7,H9="ж"),VLOOKUP(CC9,'Метание 500г'!$D$4:$E$565,2,0),IF(AND(G9=8,H9="ж"),VLOOKUP(CC9,'Метание 500г'!$G$4:$H$565,2,0),IF(AND(G9=9,H9="ж"),VLOOKUP(CC9,'Метание 500г'!$J$4:$K$565,2,0),IF(AND(G9=10,H9="ж"),VLOOKUP(CC9,'Метание 500г'!$M$4:$N$565,2,0),IF(AND(G9=11,H9="ж"),VLOOKUP(CC9,'Метание 500г'!$P$4:$Q$565,2,0),""))))))) -> 0 | CH9: =IF(CG9="",0,IF(AND(G9=2,H9="м"),VLOOKUP(CG9,'Плавание 25 м'!$A$4:$B$2333,2,0),IF(AND(G9=2,H9="ж"),VLOOKUP(CG9,'Плавание 25 м'!$D$4:$E$2333,2,0),IF(AND(G9=16,H9="м"),VLOOKUP(CG9,'Плавание 25 м'!$G$4:$H$2333,2,0),IF(AND(G9=16,H9="ж"),VLOOKUP(CG9,'Плавание 25 м'!$J$4:$K$2333,2,0),IF(AND(G9=17,H9="м"),VLOOKUP(CG9,'Плавание 25 м'!$M$4:$N$2333,2,0),IF(AND(G9=17,H9="ж"),VLOOKUP(CG9,'Плавание 25 м'!$P$4:$Q$2333,2,0),IF(AND(G9=18,H9="м"),VLOOKUP(CG9,'Плавание 25 м'!$S$4:$T$2333,2,0),IF(AND(G9=18,H9="ж"),VLOOKUP(CG9,'Плавание 25 м'!$V$4:$W$2333,2,0),""))))))))) -> 0 | CJ9: =IF(CI9="",0,IF(AND(G9=3,H9="м"),VLOOKUP(CI9,'Плавание 50 м'!$A$4:$B$1954,2,0),IF(AND(G9=3,H9="ж"),VLOOKUP(CI9,'Плавание 50 м'!$D$4:$E$1954,2,0),IF(AND(G9=4,H9="м"),VLOOKUP(CI9,'Плавание 50 м'!$G$4:$H$1954,2,0),IF(AND(G9=4,H9="ж"),VLOOKUP(CI9,'Плавание 50 м'!$J$4:$K$1954,2,0),IF(AND(G9=5,H9="м"),VLOOKUP(CI9,'Плавание 50 м'!$M$4:$N$1954,2,0),IF(AND(G9=5,H9="ж"),VLOOKUP(CI9,'Плавание 50 м'!$P$4:$Q$1954,2,0),IF(AND(G9=6,H9="м"),VLOOKUP(CI9,'Плавание 50 м'!$S$4:$T$1954,2,0),IF(AND(G9=6,H9="ж"),VLOOKUP(CI9,'Плавание 50 м'!$V$4:$W$1954,2,0),IF(AND(G9=7,H9="м"),VLOOKUP(CI9,'Плавание 50 м'!$Y$4:$Z$1954,2,0),IF(AND(G9=7,H9="ж"),VLOOKUP(CI9,'Плавание 50 м'!$AB$4:$AC$1954,2,0),IF(AND(G9=8,H9="м"),VLOOKUP(CI9,'Плавание 50 м'!$AE$4:$AF$1954,2,0),IF(AND(G9=8,H9="ж"),VLOOKUP(CI9,'Плавание 50 м'!$AH$4:$AI$1954,2,0),IF(AND(G9=9,H9="м"),VLOOKUP(CI9,'Плавание 50 м'!$AK$4:$AL$1954,2,0),IF(AND(G9=9,H9="ж"),VLOOKUP(CI9,'Плавание 50 м'!$AN$4:$AO$1954,2,0),IF(AND(G9=10,H9="м"),VLOOKUP(CI9,'Плавание 50 м'!$AQ$4:$AR$1954,2,0),IF(AND(G9=10,H9="ж"),VLOOKUP(CI9,'Плавание 50 м'!$AT$4:$AU$1954,2,0),IF(AND(G9=11,H9="м"),VLOOKUP(CI9,'Плавание 50 м'!$AW$4:$AX$1954,2,0),IF(AND(G9=11,H9="ж"),VLOOKUP(CI9,'Плавание 50 м'!$AZ$4:$BA$1954,2,0),IF(AND(G9=12,H9="м"),VLOOKUP(CI9,'Плавание 50 м'!$BC$4:$BD$1954,2,0),IF(AND(G9=12,H9="ж"),VLOOKUP(CI9,'Плавание 50 м'!$BF$4:$BG$1954,2,0),IF(AND(G9=13,H9="м"),VLOOKUP(CI9,'Плавание 50 м'!$BI$4:$BJ$1954,2,0),IF(AND(G9=13,H9="ж"),VLOOKUP(CI9,'Плавание 50 м'!$BL$4:$BM$1954,2,0),IF(AND(G9=14,H9="м"),VLOOKUP(CI9,'Плавание 50 м'!$BO$4:$BP$1954,2,0),IF(AND(G9=14,H9="ж"),VLOOKUP(CI9,'Плавание 50 м'!$BR$4:$BS$1954,2,0),IF(AND(G9=15,H9="м"),VLOOKUP(CI9,'Плавание 50 м'!$BU$4:$BV$1954,2,0),IF(AND(G9=15,H9="ж"),VLOOKUP(CI9,'Плавание 50 м'!$BX$4:$BY$1954,2,0),""))))))))))))))))))))))))))) -> 0 | CK9: =BR9+BN9+BH9 -> 218
