Workbook
Name Испытания: [1]Справочник!$K$3:$K$45
Name Пол: [2]Справочник!$A$3:$A$4
Name Ступень: [2]Справочник!$E$3:$E$18

Sheet Стартовые
A1: Фестиваль: | B1: =Протокол!A2 -> Городской Зимний фестиваль Всероссийского физкультурно-спортивного комплекса "Готов к труду и обороне" (ГТО) среди трудовых коллективов и лиц различных возрастных категорий, посвящённый 95-летней годовщине создания комплекса ГТО
A2: Испытание: | B2: Прыжок в длину с места толчком двумя ногами
A3: дата выполнения: | B3: =Протокол!B4 -> 46095 | D3: Место выполнения: | G3: =Протокол!B6 -> Великий Новгород, ул. Вересова, д.8, МАУ "СШ №2"
A4: № | B4: ФИО | C4: Команда | D4: УИН | E4: Дата рождения | G4: Возрастная ступень | H4: Пол | I4: Результат
A5: 1 | B5: =Протокол!B8 -> Павлюкова Татьяна Александровна | C5: =Протокол!C8 -> ПАО "АКРОН" - 1 | D5: =Протокол!D8 -> 25-53-0007650 | E5: =Протокол!E8 -> 24.01.1979 | F5: =Протокол!F8 -> 47 | G5: =Протокол!G8 -> 13 | H5: =Протокол!H8 -> ж
A6: 2 | B6: =Протокол!B9 -> Павлюков Андрей Васильевич | C6: =Протокол!C9 -> ПАО "АКРОН" - 1 | D6: =Протокол!D9 -> 25-53-0022363 | E6: =Протокол!E9 -> 21.08.1983 | F6: =Протокол!F9 -> 42 | G6: =Протокол!G9 -> 12 | H6: =Протокол!H9 -> м
A7: 3 | B7: =Протокол!B10 -> Богидаева Жанна Радиславовна | C7: =Протокол!C10 -> ПАО "АКРОН" - 1 | D7: =Протокол!D10 -> 25-53-0026508 | E7: =Протокол!E10 -> 21.11.1982 | F7: =Протокол!F10 -> 43 | G7: =Протокол!G10 -> 12 | H7: =Протокол!H10 -> ж
A8: 4 | B8: =Протокол!B11 -> Васильева Валентина Николаевна | C8: =Протокол!C11 -> ПАО "АКРОН" - 1 | D8: =Протокол!D11 -> 25-53-0002358 | E8: =Протокол!E11 -> 29.04.1984 | F8: =Протокол!F11 -> 41 | G8: =Протокол!G11 -> 12 | H8: =Протокол!H11 -> ж
A9: 5 | B9: =Протокол!B12 -> Иванов Дмитрий Владимирович | C9: =Протокол!C12 -> ПАО "АКРОН" - 1 | D9: =Протокол!D12 -> 25-53-0007169 | E9: =Протокол!E12 -> 04.04.1991 | F9: =Протокол!F12 -> 34 | G9: =Протокол!G12 -> 10 | H9: =Протокол!H12 -> м
A10: 6 | B10: =Протокол!B13 -> Иванова Мария Александровна | C10: =Протокол!C13 -> ПАО "АКРОН" - 1 | D10: =Протокол!D13 -> 26-53-0000494 | E10: =Протокол!E13 -> 26.09.1991 | F10: =Протокол!F13 -> 34 | G10: =Протокол!G13 -> 10 | H10: =Протокол!H13 -> ж
A11: Судья на виде________________________________________
A13: Фестиваль: | B13: =B1 -> Городской Зимний фестиваль Всероссийского физкультурно-спортивного комплекса "Готов к труду и обороне" (ГТО) среди трудовых коллективов и лиц различных возрастных категорий, посвящённый 95-летней годовщине создания комплекса ГТО
A14: Испытание: | B14: =B2 -> Прыжок в длину с места толчком двумя ногами
A15: дата выполнения: | B15: =B3 -> 46095 | D15: Место выполнения: | G15: =G3 -> Великий Новгород, ул. Вересова, д.8, МАУ "СШ №2"
A16: № | B16: ФИО | C16: Команда | D16: УИН | E16: Дата рождения | G16: Возрастная ступень | H16: Пол | I16: Результат
A17: 1 | B17: =Протокол!B15 -> Красильников Анатолий Юрьевич | C17: =Протокол!C15 -> ПАО "АКРОН" - 2 | D17: =Протокол!D15 -> 26-53-0000977 | E17: =Протокол!E15 -> 20.11.1984 | F17: =Протокол!F15 -> 41 | G17: =Протокол!G15 -> 12 | H17: =Протокол!H15 -> м
A18: 2 | B18: =Протокол!B16 -> Григорьев Дмитрий Евгеньевич | C18: =Протокол!C16 -> ПАО "АКРОН" - 2 | D18: =Протокол!D16 -> 25-53-0011752 | E18: =Протокол!E16 -> 16.08.1988 | F18: =Протокол!F16 -> 37 | G18: =Протокол!G16 -> 11 | H18: =Протокол!H16 -> м
A19: 3 | B19: =Протокол!B17 -> Воронецкий Олег Геннадьевич | C19: =Протокол!C17 -> ПАО "АКРОН" - 2 | D19: =Протокол!D17 -> 26-53-0001048 | E19: =Протокол!E17 -> 17.05.1991 | F19: =Протокол!F17 -> 34 | G19: =Протокол!G17 -> 10 | H19: =Протокол!H17 -> м
A20: 4 | B20: =Протокол!B18 -> Сомова Елена Леонидовна | C20: =Протокол!C18 -> ПАО "АКРОН" - 2 | D20: =Протокол!D18 -> 26-53-0001691 | E20: =Протокол!E18 -> 02.10.1972 | F20: =Протокол!F18 -> 53 | G20: =Протокол!G18 -> 14 | H20: =Протокол!H18 -> ж
A21: 5 | B21: =Протокол!B19 -> Кузьмина Марина Алексеевна | C21: =Протокол!C19 -> ПАО "АКРОН" - 2 | D21: =Протокол!D19 -> 26-53-0001765 | E21: =Протокол!E19 -> 02.08.1982 | F21: =Протокол!F19 -> 43 | G21: =Протокол!G19 -> 12 | H21: =Протокол!H19 -> ж
A22: 6 | B22: =Протокол!B20 -> Лукина Анна Леонидовна | C22: =Протокол!C20 -> ПАО "АКРОН" - 2 | D22: =Протокол!D20 -> 26-53-0001778 | E22: =Протокол!E20 -> 10.06.1980 | F22: =Протокол!F20 -> 45 | G22: =Протокол!G20 -> 13 | H22: =Протокол!H20 -> ж
A23: Судья на виде________________________________________
A25: Фестиваль: | B25: =B1 -> Городской Зимний фестиваль Всероссийского физкультурно-спортивного комплекса "Готов к труду и обороне" (ГТО) среди трудовых коллективов и лиц различных возрастных категорий, посвящённый 95-летней годовщине создания комплекса ГТО
A26: Испытание: | B26: =B2 -> Прыжок в длину с места толчком двумя ногами
A27: дата выполнения: | B27: =B3 -> 46095 | D27: Место выполнения: | G27: =G3 -> Великий Новгород, ул. Вересова, д.8, МАУ "СШ №2"
A28: № | B28: ФИО | C28: Команда | D28: УИН | E28: Дата рождения | G28: Возрастная ступень | H28: Пол | I28: Результат
A29: 1 | B29: =Протокол!B22 -> Шарейко Юлия Ивановна | C29: =Протокол!C22 -> ПАО "АКРОН" - 3 | D29: =Протокол!D22 -> 26-53-0001310 | E29: =Протокол!E22 -> 15.04.1985 | F29: =Протокол!F22 -> 40 | G29: =Протокол!G22 -> 12 | H29: =Протокол!H22 -> ж
A30: 2 | B30: =Протокол!B23 -> Левкина Ирина Владимировна | C30: =Протокол!C23 -> ПАО "АКРОН" - 3 | D30: =Протокол!D23 -> 26-53-0001915 | E30: =Протокол!E23 -> 15.03.1980 | F30: =Протокол!F23 -> 45 | G30: =Протокол!G23 -> 13 | H30: =Протокол!H23 -> ж
A31: 3 | B31: =Протокол!B24 -> Бачурина Оксана Юрьевна | C31: =Протокол!C24 -> ПАО "АКРОН" - 3 | D31: =Протокол!D24 -> 26-53-0001864 | E31: =Протокол!E24 -> 09.10.1980 | F31: =Протокол!F24 -> 45 | G31: =Протокол!G24 -> 13 | H31: =Протокол!H24 -> ж
A32: 4 | B32: =Протокол!B25 -> Чазова Светлана Александровна | C32: =Протокол!C25 -> ПАО "АКРОН" - 3 | D32: =Протокол!D25 -> 26-53-0001867 | E32: =Протокол!E25 -> 22.08.1973 | F32: =Протокол!F25 -> 52 | G32: =Протокол!G25 -> 14 | H32: =Протокол!H25 -> ж
A33: 5 | B33: =Протокол!B26 -> Сорокина Яна Андреевна | C33: =Протокол!C26 -> ПАО "АКРОН" - 3 | D33: =Протокол!D26 -> 25-53-0003435 | E33: =Протокол!E26 -> 07.06.1990 | F33: =Протокол!F26 -> 35 | G33: =Протокол!G26 -> 11 | H33: =Протокол!H26 -> ж
A34: 6 | B34: =Протокол!B27 -> Юферев Сергей Евгеньевич | C34: =Протокол!C27 -> ПАО "АКРОН" - 3 | D34: =Протокол!D27 -> 24-53-0003082 | E34: =Протокол!E27 -> 24.03.1974 | F34: =Протокол!F27 -> 51 | G34: =Протокол!G27 -> 14 | H34: =Протокол!H27 -> м
A35: Судья на виде________________________________________
A37: Фестиваль: | B37: =B1 -> Городской Зимний фестиваль Всероссийского физкультурно-спортивного комплекса "Готов к труду и обороне" (ГТО) среди трудовых коллективов и лиц различных возрастных категорий, посвящённый 95-летней годовщине создания комплекса ГТО
A38: Испытание: | B38: =B2 -> Прыжок в длину с места толчком двумя ногами
A39: дата выполнения: | B39: =B3 -> 46095 | D39: Место выполнения: | G39: =G3 -> Великий Новгород, ул. Вересова, д.8, МАУ "СШ №2"
A40: № | B40: ФИО | C40: Команда | D40: УИН | E40: Дата рождения | G40: Возрастная ступень | H40: Пол | I40: Результат
A41: 1 | B41: =Протокол!B29 -> Кондрашкин Алексей Сергеевич | C41: =Протокол!C29 -> НФ АО НПК СПП | D41: =Протокол!D29 -> 25-53-0010732 | E41: =Протокол!E29 -> 30.01.1985 | F41: =Протокол!F29 -> 41 | G41: =Протокол!G29 -> 12 | H41: =Протокол!H29 -> м
A42: 2 | B42: =Протокол!B30 -> Галиулина Альбина Рустамовна | C42: =Протокол!C30 -> НФ АО НПК СПП | D42: =Протокол!D30 -> 23-53-0011798 | E42: =Протокол!E30 -> 03.08.1991 | F42: =Протокол!F30 -> 34 | G42: =Протокол!G30 -> 10 | H42: =Протокол!H30 -> ж
A43: 3 | B43: =Протокол!B31 -> Родионов Павел Владимирович | C43: =Протокол!C31 -> НФ АО НПК СПП | D43: =Протокол!D31 -> 25-53-0001892 | E43: =Протокол!E31 -> 02.10.1980 | F43: =Протокол!F31 -> 45 | G43: =Протокол!G31 -> 13 | H43: =Протокол!H31 -> м
A44: 4 | B44: =Протокол!B32 -> Ханьков Иван Николаевич | C44: =Протокол!C32 -> НФ АО НПК СПП | D44: =Протокол!D32 -> 26-53-0002190 | E44: =Протокол!E32 -> 07.08.1974 | F44: =Протокол!F32 -> 51 | G44: =Протокол!G32 -> 14 | H44: =Протокол!H32 -> м
A45: 5 | B45: =Протокол!B33 -> Капустин Владимир Александрович | C45: =Протокол!C33 -> НФ АО НПК СПП | D45: =Протокол!D33 -> 25-53-0002613 | E45: =Протокол!E33 -> 30.08.1988 | F45: =Протокол!F33 -> 37 | G45: =Протокол!G33 -> 11 | H45: =Протокол!H33 -> м
A46: 6 | B46: =Протокол!B34 -> Барабанщиков Антон Александрович | C46: =Протокол!C34 -> НФ АО НПК СПП | D46: =Протокол!D34 -> 25-53-0002629 | E46: =Протокол!E34 -> 08.12.1984 | F46: =Протокол!F34 -> 41 | G46: =Протокол!G34 -> 12 | H46: =Протокол!H34 -> м
A47: Судья на виде________________________________________
A49: Фестиваль: | B49: =B1 -> Городской Зимний фестиваль Всероссийского физкультурно-спортивного комплекса "Готов к труду и обороне" (ГТО) среди трудовых коллективов и лиц различных возрастных категорий, посвящённый 95-летней годовщине создания комплекса ГТО
A50: Испытание: | B50: =B2 -> Прыжок в длину с места толчком двумя ногами
A51: дата выполнения: | B51: =B3 -> 46095 | D51: Место выполнения: | G51: =G3 -> Великий Новгород, ул. Вересова, д.8, МАУ "СШ №2"
A52: № | B52: ФИО | C52: Команда | D52: УИН | E52: Дата рождения | G52: Возрастная ступень | H52: Пол | I52: Результат
A53: 1 | B53: =Протокол!B36 -> Олехнович Олег Юрьевич | C53: =Протокол!C36 -> SMART-FITNESS УМВД | D53: =Протокол!D36 -> 25-53-0002739 | E53: =Протокол!E36 -> 11.06.1991 | F53: =Протокол!F36 -> 34 | G53: =Протокол!G36 -> 10 | H53: =Протокол!H36 -> м
A54: 2 | B54: =Протокол!B37 -> Кудрявцева Алина Витальевна | C54: =Протокол!C37 -> SMART-FITNESS УМВД | D54: =Протокол!D37 -> 25-53-0002383 | E54: =Протокол!E37 -> 01.12.2000 | F54: =Протокол!F37 -> 25 | G54: =Протокол!G37 -> 9 | H54: =Протокол!H37 -> ж
A55: 3 | B55: =Протокол!B38 -> Корнелюк Константин Алексеевич | C55: =Протокол!C38 -> SMART-FINTESS УМВД лично | D55: =Протокол!D38 -> 25-53-0002389 | E55: =Протокол!E38 -> 22.06.2000 | F55: =Протокол!F38 -> 25 | G55: =Протокол!G38 -> 9 | H55: =Протокол!H38 -> м
A56: 4 | B56: =Протокол!B39 -> Черницкая Анастасия Андреевна | C56: =Протокол!C39 -> SMART-FITNESS УМВД | D56: =Протокол!D39 -> 25-60-0001527 | E56: =Протокол!E39 -> 04.05.2000 | F56: =Протокол!F39 -> 25 | G56: =Протокол!G39 -> 9 | H56: =Протокол!H39 -> ж
A57: 5 | B57: =Протокол!B40 -> Кондаков Денис Сергеевич | C57: =Протокол!C40 -> SMART-FITNESS УМВД | D57: =Протокол!D40 -> 25-53-0002802 | E57: =Протокол!E40 -> 25.09.1981 | F57: =Протокол!F40 -> 44 | G57: =Протокол!G40 -> 12 | H57: =Протокол!H40 -> м
A58: 6 | B58: =Протокол!B41 -> Иванова Арина Викторовна | C58: =Протокол!C41 -> SMART-FITNESS УМВД | D58: =Протокол!D41 -> 25-53-0002921 | E58: =Протокол!E41 -> 11.03.1996 | F58: =Протокол!F41 -> 30 | G58: =Протокол!G41 -> 10 | H58: =Протокол!H41 -> ж
A59: 7 | B59: =Протокол!B42 -> Большева Алёна Дмитриевна | C59: =Протокол!C42 -> SMART-FINTESS УМВД лично | D59: =Протокол!D42 -> 25-53-0002953 | E59: =Протокол!E42 -> 24.07.2006 | F59: =Протокол!F42 -> 19 | G59: =Протокол!G42 -> 7 | H59: =Протокол!H42 -> ж
A60: 8 | B60: =Протокол!B43 -> Герасимов Николай Владимирович | C60: =Протокол!C43 -> SMART-FITNESS УМВД | D60: =Протокол!D43 -> 26-53-0001956 | E60: =Протокол!E43 -> 11.01.1993 | F60: =Протокол!F43 -> 33 | G60: =Протокол!G43 -> 10 | H60: =Протокол!H43 -> м
A61: Судья на виде________________________________________
A63: Фестиваль: | B63: =B1 -> Городской Зимний фестиваль Всероссийского физкультурно-спортивного комплекса "Готов к труду и обороне" (ГТО) среди трудовых коллективов и лиц различных возрастных категорий, посвящённый 95-летней годовщине создания комплекса ГТО
A64: Испытание: | B64: =B2 -> Прыжок в длину с места толчком двумя ногами
A65: дата выполнения: | B65: =B3 -> 46095 | D65: Место выполнения: | G65: =G3 -> Великий Новгород, ул. Вересова, д.8, МАУ "СШ №2"
A66: № | B66: ФИО | C66: Команда | D66: УИН | E66: Дата рождения | G66: Возрастная ступень | H66: Пол | I66: Результат
A67: 1 | B67: =Протокол!B45 -> Васильев Александр Юрьевич | C67: =Протокол!C45 -> ДАЙ ПЯТЬ | D67: =Протокол!D45 -> 19-53-0004230 | E67: =Протокол!E45 -> 02.05.1984 | F67: =Протокол!F45 -> 41 | G67: =Протокол!G45 -> 12 | H67: =Протокол!H45 -> м
A68: 2 | B68: =Протокол!B46 -> Храмов Павел Сергеевич | C68: =Протокол!C46 -> ДАЙ ПЯТЬ | D68: =Протокол!D46 -> 25-53-0002971 | E68: =Протокол!E46 -> 14.12.1980 | F68: =Протокол!F46 -> 45 | G68: =Протокол!G46 -> 13 | H68: =Протокол!H46 -> м
A69: 3 | B69: =Протокол!B47 -> Никитин Игорь Сергеевич | C69: =Протокол!C47 -> ДАЙ ПЯТЬ | D69: =Протокол!D47 -> 25-53-0000639 | E69: =Протокол!E47 -> 15.08.1977 | F69: =Протокол!F47 -> 48 | G69: =Протокол!G47 -> 13 | H69: =Протокол!H47 -> м
A70: 4 | B70: =Протокол!B48 -> Зимин Виктор Вячеславович | C70: =Протокол!C48 -> ДАЙ ПЯТЬ | D70: =Протокол!D48 -> 26-53-0001984 | E70: =Протокол!E48 -> 29.09.2003 | F70: =Протокол!F48 -> 22 | G70: =Протокол!G48 -> 8 | H70: =Протокол!H48 -> м
A71: 5 | B71: =Протокол!B49 -> Мумич Анастасия Валерьевна | C71: =Протокол!C49 -> ДАЙ ПЯТЬ | D71: =Протокол!D49 -> 25-53-0011379 | E71: =Протокол!E49 -> 29.11.1990 | F71: =Протокол!F49 -> 35 | G71: =Протокол!G49 -> 11 | H71: =Протокол!H49 -> ж
A72: 6 | B72: =Протокол!B50 -> Колосов Александр Михайлович | C72: =Протокол!C50 -> ДАЙ ПЯТЬ | D72: =Протокол!D50 -> 25-53-0003235 | E72: =Протокол!E50 -> 05.03.1974 | F72: =Протокол!F50 -> 52 | G72: =Протокол!G50 -> 14 | H72: =Протокол!H50 -> м
A73: Судья на виде________________________________________
A75: Фестиваль: | B75: =B13 -> Городской Зимний фестиваль Всероссийского физкультурно-спортивного комплекса "Готов к труду и обороне" (ГТО) среди трудовых коллективов и лиц различных возрастных категорий, посвящённый 95-летней годовщине создания комплекса ГТО
A76: Испытание: | B76: =B14 -> Прыжок в длину с места толчком двумя ногами
A77: дата выполнения: | B77: =B15 -> 46095 | D77: Место выполнения: | G77: =G15 -> Великий Новгород, ул. Вересова, д.8, МАУ "СШ №2"
A78: № | B78: ФИО | C78: Команда | D78: УИН | E78: Дата рождения | G78: Возрастная ступень | H78: Пол | I78: Результат
A79: 1 | B79: =Протокол!B53 -> Петрова Анастасия Олеговна | C79: =Протокол!C53 -> УФСИН | D79: =Протокол!D53 -> 26-53-0002097 | E79: =Протокол!E53 -> 04.07.1991 | F79: =Протокол!F53 -> 34 | G79: =Протокол!G53 -> 10 | H79: =Протокол!H53 -> ж
A80: 2 | B80: =Протокол!B54 -> Иванов Антон Сергеевич | C80: =Протокол!C54 -> УФСИН | D80: =Протокол!D54 -> 26-53-0002030 | E80: =Протокол!E54 -> 18.10.1982 | F80: =Протокол!F54 -> 43 | G80: =Протокол!G54 -> 12 | H80: =Протокол!H54 -> м
A81: 3 | B81: =Протокол!B55 -> Чухляев Константин Игоревич | C81: =Протокол!C55 -> УФСИН | D81: =Протокол!D55 -> 25-53-0000214 | E81: =Протокол!E55 -> 23.09.1987 | F81: =Протокол!F55 -> 38 | G81: =Протокол!G55 -> 11 | H81: =Протокол!H55 -> м
A82: 4 | B82: =Протокол!B56 -> Халява Александр Владимирович | C82: =Протокол!C56 -> УФСИН | D82: =Протокол!D56 -> 25-53-0002870 | E82: =Протокол!E56 -> 21.01.1990 | F82: =Протокол!F56 -> 36 | G82: =Протокол!G56 -> 11 | H82: =Протокол!H56 -> м
A83: 5 | B83: =Протокол!B57 -> Корчевский Виталий Викторович | C83: =Протокол!C57 -> УФСИН | D83: =Протокол!D57 -> 18-53-0002876 | E83: =Протокол!E57 -> 26.01.1984 | F83: =Протокол!F57 -> 42 | G83: =Протокол!G57 -> 12 | H83: =Протокол!H57 -> м
A84: 6 | B84: =Протокол!B58 -> Королева Виктория Андреевна | C84: =Протокол!C58 -> УФСИН | D84: =Протокол!D58 -> 25-53-0002870 | E84: =Протокол!E58 -> 23.02.1997 | F84: =Протокол!F58 -> 29 | G84: =Протокол!G58 -> 9 | H84: =Протокол!H58 -> ж
A85: Судья на виде________________________________________
A87: Фестиваль: | B87: =B1 -> Городской Зимний фестиваль Всероссийского физкультурно-спортивного комплекса "Готов к труду и обороне" (ГТО) среди трудовых коллективов и лиц различных возрастных категорий, посвящённый 95-летней годовщине создания комплекса ГТО
A88: Испытание: | B88: =B2 -> Прыжок в длину с места толчком двумя ногами
A89: дата выполнения: | B89: =B3 -> 46095 | D89: Место выполнения: | G89: =G3 -> Великий Новгород, ул. Вересова, д.8, МАУ "СШ №2"
A90: № | B90: ФИО | C90: Команда | D90: УИН | E90: Дата рождения | G90: Возрастная ступень | H90: Пол | I90: Результат
A91: 1 | B91: =Протокол!B60 -> Боева Елена Викторовна | C91: =Протокол!C60 -> МАУДО «СШОР № 4» | D91: =Протокол!D60 -> 25-53-0017577 | E91: =Протокол!E60 -> 12.08.1983 | F91: =Протокол!F60 -> 42 | G91: =Протокол!G60 -> 12 | H91: =Протокол!H60 -> ж
A92: 2 | B92: =Протокол!B61 -> Гурбанов Мустафа Эльшан оглы | C92: =Протокол!C61 -> МАУДО «СШОР № 4» | D92: =Протокол!D61 -> 25-51-0011836 | E92: =Протокол!E61 -> 19.06.2006 | F92: =Протокол!F61 -> 19 | G92: =Протокол!G61 -> 7 | H92: =Протокол!H61 -> м
A93: 3 | B93: =Протокол!B62 -> Гурбанов Рамин Русифович | C93: =Протокол!C62 -> МАУДО «СШОР № 4» | D93: =Протокол!D62 -> 25-53-0021614 | E93: =Протокол!E62 -> 04.09.2009 | F93: =Протокол!F62 -> 16 | G93: =Протокол!G62 -> 6 | H93: =Протокол!H62 -> м
A94: 4 | B94: =Протокол!B63 -> Клименков Павел Андреевич | C94: =Протокол!C63 -> МАУДО «СШОР № 4» | D94: =Протокол!D63 -> 16-53-0013023 | E94: =Протокол!E63 -> 26.02.1988 | F94: =Протокол!F63 -> 38 | G94: =Протокол!G63 -> 11 | H94: =Протокол!H63 -> м
A95: 5 | B95: =Протокол!B64 -> Костюченкова Ирина Владимировна | C95: =Протокол!C64 -> МАУДО «СШОР № 1» | D95: =Протокол!D64 -> 16-53-0013023 | E95: =Протокол!E64 -> 22.11.1975 | F95: =Протокол!F64 -> 50 | G95: =Протокол!G64 -> 14 | H95: =Протокол!H64 -> ж
A96: 6 | B96: =Протокол!B65 -> Азнауров Григорий Грачевич | C96: =Протокол!C65 -> МАУДО «СШОР № 1» | D96: =Протокол!D65 -> 26-53-0002205 | E96: =Протокол!E65 -> 12.07.1989 | F96: =Протокол!F65 -> 36 | G96: =Протокол!G65 -> 11 | H96: =Протокол!H65 -> м
A97: Судья на виде________________________________________
A99: Фестиваль: | B99: =B1 -> Городской Зимний фестиваль Всероссийского физкультурно-спортивного комплекса "Готов к труду и обороне" (ГТО) среди трудовых коллективов и лиц различных возрастных категорий, посвящённый 95-летней годовщине создания комплекса ГТО
A100: Испытание: | B100: =B2 -> Прыжок в длину с места толчком двумя ногами
A101: дата выполнения: | B101: =B3 -> 46095 | D101: Место выполнения: | G101: =G3 -> Великий Новгород, ул. Вересова, д.8, МАУ "СШ №2"
A102: № | B102: ФИО | C102: Команда | D102: УИН | E102: Дата рождения | G102: Возрастная ступень | H102: Пол | I102: Результат
A103: 1 | B103: =Протокол!B67 -> Койнаш Артем Александрович | C103: =Протокол!C67 -> АО «НПО «Квант» | D103: =Протокол!D67 -> 26-53-0001788 | E103: =Протокол!E67 -> 01.08.1983 | F103: =Протокол!F67 -> 42 | G103: =Протокол!G67 -> 12 | H103: =Протокол!H67 -> м
A104: 2 | B104: =Протокол!B68 -> Беспалов Евгений Евгеньевич | C104: =Протокол!C68 -> АО «НПО «Квант» | D104: =Протокол!D68 -> 26-53-0001777 | E104: =Протокол!E68 -> 24.11.2001 | F104: =Протокол!F68 -> 24 | G104: =Протокол!G68 -> 8 | H104: =Протокол!H68 -> м
A105: 3 | B105: =Протокол!B69 -> Смирнов Владимир Викторович | C105: =Протокол!C69 -> АО «НПО «Квант» | D105: =Протокол!D69 -> 26-53-0001789 | E105: =Протокол!E69 -> 07.03.1996 | F105: =Протокол!F69 -> 30 | G105: =Протокол!G69 -> 10 | H105: =Протокол!H69 -> м
A106: 4 | B106: =Протокол!B70 -> Байметов Александр Васильевич | C106: =Протокол!C70 -> АО «НПО «Квант» | D106: =Протокол!D70 -> 25-53-0002792 | E106: =Протокол!E70 -> 12.06.1989 | F106: =Протокол!F70 -> 36 | G106: =Протокол!G70 -> 11 | H106: =Протокол!H70 -> м
A107: 5 | B107: =Протокол!B71 -> Моторигина Алена Романовна | C107: =Протокол!C71 -> АО «НПО «Квант» | D107: =Протокол!D71 -> 25-53-0002781 | E107: =Протокол!E71 -> 14.02.2004 | F107: =Протокол!F71 -> 22 | G107: =Протокол!G71 -> 8 | H107: =Протокол!H71 -> ж
A108: 6 | B108: =Протокол!B72 -> Ханукович Анна Сергеевна | C108: =Протокол!C72 -> АО «НПО «Квант» | D108: =Протокол!D72 -> 17-53-0003465 | E108: =Протокол!E72 -> 03.12.2001 | F108: =Протокол!F72 -> 24 | G108: =Протокол!G72 -> 8 | H108: =Протокол!H72 -> ж
...

Sheet Протокол
A1: Сводный протокол выполнения государственных требований к физической подготовленности граждан Российской Федерации
A2: Городской Зимний фестиваль Всероссийского физкультурно-спортивного комплекса "Готов к труду и обороне" (ГТО) среди трудовых коллективов и лиц различных возрастных категорий, посвящённый 95-летней годовщине создания комплекса ГТО
B3: Дата выполнения:
B4: 46095
B5: Место выполнения:
B6: Великий Новгород, ул. Вересова, д.8, МАУ "СШ №2"
A7: № | B7: ФИО | C7: Команда | D7: УИН участника | E7: Дата рождения | F7: Лет | G7: Ступень | H7: Пол | I7: Бег на 30 м (с) | J7: очки | K7: Бег на 60 м (с) | L7: очки | M7: Бег на 100 м (с) | N7: очки | O7: Бег на 1000 м (мин, с) | P7: очки | Q7: Бег на 1500 м (мин, с) | R7: очки | S7: Бег на 2000 м (мин, с) | T7: очки | U7: Бег на 3000 м (мин, с) | V7: очки | W7: Бег на лыжах на 1000 м (мин, с) | X7: очки | Y7: Бег на лыжах на 2000 м (мин, с) | Z7: очки | AA7: Бег на лыжах на 3000 м (мин, с) | AB7: очки | AC7: Бег на лыжах на 5000 м (мин, с) | AD7: очки | AE7: Передвижение на лыжах на 2 км (мин, с) | AF7: очки | AG7: Передвижение на лыжах на 3 км (мин, с) | AH7: очки | AI7: Смешанное передвижение на 1000 м (мин,с) | AJ7: очки | AK7: Смешанное передвижение на 2000 м (мин, с) | AL7: очки | AM7: Смешанное передвижение по пересеченной местности на 1000 м (мин,с) | AN7: очки | AO7: Смешанное передвижение по пересеченной местности на 2 км (мин, с) | AP7: очки | AQ7: Смешанное передвижение по пересеченной местности на 3 км (мин, с) | AR7: очки | AS7: Кросс на 2000 м (по пересеченной местности (мин, с) | AT7: очки | AU7: Кросс на 3000 м (по пересеченной местности (мин, с) | AV7: очки | AW7: Кросс на 5000 м (по пересеченной местности (мин, с) | AX7: очки | AY7: Скандинавская ходьба на 3 км (мин, с) | AZ7: очки | BA7: Подтягивание из виса на высокой перекладине (количество раз) | BB7: очки | BC7: Подтягивание из виса лежа на низкой перекладине 90 см (количество раз) | BD7: очки | BE7: Рывок гири 16 кг (количество раз) | BF7: очки | BG7: Cгибание и разгибание рук в упоре лежа на полу (количество раз) | BH7: очки | BI7: Сгибание и разгибание рук в упоре о гимнастическую скамью(количество раз) | BJ7: очки | BK7: Сгибание и разгибание рук в упоре о сиденье стула (количество раз) | BL7: очки | BM7: Наклон вперед из положения стоя на гимнастической скамье (от уровня скамьи - см) | BN7: очки | BO7: Прыжок в длину с места толчком двумя ногами (см) | BP7: очки | BQ7: Поднимание туловища из положения лежа на спине (количество раз за 1 мин) | BR7: очки | BS7: Стрельба из положения сидя или стоя с опорой локтей о стол или стойку, дистанция – 10 м (очки): из пневматической винтовки с открытым прицелом | BT7: очки | BU7: Стрельба из пневматической винтовки с диоптрическим прицелом, либо «электронного оружия» | BV7: очки | BW7: Метание мяча в цель, дистанция 6 м (кол-во попаданий) | BX7: очки | BY7: Метание мяча весом 150 г (м) | BZ7: очки | CA7: Метание спортивного снаряда весом 700 г (м) | CB7: очки | CC7: Метание спортивного снаряда весом 500 г (м) | CD7: очки | CE7: Челночный бег 3 х 10 м (с) | CF7: очки | CG7: Плавание 25 м (мин, с) | CH7: очки | CI7: Плавание 50 м (мин, с) | CJ7: очки | CK7: Сумма очков
A8: 1 | B8: Павлюкова Татьяна Александровна | C8: ПАО "АКРОН" - 1 | D8: 25-53-0007650 | E8: 24.01.1979 | F8: =IF(E8="",0,INT(($B$4-E8)/365.25)) -> 47 | G8: =IFERROR(VLOOKUP(F8,Ступени!$A$2:$B$99,2,0),"") -> 13 | H8: ж | J8: =IF(I8="",0,IF(AND(G8=2,H8="м"),VLOOKUP(I8,'30м'!$A$4:$B$71,2,0),IF(AND(G8=2,H8="ж"),VLOOKUP(I8,'30м'!$D$4:$E$71,2,0),IF(AND(G8=3,H8="м"),VLOOKUP(I8,'30м'!$G$4:$H$71,2,0),IF(AND(G8=3,H8="ж"),VLOOKUP(I8,'30м'!$J$4:$K$71,2,0),IF(AND(G8=4,H8="м"),VLOOKUP(I8,'30м'!$M$4:$N$71,2,0),IF(AND(G8=4,H8="ж"),VLOOKUP(I8,'30м'!$P$4:$Q$71,2,0),IF(AND(G8=5,H8="м"),VLOOKUP(I8,'30м'!$S$4:$T$71,2,0),IF(AND(G8=5,H8="ж"),VLOOKUP(I8,'30м'!$V$4:$W$71,2,0),""))))))))) -> 0 | L8: =IF(K8="",0,IF(AND(G8=4,H8="м"),VLOOKUP(K8,'60м'!$A$4:$B$129,2,0),IF(AND(G8=4,H8="ж"),VLOOKUP(K8,'60м'!$D$4:$E$129,2,0),IF(AND(G8=5,H8="м"),VLOOKUP(K8,'60м'!$G$4:$H$129,2,0),IF(AND(G8=5,H8="ж"),VLOOKUP(K8,'60м'!$J$4:$K$129,2,0),IF(AND(G8=6,H8="м"),VLOOKUP(K8,'60м'!$M$4:$N$129,2,0),IF(AND(G8=6,H8="ж"),VLOOKUP(K8,'60м'!$P$4:$Q$129,2,0),IF(AND(G8=7,H8="м"),VLOOKUP(K8,'60м'!$S$4:$T$129,2,0),IF(AND(G8=7,H8="ж"),VLOOKUP(K8,'60м'!$V$4:$W$129,2,0),IF(AND(G8=8,H8="м"),VLOOKUP(K8,'60м'!$Y$4:$Z$129,2,0),IF(AND(G8=8,H8="ж"),VLOOKUP(K8,'60м'!$AB$4:$AC$129,2,0),IF(AND(G8=9,H8="м"),VLOOKUP(K8,'60м'!$AE$4:$AF$129,2,0),IF(AND(G8=9,H8="ж"),VLOOKUP(K8,'60м'!$AH$4:$AI$129,2,0),IF(AND(G8=10,H8="м"),VLOOKUP(K8,'60м'!$AK$4:$AL$129,2,0),IF(AND(G8=10,H8="ж"),VLOOKUP(K8,'60м'!$AN$4:$AO$129,2,0),IF(AND(G8=11,H8="м"),VLOOKUP(K8,'60м'!$AQ$4:$AR$129,2,0),IF(AND(G8=11,H8="ж"),VLOOKUP(K8,'60м'!$AT$4:$AU$129,2,0),IF(AND(G8=12,H8="м"),VLOOKUP(K8,'60м'!$AW$4:$AX$129,2,0),IF(AND(G8=12,H8="ж"),VLOOKUP(K8,'60м'!$AZ$4:$BA$129,2,0),IF(AND(G8=13,H8="м"),VLOOKUP(K8,'60м'!$BC$4:$BD$129,2,0),IF(AND(G8=13,H8="ж"),VLOOKUP(K8,'60м'!$BF$4:$BG$129,2,0),""))))))))))))))))))))) -> 0 | N8: =IF(M8="",0,IF(AND(G8=6,H8="м"),VLOOKUP(M8,'100м'!$A$4:$B$134,2,0),IF(AND(G8=6,H8="ж"),VLOOKUP(M8,'100м'!$D$4:$E$134,2,0),IF(AND(G8=7,H8="м"),VLOOKUP(M8,'100м'!$G$4:$H$134,2,0),IF(AND(G8=7,H8="ж"),VLOOKUP(M8,'100м'!$J$4:$K$134,2,0),IF(AND(G8=8,H8="м"),VLOOKUP(M8,'100м'!$M$4:$N$134,2,0),IF(AND(G8=8,H8="ж"),VLOOKUP(M8,'100м'!$P$4:$Q$134,2,0),IF(AND(G8=9,H8="м"),VLOOKUP(M8,'100м'!$S$4:$T$134,2,0),IF(AND(G8=9,H8="ж"),VLOOKUP(M8,'100м'!$V$4:$W$134,2,0),""))))))))) -> 0 | R8: =IF(Q8="",0,IF(AND(G8=4,H8="м"),VLOOKUP(Q8,'1500м'!$A$4:$B$364,2,0),IF(AND(G8=4,H8="ж"),VLOOKUP(Q8,'1500м'!$D$4:$E$364,2,0),""))) -> 0 | T8: =IF(S8="",0,IF(AND(G8=5,H8="м"),VLOOKUP(S8,'2000м'!$A$4:$B$780,2,0),IF(AND(G8=5,H8="ж"),VLOOKUP(S8,'2000м'!$D$4:$E$780,2,0),IF(AND(G8=6,H8="ж"),VLOOKUP(S8,'2000м'!$G$4:$H$780,2,0),IF(AND(G8=7,H8="ж"),VLOOKUP(S8,'2000м'!$J$4:$K$780,2,0),IF(AND(G8=8,H8="ж"),VLOOKUP(S8,'2000м'!$M$4:$N$780,2,0),"")))))) -> 0 | V8: =IF(U8="",0,IF(AND(G8=6,H8="м"),VLOOKUP(U8,'3000м'!$A$4:$B$594,2,0),IF(AND(G8=7,H8="м"),VLOOKUP(U8,'3000м'!$D$4:$E$594,2,0),IF(AND(G8=8,H8="м"),VLOOKUP(U8,'3000м'!$G$4:$H$594,2,0),IF(AND(G8=9,H8="м"),VLOOKUP(U8,'3000м'!$J$4:$K$594,2,0),IF(AND(G8=10,H8="м"),VLOOKUP(U8,'3000м'!$M$4:$N$594,2,0),IF(AND(G8=11,H8="м"),VLOOKUP(U8,'3000м'!$P$4:$Q$594,2,0),""))))))) -> 0 | BB8: =IF(BA8="",0,IF(AND(G8=2,H8="м"),VLOOKUP(BA8,Подтягивание!$A$4:$B$79,2,0),IF(AND(G8=3,H8="м"),VLOOKUP(BA8,Подтягивание!$D$4:$E$79,2,0),IF(AND(G8=4,H8="м"),VLOOKUP(BA8,Подтягивание!$G$4:$H$79,2,0),IF(AND(G8=5,H8="м"),VLOOKUP(BA8,Подтягивание!$J$4:$K$79,2,0),IF(AND(G8=6,H8="м"),VLOOKUP(BA8,Подтягивание!$M$4:$N$79,2,0),IF(AND(G8=7,H8="м"),VLOOKUP(BA8,Подтягивание!$P$4:$Q$79,2,0),IF(AND(G8=8,H8="м"),VLOOKUP(BA8,Подтягивание!$S$4:$T$79,2,0),IF(AND(G8=9,H8="м"),VLOOKUP(BA8,Подтягивание!$V$4:$W$79,2,0),IF(AND(G8=10,H8="м"),VLOOKUP(BA8,Подтягивание!$Y$4:$Z$79,2,0),IF(AND(G8=11,H8="м"),VLOOKUP(BA8,Подтягивание!$AB$4:$AC$79,2,0),IF(AND(G8=12,H8="м"),VLOOKUP(BA8,Подтягивание!$AE$4:$AF$79,2,0),IF(AND(G8=13,H8="м"),VLOOKUP(BA8,Подтягивание!$AH$4:$AI$79,2,0),IF(AND(G8=14,H8="м"),VLOOKUP(BA8,Подтягивание!$AK$4:$AL$79,2,0),IF(AND(G8=15,H8="м"),VLOOKUP(BA8,Подтягивание!$AN$4:$AO$79,2,0),""))))))))))))))) -> 0 | BF8: =IF(BE8="",0,IF(AND(G8=6,H8="м"),VLOOKUP(BE8,Гиря!$A$4:$B$166,2,0),IF(AND(G8=7,H8="м"),VLOOKUP(BE8,Гиря!$D$4:$E$166,2,0),IF(AND(G8=8,H8="м"),VLOOKUP(BE8,Гиря!$G$4:$H$166,2,0),IF(AND(G8=9,H8="м"),VLOOKUP(BE8,Гиря!$J$4:$K$166,2,0),IF(AND(G8=10,H8="м"),VLOOKUP(BE8,Гиря!$M$4:$N$166,2,0),IF(AND(G8=11,H8="м"),VLOOKUP(BE8,Гиря!$P$4:$Q$166,2,0),IF(AND(G8=12,H8="м"),VLOOKUP(BE8,Гиря!$S$4:$T$166,2,0),IF(AND(G8=13,H8="м"),VLOOKUP(BE8,Гиря!$V$4:$W$166,2,0),IF(AND(G8=14,H8="м"),VLOOKUP(BE8,Гиря!$Y$4:$Z$166,2,0),IF(AND(G8=15,H8="м"),VLOOKUP(BE8,Гиря!$AB$4:$AC$166,2,0),""))))))))))) -> 0 | BG8: 1 | BH8: =IF(BG8="",0,IF(AND(G8=2,H8="м"),VLOOKUP(BG8,'Отж. от пола'!$A$4:$B$169,2,0),IF(AND(G8=2,H8="ж"),VLOOKUP(BG8,'Отж. от пола'!$D$4:$E$169,2,0),IF(AND(G8=3,H8="м"),VLOOKUP(BG8,'Отж. от пола'!$G$4:$H$169,2,0),IF(AND(G8=3,H8="ж"),VLOOKUP(BG8,'Отж. от пола'!$J$4:$K$169,2,0),IF(AND(G8=4,H8="м"),VLOOKUP(BG8,'Отж. от пола'!$M$4:$N$169,2,0),IF(AND(G8=4,H8="ж"),VLOOKUP(BG8,'Отж. от пола'!$P$4:$Q$169,2,0),IF(AND(G8=5,H8="м"),VLOOKUP(BG8,'Отж. от пола'!$S$4:$T$169,2,0),IF(AND(G8=5,H8="ж"),VLOOKUP(BG8,'Отж. от пола'!$V$4:$W$169,2,0),IF(AND(G8=6,H8="м"),VLOOKUP(BG8,'Отж. от пола'!$Y$4:$Z$169,2,0),IF(AND(G8=6,H8="ж"),VLOOKUP(BG8,'Отж. от пола'!$AB$4:$AC$169,2,0),IF(AND(G8=7,H8="м"),VLOOKUP(BG8,'Отж. от пола'!$AE$4:$AF$169,2,0),IF(AND(G8=7,H8="ж"),VLOOKUP(BG8,'Отж. от пола'!$AH$4:$AI$169,2,0),IF(AND(G8=8,H8="м"),VLOOKUP(BG8,'Отж. от пола'!$AK$4:$AL$169,2,0),IF(AND(G8=8,H8="ж"),VLOOKUP(BG8,'Отж. от пола'!$AN$4:$AO$169,2,0),IF(AND(G8=9,H8="м"),VLOOKUP(BG8,'Отж. от пола'!$AQ$4:$AR$169,2,0),IF(AND(G8=9,H8="ж"),VLOOKUP(BG8,'Отж. от пола'!$AT$4:$AU$169,2,0),IF(AND(G8=10,H8="м"),VLOOKUP(BG8,'Отж. от пола'!$AW$4:$AX$169,2,0),IF(AND(G8=10,H8="ж"),VLOOKUP(BG8,'Отж. от пола'!$AZ$4:$BA$169,2,0),IF(AND(G8=11,H8="м"),VLOOKUP(BG8,'Отж. от пола'!$BC$4:$BD$169,2,0),IF(AND(G8=11,H8="ж"),VLOOKUP(BG8,'Отж. от пола'!$BF$4:$BG$169,2,0),IF(AND(G8=12,H8="м"),VLOOKUP(BG8,'Отж. от пола'!$BI$4:$BJ$169,2,0),IF(AND(G8=12,H8="ж"),VLOOKUP(BG8,'Отж. от пола'!$BL$4:$BM$169,2,0),IF(AND(G8=13,H8="м"),VLOOKUP(BG8,'Отж. от пола'!$BO$4:$BP$169,2,0),IF(AND(G8=13,H8="ж"),VLOOKUP(BG8,'Отж. от пола'!$BR$4:$BS$169,2,0),IF(AND(G8=14,H8="м"),VLOOKUP(BG8,'Отж. от пола'!$BU$4:$BV$169,2,0),IF(AND(G8=14,H8="ж"),VLOOKUP(BG8,'Отж. от пола'!$BX$4:$BY$169,2,0),IF(AND(G8=15,H8="м"),VLOOKUP(BG8,'Отж. от пола'!$CA$4:$CB$169,2,0),IF(AND(G8=15,H8="ж"),VLOOKUP(BG8,'Отж. от пола'!$CD$4:$CE$169,2,0),""))))))))))))))))))))))))))))) -> 17 | BJ8: =IF(BI8="",0,IF(AND(G8=16,H8="м"),VLOOKUP(BI8,'Отж.от скамьи'!$A$4:$B$79,2,0),IF(AND(G8=16,H8="ж"),VLOOKUP(BI8,'Отж.от скамьи'!$D$4:$E$79,2,0),IF(AND(G8=17,H8="м"),VLOOKUP(BI8,'Отж.от скамьи'!$G$4:$H$79,2,0),IF(AND(G8=17,H8="ж"),VLOOKUP(BI8,'Отж.от скамьи'!$J$4:$K$79,2,0),""))))) -> 0 | BL8: =IF(BK8="",0,IF(AND(G8=18,H8="м"),VLOOKUP(BK8,'Отж.от стула'!$A$4:$B$68,2,0),IF(AND(G8=18,H8="ж"),VLOOKUP(BK8,'Отж.от стула'!$D$4:$E$69,2,0),""))) -> 0 | BM8: 7 | BN8: =IF(BM8="",0,IF(AND(G8=2,H8="м"),VLOOKUP(BM8,Наклон!$A$4:$B$69,2,0),IF(AND(G8=2,H8="ж"),VLOOKUP(BM8,Наклон!$A$74:$B$139,2,0),IF(AND(G8=3,H8="м"),VLOOKUP(BM8,Наклон!$D$4:$E$69,2,0),IF(AND(G8=3,H8="ж"),VLOOKUP(BM8,Наклон!$D$74:$E$139,2,0),IF(AND(G8=4,H8="м"),VLOOKUP(BM8,Наклон!$G$4:$H$69,2,0),IF(AND(G8=4,H8="ж"),VLOOKUP(BM8,Наклон!$G$74:$H$139,2,0),IF(AND(G8=5,H8="м"),VLOOKUP(BM8,Наклон!$J$4:$K$69,2,0),IF(AND(G8=5,H8="ж"),VLOOKUP(BM8,Наклон!$J$74:$K$139,2,0),IF(AND(G8=6,H8="м"),VLOOKUP(BM8,Наклон!$M$4:$N$69,2,0),IF(AND(G8=6,H8="ж"),VLOOKUP(BM8,Наклон!$M$74:$N$139,2,0),IF(AND(G8=7,H8="м"),VLOOKUP(BM8,Наклон!$P$4:$Q$69,2,0),IF(AND(G8=7,H8="ж"),VLOOKUP(BM8,Наклон!$P$74:$Q$139,2,0),IF(AND(G8=8,H8="м"),VLOOKUP(BM8,Наклон!$S$4:$T$69,2,0),IF(AND(G8=8,H8="ж"),VLOOKUP(BM8,Наклон!$S$74:$T$139,2,0),IF(AND(G8=9,H8="м"),VLOOKUP(BM8,Наклон!$V$4:$W$69,2,0),IF(AND(G8=9,H8="ж"),VLOOKUP(BM8,Наклон!$V$74:$W$139,2,0),IF(AND(G8=10,H8="м"),VLOOKUP(BM8,Наклон!$Y$4:$Z$69,2,0),IF(AND(G8=10,H8="ж"),VLOOKUP(BM8,Наклон!$Y$74:$Z$139,2,0),IF(AND(G8=11,H8="м"),VLOOKUP(BM8,Наклон!$AB$4:$AC$69,2,0),IF(AND(G8=11,H8="ж"),VLOOKUP(BM8,Наклон!$AB$74:$AC$139,2,0),IF(AND(G8=12,H8="м"),VLOOKUP(BM8,Наклон!$AE$4:$AF$69,2,0),IF(AND(G8=12,H8="ж"),VLOOKUP(BM8,Наклон!$AE$74:$AF$139,2,0),IF(AND(G8=13,H8="м"),VLOOKUP(BM8,Наклон!$AH$4:$AI$69,2,0),IF(AND(G8=13,H8="ж"),VLOOKUP(BM8,Наклон!$AH$74:$AI$139,2,0),IF(AND(G8=14,H8="м"),VLOOKUP(BM8,Наклон!$AK$4:$AL$69,2,0),IF(AND(G8=14,H8="ж"),VLOOKUP(BM8,Наклон!$AK$74:$AL$139,2,0),IF(AND(G8=15,H8="м"),VLOOKUP(BM8,Наклон!$AN$4:$AO$69,2,0),IF(AND(G8=15,H8="ж"),VLOOKUP(BM8,Наклон!$AN$74:$AO$139,2,0),IF(AND(G8=16,H8="м"),VLOOKUP(BM8,Наклон!$AQ$4:$AR$69,2,0),IF(AND(G8=16,H8="ж"),VLOOKUP(BM8,Наклон!$AQ$74:$AR$139,2,0),IF(AND(G8=17,H8="м"),VLOOKUP(BM8,Наклон!$AT$4:$AU$69,2,0),IF(AND(G8=17,H8="ж"),VLOOKUP(BM8,Наклон!$AT$74:$AU$139,2,0),IF(AND(G8=18,H8="м"),VLOOKUP(BM8,Наклон!$AW$4:$AX$69,2,0),IF(AND(G8=18,H8="ж"),VLOOKUP(BM8,Наклон!$AW$74:$AX$139,2,0)))))))))))))))))))))))))))))))))))) -> 48 | BP8: =IF(BO8="",0,IF(AND(G8=2,H8="м"),VLOOKUP(BO8,'Прыжок в длину'!$A$4:$B$294,2,0),IF(AND(G8=2,H8="ж"),VLOOKUP(BO8,'Прыжок в длину'!$D$4:$E$294,2,0),IF(AND(G8=3,H8="м"),VLOOKUP(BO8,'Прыжок в длину'!$G$4:$H$294,2,0),IF(AND(G8=3,H8="ж"),VLOOKUP(BO8,'Прыжок в длину'!$J$4:$K$294,2,0),IF(AND(G8=4,H8="м"),VLOOKUP(BO8,'Прыжок в длину'!$M$4:$N$294,2,0),IF(AND(G8=4,H8="ж"),VLOOKUP(BO8,'Прыжок в длину'!$P$4:$Q$294,2,0),IF(AND(G8=5,H8="м"),VLOOKUP(BO8,'Прыжок в длину'!$S$4:$T$294,2,0),IF(AND(G8=5,H8="ж"),VLOOKUP(BO8,'Прыжок в длину'!$V$4:$W$294,2,0),IF(AND(G8=6,H8="м"),VLOOKUP(BO8,'Прыжок в длину'!$Y$4:$Z$294,2,0),IF(AND(G8=6,H8="ж"),VLOOKUP(BO8,'Прыжок в длину'!$AB$4:$AC$294,2,0),IF(AND(G8=7,H8="м"),VLOOKUP(BO8,'Прыжок в длину'!$AE$4:$AF$294,2,0),IF(AND(G8=7,H8="ж"),VLOOKUP(BO8,'Прыжок в длину'!$AH$4:$AI$294,2,0),IF(AND(G8=8,H8="м"),VLOOKUP(BO8,'Прыжок в длину'!$AK$4:$AL$294,2,0),IF(AND(G8=8,H8="ж"),VLOOKUP(BO8,'Прыжок в длину'!$AN$4:$AO$294,2,0),IF(AND(G8=9,H8="м"),VLOOKUP(BO8,'Прыжок в длину'!$AQ$4:$AR$294,2,0),IF(AND(G8=9,H8="ж"),VLOOKUP(BO8,'Прыжок в длину'!$AT$4:$AU$294,2,0),IF(AND(G8=10,H8="м"),VLOOKUP(BO8,'Прыжок в длину'!$AW$4:$AX$294,2,0),IF(AND(G8=10,H8="ж"),VLOOKUP(BO8,'Прыжок в длину'!$AZ$4:$BA$294,2,0),IF(AND(G8=11,H8="м"),VLOOKUP(BO8,'Прыжок в длину'!BC4:$BD$294,2,0),IF(AND(G8=11,H8="ж"),VLOOKUP(BO8,'Прыжок в длину'!$BF$4:$BG$294,2,0),""))))))))))))))))))))) -> 0 | BQ8: 13 | BR8: =IF(BQ8="",0,IF(AND(G8=2,H8="м"),VLOOKUP(BQ8,Пресс!$A$4:$B$104,2,0),IF(AND(G8=2,H8="ж"),VLOOKUP(BQ8,Пресс!$D$4:$E$104,2,0),IF(AND(G8=3,H8="м"),VLOOKUP(BQ8,Пресс!$G$4:$H$104,2,0),IF(AND(G8=3,H8="ж"),VLOOKUP(BQ8,Пресс!$J$4:$K$104,2,0),IF(AND(G8=4,H8="м"),VLOOKUP(BQ8,Пресс!$M$4:$N$104,2,0),IF(AND(G8=4,H8="ж"),VLOOKUP(BQ8,Пресс!$P$4:$Q$104,2,0),IF(AND(G8=5,H8="м"),VLOOKUP(BQ8,Пресс!$S$4:$T$104,2,0),IF(AND(G8=5,H8="ж"),VLOOKUP(BQ8,Пресс!$V$4:$W$104,2,0),IF(AND(G8=6,H8="м"),VLOOKUP(BQ8,Пресс!$Y$4:$Z$104,2,0),IF(AND(G8=6,H8="ж"),VLOOKUP(BQ8,Пресс!$AB$4:$AC$104,2,0),IF(AND(G8=7,H8="м"),VLOOKUP(BQ8,Пресс!$AE$4:$AF$104,2,0),IF(AND(G8=7,H8="ж"),VLOOKUP(BQ8,Пресс!$AH$4:$AI$104,2,0),IF(AND(G8=8,H8="м"),VLOOKUP(BQ8,Пресс!$AK$4:$AL$104,2,0),IF(AND(G8=8,H8="ж"),VLOOKUP(BQ8,Пресс!$AN$4:$AO$104,2,0),IF(AND(G8=9,H8="м"),VLOOKUP(BQ8,Пресс!$AQ$4:$AR$104,2,0),IF(AND(G8=9,H8="ж"),VLOOKUP(BQ8,Пресс!$AT$4:$AU$104,2,0),IF(AND(G8=10,H8="м"),VLOOKUP(BQ8,Пресс!$AW$4:$AX$104,2,0),IF(AND(G8=10,H8="ж"),VLOOKUP(BQ8,Пресс!$AZ$4:$BA$104,2,0),IF(AND(G8=11,H8="м"),VLOOKUP(BQ8,Пресс!$BC$4:$BD$104,2,0),IF(AND(G8=11,H8="ж"),VLOOKUP(BQ8,Пресс!$BF$4:$BG$104,2,0),IF(AND(G8=12,H8="м"),VLOOKUP(BQ8,Пресс!$BI$4:$BJ$104,2,0),IF(AND(G8=12,H8="ж"),VLOOKUP(BQ8,Пресс!$BL$4:$BM$104,2,0),IF(AND(G8=13,H8="м"),VLOOKUP(BQ8,Пресс!$BO$4:$BP$104,2,0),IF(AND(G8=13,H8="ж"),VLOOKUP(BQ8,Пресс!$BR$4:$BS$104,2,0),IF(AND(G8=14,H8="м"),VLOOKUP(BQ8,Пресс!$BU$4:$BV$104,2,0),IF(AND(G8=14,H8="ж"),VLOOKUP(BQ8,Пресс!$BX$4:$BY$104,2,0),IF(AND(G8=15,H8="м"),VLOOKUP(BQ8,Пресс!$CA$4:$CB$104,2,0),IF(AND(G8=15,H8="ж"),VLOOKUP(BQ8,Пресс!$CD$4:$CE$104,2,0),IF(AND(G8=16,H8="м"),VLOOKUP(BQ8,Пресс!$CG$4:$CH$104,2,0),IF(AND(G8=16,H8="ж"),VLOOKUP(BQ8,Пресс!$CJ$4:$CK$104,2,0),IF(AND(G8=17,H8="м"),VLOOKUP(BQ8,Пресс!$CM$4:$CN$104,2,0),IF(AND(G8=17,H8="ж"),VLOOKUP(BQ8,Пресс!$CP$4:$CQ$104,2,0),IF(AND(G8=18,H8="м"),VLOOKUP(BQ8,Пресс!$CS$4:$CT$104,2,0),IF(AND(G8=18,H8="ж"),VLOOKUP(BQ8,Пресс!$CV$4:$CW$104,2,0),""))))))))))))))))))))))))))))))))))) -> 40 | BV8: =IF(BU8="",0,IF(AND(G8=4,H8="м"),VLOOKUP(BU8,Стрельба!$A$4:$B$54,2,0),IF(AND(G8=4,H8="ж"),VLOOKUP(BU8,Стрельба!$D$4:$E$54,2,0),IF(AND(G8=5,H8="м"),VLOOKUP(BU8,Стрельба!$G$4:$H$54,2,0),IF(AND(G8=5,H8="ж"),VLOOKUP(BU8,Стрельба!$J$4:$K$54,2,0),IF(AND(G8=6,H8="м"),VLOOKUP(BU8,Стрельба!$M$4:$N$54,2,0),IF(AND(G8=6,H8="ж"),VLOOKUP(BU8,Стрельба!$P$4:$Q$54,2,0),IF(AND(G8=7,H8="м"),VLOOKUP(BU8,Стрельба!$S$4:$T$54,2,0),IF(AND(G8=7,H8="ж"),VLOOKUP(BU8,Стрельба!$V$4:$W$54,2,0),IF(AND(G8=8,H8="м"),VLOOKUP(BU8,Стрельба!$Y$4:$Z$54,2,0),IF(AND(G8=8,H8="ж"),VLOOKUP(BU8,Стрельба!$AB$4:$AC$54,2,0),IF(AND(G8=9,H8="м"),VLOOKUP(BU8,Стрельба!$AE$4:$AF$54,2,0),IF(AND(G8=9,H8="ж"),VLOOKUP(BU8,Стрельба!$AH$4:$AI$54,2,0),IF(AND(G8=10,H8="м"),VLOOKUP(BU8,Стрельба!$AK$4:$AL$54,2,0),IF(AND(G8=10,H8="ж"),VLOOKUP(BU8,Стрельба!$AN$4:$AO$54,2,0),IF(AND(G8=11,H8="м"),VLOOKUP(BU8,Стрельба!$AQ$4:$AR$54,2,0),IF(AND(G8=11,H8="ж"),VLOOKUP(BU8,Стрельба!$AT$4:$AU$54,2,0),IF(AND(G8=12,H8="м"),VLOOKUP(BU8,Стрельба!$AW$4:$AX$54,2,0),IF(AND(G8=12,H8="ж"),VLOOKUP(BU8,Стрельба!$AZ$4:$BA$54,2,0),IF(AND(G8=13,H8="м"),VLOOKUP(BU8,Стрельба!$BC$4:$BD$54,2,0),IF(AND(G8=13,H8="ж"),VLOOKUP(BU8,Стрельба!$BF$4:$BG$54,2,0),IF(AND(G8=14,H8="м"),VLOOKUP(BU8,Стрельба!$BI$4:$BJ$54,2,0),IF(AND(G8=14,H8="ж"),VLOOKUP(BU8,Стрельба!$BL$4:$BM$54,2,0),IF(AND(G8=15,H8="м"),VLOOKUP(BU8,Стрельба!$BO$4:$BP$54,2,0),IF(AND(G8=15,H8="ж"),VLOOKUP(BU8,Стрельба!$BR$4:$BS$54,2,0),""))))))))))))))))))))))))) -> 0 | BZ8: =IF(BY8="",0,IF(AND(G8=3,H8="м"),VLOOKUP(BY8,'Метание 150г'!$A$4:$B$784,2,0),IF(AND(G8=3,H8="ж"),VLOOKUP(BY8,'Метание 150г'!$D$4:$E$784,2,0),IF(AND(G8=4,H8="м"),VLOOKUP(BY8,'Метание 150г'!$G$4:$H$784,2,0),IF(AND(G8=4,H8="ж"),VLOOKUP(BY8,'Метание 150г'!$J$4:$K$784,2,0),IF(AND(G8=5,H8="м"),VLOOKUP(BY8,'Метание 150г'!$M$4:$N$784,2,0),IF(AND(G8=5,H8="ж"),VLOOKUP(BY8,'Метание 150г'!$P$4:$Q$784,2,0),""))))))) -> 0 | CB8: =IF(CA8="",0,IF(AND(G8=6,H8="м"),VLOOKUP(CA8,'Метание 700г'!$A$4:$B$574,2,0),IF(AND(G8=7,H8="м"),VLOOKUP(CA8,'Метание 700г'!$D$4:$E$574,2,0),IF(AND(G8=8,H8="м"),VLOOKUP(CA8,'Метание 700г'!$G$4:$H$574,2,0),"")))) -> 0 | CD8: =IF(CC8="",0,IF(AND(G8=6,H8="ж"),VLOOKUP(CC8,'Метание 500г'!$A$4:$B$565,2,0),IF(AND(G8=7,H8="ж"),VLOOKUP(CC8,'Метание 500г'!$D$4:$E$565,2,0),IF(AND(G8=8,H8="ж"),VLOOKUP(CC8,'Метание 500г'!$G$4:$H$565,2,0),IF(AND(G8=9,H8="ж"),VLOOKUP(CC8,'Метание 500г'!$J$4:$K$565,2,0),IF(AND(G8=10,H8="ж"),VLOOKUP(CC8,'Метание 500г'!$M$4:$N$565,2,0),IF(AND(G8=11,H8="ж"),VLOOKUP(CC8,'Метание 500г'!$P$4:$Q$565,2,0),""))))))) -> 0 | CH8: =IF(CG8="",0,IF(AND(G8=2,H8="м"),VLOOKUP(CG8,'Плавание 25 м'!$A$4:$B$2333,2,0),IF(AND(G8=2,H8="ж"),VLOOKUP(CG8,'Плавание 25 м'!$D$4:$E$2333,2,0),IF(AND(G8=16,H8="м"),VLOOKUP(CG8,'Плавание 25 м'!$G$4:$H$2333,2,0),IF(AND(G8=16,H8="ж"),VLOOKUP(CG8,'Плавание 25 м'!$J$4:$K$2333,2,0),IF(AND(G8=17,H8="м"),VLOOKUP(CG8,'Плавание 25 м'!$M$4:$N$2333,2,0),IF(AND(G8=17,H8="ж"),VLOOKUP(CG8,'Плавание 25 м'!$P$4:$Q$2333,2,0),IF(AND(G8=18,H8="м"),VLOOKUP(CG8,'Плавание 25 м'!$S$4:$T$2333,2,0),IF(AND(G8=18,H8="ж"),VLOOKUP(CG8,'Плавание 25 м'!$V$4:$W$2333,2,0),""))))))))) -> 0 | CJ8: =IF(CI8="",0,IF(AND(G8=3,H8="м"),VLOOKUP(CI8,'Плавание 50 м'!$A$4:$B$1954,2,0),IF(AND(G8=3,H8="ж"),VLOOKUP(CI8,'Плавание 50 м'!$D$4:$E$1954,2,0),IF(AND(G8=4,H8="м"),VLOOKUP(CI8,'Плавание 50 м'!$G$4:$H$1954,2,0),IF(AND(G8=4,H8="ж"),VLOOKUP(CI8,'Плавание 50 м'!$J$4:$K$1954,2,0),IF(AND(G8=5,H8="м"),VLOOKUP(CI8,'Плавание 50 м'!$M$4:$N$1954,2,0),IF(AND(G8=5,H8="ж"),VLOOKUP(CI8,'Плавание 50 м'!$P$4:$Q$1954,2,0),IF(AND(G8=6,H8="м"),VLOOKUP(CI8,'Плавание 50 м'!$S$4:$T$1954,2,0),IF(AND(G8=6,H8="ж"),VLOOKUP(CI8,'Плавание 50 м'!$V$4:$W$1954,2,0),IF(AND(G8=7,H8="м"),VLOOKUP(CI8,'Плавание 50 м'!$Y$4:$Z$1954,2,0),IF(AND(G8=7,H8="ж"),VLOOKUP(CI8,'Плавание 50 м'!$AB$4:$AC$1954,2,0),IF(AND(G8=8,H8="м"),VLOOKUP(CI8,'Плавание 50 м'!$AE$4:$AF$1954,2,0),IF(AND(G8=8,H8="ж"),VLOOKUP(CI8,'Плавание 50 м'!$AH$4:$AI$1954,2,0),IF(AND(G8=9,H8="м"),VLOOKUP(CI8,'Плавание 50 м'!$AK$4:$AL$1954,2,0),IF(AND(G8=9,H8="ж"),VLOOKUP(CI8,'Плавание 50 м'!$AN$4:$AO$1954,2,0),IF(AND(G8=10,H8="м"),VLOOKUP(CI8,'Плавание 50 м'!$AQ$4:$AR$1954,2,0),IF(AND(G8=10,H8="ж"),VLOOKUP(CI8,'Плавание 50 м'!$AT$4:$AU$1954,2,0),IF(AND(G8=11,H8="м"),VLOOKUP(CI8,'Плавание 50 м'!$AW$4:$AX$1954,2,0),IF(AND(G8=11,H8="ж"),VLOOKUP(CI8,'Плавание 50 м'!$AZ$4:$BA$1954,2,0),IF(AND(G8=12,H8="м"),VLOOKUP(CI8,'Плавание 50 м'!$BC$4:$BD$1954,2,0),IF(AND(G8=12,H8="ж"),VLOOKUP(CI8,'Плавание 50 м'!$BF$4:$BG$1954,2,0),IF(AND(G8=13,H8="м"),VLOOKUP(CI8,'Плавание 50 м'!$BI$4:$BJ$1954,2,0),IF(AND(G8=13,H8="ж"),VLOOKUP(CI8,'Плавание 50 м'!$BL$4:$BM$1954,2,0),IF(AND(G8=14,H8="м"),VLOOKUP(CI8,'Плавание 50 м'!$BO$4:$BP$1954,2,0),IF(AND(G8=14,H8="ж"),VLOOKUP(CI8,'Плавание 50 м'!$BR$4:$BS$1954,2,0),IF(AND(G8=15,H8="м"),VLOOKUP(CI8,'Плавание 50 м'!$BU$4:$BV$1954,2,0),IF(AND(G8=15,H8="ж"),VLOOKUP(CI8,'Плавание 50 м'!$BX$4:$BY$1954,2,0),""))))))))))))))))))))))))))) -> 0 | CK8: =BR8+BN8+BH8 -> 105
A9: 2 | B9: Павлюков Андрей Васильевич | C9: ПАО "АКРОН" - 1 | D9: 25-53-0022363 | E9: 21.08.1983 | F9: =IF(E9="",0,INT(($B$4-E9)/365.25)) -> 42 | G9: =IFERROR(VLOOKUP(F9,Ступени!$A$2:$B$99,2,0),"") -> 12 | H9: м | J9: =IF(I9="",0,IF(AND(G9=2,H9="м"),VLOOKUP(I9,'30м'!$A$4:$B$71,2,0),IF(AND(G9=2,H9="ж"),VLOOKUP(I9,'30м'!$D$4:$E$71,2,0),IF(AND(G9=3,H9="м"),VLOOKUP(I9,'30м'!$G$4:$H$71,2,0),IF(AND(G9=3,H9="ж"),VLOOKUP(I9,'30м'!$J$4:$K$71,2,0),IF(AND(G9=4,H9="м"),VLOOKUP(I9,'30м'!$M$4:$N$71,2,0),IF(AND(G9=4,H9="ж"),VLOOKUP(I9,'30м'!$P$4:$Q$71,2,0),IF(AND(G9=5,H9="м"),VLOOKUP(I9,'30м'!$S$4:$T$71,2,0),IF(AND(G9=5,H9="ж"),VLOOKUP(I9,'30м'!$V$4:$W$71,2,0),""))))))))) -> 0 | L9: =IF(K9="",0,IF(AND(G9=4,H9="м"),VLOOKUP(K9,'60м'!$A$4:$B$129,2,0),IF(AND(G9=4,H9="ж"),VLOOKUP(K9,'60м'!$D$4:$E$129,2,0),IF(AND(G9=5,H9="м"),VLOOKUP(K9,'60м'!$G$4:$H$129,2,0),IF(AND(G9=5,H9="ж"),VLOOKUP(K9,'60м'!$J$4:$K$129,2,0),IF(AND(G9=6,H9="м"),VLOOKUP(K9,'60м'!$M$4:$N$129,2,0),IF(AND(G9=6,H9="ж"),VLOOKUP(K9,'60м'!$P$4:$Q$129,2,0),IF(AND(G9=7,H9="м"),VLOOKUP(K9,'60м'!$S$4:$T$129,2,0),IF(AND(G9=7,H9="ж"),VLOOKUP(K9,'60м'!$V$4:$W$129,2,0),IF(AND(G9=8,H9="м"),VLOOKUP(K9,'60м'!$Y$4:$Z$129,2,0),IF(AND(G9=8,H9="ж"),VLOOKUP(K9,'60м'!$AB$4:$AC$129,2,0),IF(AND(G9=9,H9="м"),VLOOKUP(K9,'60м'!$AE$4:$AF$129,2,0),IF(AND(G9=9,H9="ж"),VLOOKUP(K9,'60м'!$AH$4:$AI$129,2,0),IF(AND(G9=10,H9="м"),VLOOKUP(K9,'60м'!$AK$4:$AL$129,2,0),IF(AND(G9=10,H9="ж"),VLOOKUP(K9,'60м'!$AN$4:$AO$129,2,0),IF(AND(G9=11,H9="м"),VLOOKUP(K9,'60м'!$AQ$4:$AR$129,2,0),IF(AND(G9=11,H9="ж"),VLOOKUP(K9,'60м'!$AT$4:$AU$129,2,0),IF(AND(G9=12,H9="м"),VLOOKUP(K9,'60м'!$AW$4:$AX$129,2,0),IF(AND(G9=12,H9="ж"),VLOOKUP(K9,'60м'!$AZ$4:$BA$129,2,0),IF(AND(G9=13,H9="м"),VLOOKUP(K9,'60м'!$BC$4:$BD$129,2,0),IF(AND(G9=13,H9="ж"),VLOOKUP(K9,'60м'!$BF$4:$BG$129,2,0),""))))))))))))))))))))) -> 0 | N9: =IF(M9="",0,IF(AND(G9=6,H9="м"),VLOOKUP(M9,'100м'!$A$4:$B$134,2,0),IF(AND(G9=6,H9="ж"),VLOOKUP(M9,'100м'!$D$4:$E$134,2,0),IF(AND(G9=7,H9="м"),VLOOKUP(M9,'100м'!$G$4:$H$134,2,0),IF(AND(G9=7,H9="ж"),VLOOKUP(M9,'100м'!$J$4:$K$134,2,0),IF(AND(G9=8,H9="м"),VLOOKUP(M9,'100м'!$M$4:$N$134,2,0),IF(AND(G9=8,H9="ж"),VLOOKUP(M9,'100м'!$P$4:$Q$134,2,0),IF(AND(G9=9,H9="м"),VLOOKUP(M9,'100м'!$S$4:$T$134,2,0),IF(AND(G9=9,H9="ж"),VLOOKUP(M9,'100м'!$V$4:$W$134,2,0),""))))))))) -> 0 | R9: =IF(Q9="",0,IF(AND(G9=4,H9="м"),VLOOKUP(Q9,'1500м'!$A$4:$B$364,2,0),IF(AND(G9=4,H9="ж"),VLOOKUP(Q9,'1500м'!$D$4:$E$364,2,0),""))) -> 0 | T9: =IF(S9="",0,IF(AND(G9=5,H9="м"),VLOOKUP(S9,'2000м'!$A$4:$B$780,2,0),IF(AND(G9=5,H9="ж"),VLOOKUP(S9,'2000м'!$D$4:$E$780,2,0),IF(AND(G9=6,H9="ж"),VLOOKUP(S9,'2000м'!$G$4:$H$780,2,0),IF(AND(G9=7,H9="ж"),VLOOKUP(S9,'2000м'!$J$4:$K$780,2,0),IF(AND(G9=8,H9="ж"),VLOOKUP(S9,'2000м'!$M$4:$N$780,2,0),"")))))) -> 0 | V9: =IF(U9="",0,IF(AND(G9=6,H9="м"),VLOOKUP(U9,'3000м'!$A$4:$B$594,2,0),IF(AND(G9=7,H9="м"),VLOOKUP(U9,'3000м'!$D$4:$E$594,2,0),IF(AND(G9=8,H9="м"),VLOOKUP(U9,'3000м'!$G$4:$H$594,2,0),IF(AND(G9=9,H9="м"),VLOOKUP(U9,'3000м'!$J$4:$K$594,2,0),IF(AND(G9=10,H9="м"),VLOOKUP(U9,'3000м'!$M$4:$N$594,2,0),IF(AND(G9=11,H9="м"),VLOOKUP(U9,'3000м'!$P$4:$Q$594,2,0),""))))))) -> 0 | BB9: =IF(BA9="",0,IF(AND(G9=2,H9="м"),VLOOKUP(BA9,Подтягивание!$A$4:$B$79,2,0),IF(AND(G9=3,H9="м"),VLOOKUP(BA9,Подтягивание!$D$4:$E$79,2,0),IF(AND(G9=4,H9="м"),VLOOKUP(BA9,Подтягивание!$G$4:$H$79,2,0),IF(AND(G9=5,H9="м"),VLOOKUP(BA9,Подтягивание!$J$4:$K$79,2,0),IF(AND(G9=6,H9="м"),VLOOKUP(BA9,Подтягивание!$M$4:$N$79,2,0),IF(AND(G9=7,H9="м"),VLOOKUP(BA9,Подтягивание!$P$4:$Q$79,2,0),IF(AND(G9=8,H9="м"),VLOOKUP(BA9,Подтягивание!$S$4:$T$79,2,0),IF(AND(G9=9,H9="м"),VLOOKUP(BA9,Подтягивание!$V$4:$W$79,2,0),IF(AND(G9=10,H9="м"),VLOOKUP(BA9,Подтягивание!$Y$4:$Z$79,2,0),IF(AND(G9=11,H9="м"),VLOOKUP(BA9,Подтягивание!$AB$4:$AC$79,2,0),IF(AND(G9=12,H9="м"),VLOOKUP(BA9,Подтягивание!$AE$4:$AF$79,2,0),IF(AND(G9=13,H9="м"),VLOOKUP(BA9,Подтягивание!$AH$4:$AI$79,2,0),IF(AND(G9=14,H9="м"),VLOOKUP(BA9,Подтягивание!$AK$4:$AL$79,2,0),IF(AND(G9=15,H9="м"),VLOOKUP(BA9,Подтягивание!$AN$4:$AO$79,2,0),""))))))))))))))) -> 0 | BF9: =IF(BE9="",0,IF(AND(G9=6,H9="м"),VLOOKUP(BE9,Гиря!$A$4:$B$166,2,0),IF(AND(G9=7,H9="м"),VLOOKUP(BE9,Гиря!$D$4:$E$166,2,0),IF(AND(G9=8,H9="м"),VLOOKUP(BE9,Гиря!$G$4:$H$166,2,0),IF(AND(G9=9,H9="м"),VLOOKUP(BE9,Гиря!$J$4:$K$166,2,0),IF(AND(G9=10,H9="м"),VLOOKUP(BE9,Гиря!$M$4:$N$166,2,0),IF(AND(G9=11,H9="м"),VLOOKUP(BE9,Гиря!$P$4:$Q$166,2,0),IF(AND(G9=12,H9="м"),VLOOKUP(BE9,Гиря!$S$4:$T$166,2,0),IF(AND(G9=13,H9="м"),VLOOKUP(BE9,Гиря!$V$4:$W$166,2,0),IF(AND(G9=14,H9="м"),VLOOKUP(BE9,Гиря!$Y$4:$Z$166,2,0),IF(AND(G9=15,H9="м"),VLOOKUP(BE9,Гиря!$AB$4:$AC$166,2,0),""))))))))))) -> 0 | BG9: 50 | BH9: =IF(BG9="",0,IF(AND(G9=2,H9="м"),VLOOKUP(BG9,'Отж. от пола'!$A$4:$B$169,2,0),IF(AND(G9=2,H9="ж"),VLOOKUP(BG9,'Отж. от пола'!$D$4:$E$169,2,0),IF(AND(G9=3,H9="м"),VLOOKUP(BG9,'Отж. от пола'!$G$4:$H$169,2,0),IF(AND(G9=3,H9="ж"),VLOOKUP(BG9,'Отж. от пола'!$J$4:$K$169,2,0),IF(AND(G9=4,H9="м"),VLOOKUP(BG9,'Отж. от пола'!$M$4:$N$169,2,0),IF(AND(G9=4,H9="ж"),VLOOKUP(BG9,'Отж. от пола'!$P$4:$Q$169,2,0),IF(AND(G9=5,H9="м"),VLOOKUP(BG9,'Отж. от пола'!$S$4:$T$169,2,0),IF(AND(G9=5,H9="ж"),VLOOKUP(BG9,'Отж. от пола'!$V$4:$W$169,2,0),IF(AND(G9=6,H9="м"),VLOOKUP(BG9,'Отж. от пола'!$Y$4:$Z$169,2,0),IF(AND(G9=6,H9="ж"),VLOOKUP(BG9,'Отж. от пола'!$AB$4:$AC$169,2,0),IF(AND(G9=7,H9="м"),VLOOKUP(BG9,'Отж. от пола'!$AE$4:$AF$169,2,0),IF(AND(G9=7,H9="ж"),VLOOKUP(BG9,'Отж. от пола'!$AH$4:$AI$169,2,0),IF(AND(G9=8,H9="м"),VLOOKUP(BG9,'Отж. от пола'!$AK$4:$AL$169,2,0),IF(AND(G9=8,H9="ж"),VLOOKUP(BG9,'Отж. от пола'!$AN$4:$AO$169,2,0),IF(AND(G9=9,H9="м"),VLOOKUP(BG9,'Отж. от пола'!$AQ$4:$AR$169,2,0),IF(AND(G9=9,H9="ж"),VLOOKUP(BG9,'Отж. от пола'!$AT$4:$AU$169,2,0),IF(AND(G9=10,H9="м"),VLOOKUP(BG9,'Отж. от пола'!$AW$4:$AX$169,2,0),IF(AND(G9=10,H9="ж"),VLOOKUP(BG9,'Отж. от пола'!$AZ$4:$BA$169,2,0),IF(AND(G9=11,H9="м"),VLOOKUP(BG9,'Отж. от пола'!$BC$4:$BD$169,2,0),IF(AND(G9=11,H9="ж"),VLOOKUP(BG9,'Отж. от пола'!$BF$4:$BG$169,2,0),IF(AND(G9=12,H9="м"),VLOOKUP(BG9,'Отж. от пола'!$BI$4:$BJ$169,2,0),IF(AND(G9=12,H9="ж"),VLOOKUP(BG9,'Отж. от пола'!$BL$4:$BM$169,2,0),IF(AND(G9=13,H9="м"),VLOOKUP(BG9,'Отж. от пола'!$BO$4:$BP$169,2,0),IF(AND(G9=13,H9="ж"),VLOOKUP(BG9,'Отж. от пола'!$BR$4:$BS$169,2,0),IF(AND(G9=14,H9="м"),VLOOKUP(BG9,'Отж. от пола'!$BU$4:$BV$169,2,0),IF(AND(G9=14,H9="ж"),VLOOKUP(BG9,'Отж. от пола'!$BX$4:$BY$169,2,0),IF(AND(G9=15,H9="м"),VLOOKUP(BG9,'Отж. от пола'!$CA$4:$CB$169,2,0),IF(AND(G9=15,H9="ж"),VLOOKUP(BG9,'Отж. от пола'!$CD$4:$CE$169,2,0),""))))))))))))))))))))))))))))) -> 69 | BJ9: =IF(BI9="",0,IF(AND(G9=16,H9="м"),VLOOKUP(BI9,'Отж.от скамьи'!$A$4:$B$79,2,0),IF(AND(G9=16,H9="ж"),VLOOKUP(BI9,'Отж.от скамьи'!$D$4:$E$79,2,0),IF(AND(G9=17,H9="м"),VLOOKUP(BI9,'Отж.от скамьи'!$G$4:$H$79,2,0),IF(AND(G9=17,H9="ж"),VLOOKUP(BI9,'Отж.от скамьи'!$J$4:$K$79,2,0),""))))) -> 0 | BL9: =IF(BK9="",0,IF(AND(G9=18,H9="м"),VLOOKUP(BK9,'Отж.от стула'!$A$4:$B$68,2,0),IF(AND(G9=18,H9="ж"),VLOOKUP(BK9,'Отж.от стула'!$D$4:$E$69,2,0),""))) -> 0 | BM9: 26 | BN9: =IF(BM9="",0,IF(AND(G9=2,H9="м"),VLOOKUP(BM9,Наклон!$A$4:$B$69,2,0),IF(AND(G9=2,H9="ж"),VLOOKUP(BM9,Наклон!$A$74:$B$139,2,0),IF(AND(G9=3,H9="м"),VLOOKUP(BM9,Наклон!$D$4:$E$69,2,0),IF(AND(G9=3,H9="ж"),VLOOKUP(BM9,Наклон!$D$74:$E$139,2,0),IF(AND(G9=4,H9="м"),VLOOKUP(BM9,Наклон!$G$4:$H$69,2,0),IF(AND(G9=4,H9="ж"),VLOOKUP(BM9,Наклон!$G$74:$H$139,2,0),IF(AND(G9=5,H9="м"),VLOOKUP(BM9,Наклон!$J$4:$K$69,2,0),IF(AND(G9=5,H9="ж"),VLOOKUP(BM9,Наклон!$J$74:$K$139,2,0),IF(AND(G9=6,H9="м"),VLOOKUP(BM9,Наклон!$M$4:$N$69,2,0),IF(AND(G9=6,H9="ж"),VLOOKUP(BM9,Наклон!$M$74:$N$139,2,0),IF(AND(G9=7,H9="м"),VLOOKUP(BM9,Наклон!$P$4:$Q$69,2,0),IF(AND(G9=7,H9="ж"),VLOOKUP(BM9,Наклон!$P$74:$Q$139,2,0),IF(AND(G9=8,H9="м"),VLOOKUP(BM9,Наклон!$S$4:$T$69,2,0),IF(AND(G9=8,H9="ж"),VLOOKUP(BM9,Наклон!$S$74:$T$139,2,0),IF(AND(G9=9,H9="м"),VLOOKUP(BM9,Наклон!$V$4:$W$69,2,0),IF(AND(G9=9,H9="ж"),VLOOKUP(BM9,Наклон!$V$74:$W$139,2,0),IF(AND(G9=10,H9="м"),VLOOKUP(BM9,Наклон!$Y$4:$Z$69,2,0),IF(AND(G9=10,H9="ж"),VLOOKUP(BM9,Наклон!$Y$74:$Z$139,2,0),IF(AND(G9=11,H9="м"),VLOOKUP(BM9,Наклон!$AB$4:$AC$69,2,0),IF(AND(G9=11,H9="ж"),VLOOKUP(BM9,Наклон!$AB$74:$AC$139,2,0),IF(AND(G9=12,H9="м"),VLOOKUP(BM9,Наклон!$AE$4:$AF$69,2,0),IF(AND(G9=12,H9="ж"),VLOOKUP(BM9,Наклон!$AE$74:$AF$139,2,0),IF(AND(G9=13,H9="м"),VLOOKUP(BM9,Наклон!$AH$4:$AI$69,2,0),IF(AND(G9=13,H9="ж"),VLOOKUP(BM9,Наклон!$AH$74:$AI$139,2,0),IF(AND(G9=14,H9="м"),VLOOKUP(BM9,Наклон!$AK$4:$AL$69,2,0),IF(AND(G9=14,H9="ж"),VLOOKUP(BM9,Наклон!$AK$74:$AL$139,2,0),IF(AND(G9=15,H9="м"),VLOOKUP(BM9,Наклон!$AN$4:$AO$69,2,0),IF(AND(G9=15,H9="ж"),VLOOKUP(BM9,Наклон!$AN$74:$AO$139,2,0),IF(AND(G9=16,H9="м"),VLOOKUP(BM9,Наклон!$AQ$4:$AR$69,2,0),IF(AND(G9=16,H9="ж"),VLOOKUP(BM9,Наклон!$AQ$74:$AR$139,2,0),IF(AND(G9=17,H9="м"),VLOOKUP(BM9,Наклон!$AT$4:$AU$69,2,0),IF(AND(G9=17,H9="ж"),VLOOKUP(BM9,Наклон!$AT$74:$AU$139,2,0),IF(AND(G9=18,H9="м"),VLOOKUP(BM9,Наклон!$AW$4:$AX$69,2,0),IF(AND(G9=18,H9="ж"),VLOOKUP(BM9,Наклон!$AW$74:$AX$139,2,0)))))))))))))))))))))))))))))))))))) -> 90 | BP9: =IF(BO9="",0,IF(AND(G9=2,H9="м"),VLOOKUP(BO9,'Прыжок в длину'!$A$4:$B$294,2,0),IF(AND(G9=2,H9="ж"),VLOOKUP(BO9,'Прыжок в длину'!$D$4:$E$294,2,0),IF(AND(G9=3,H9="м"),VLOOKUP(BO9,'Прыжок в длину'!$G$4:$H$294,2,0),IF(AND(G9=3,H9="ж"),VLOOKUP(BO9,'Прыжок в длину'!$J$4:$K$294,2,0),IF(AND(G9=4,H9="м"),VLOOKUP(BO9,'Прыжок в длину'!$M$4:$N$294,2,0),IF(AND(G9=4,H9="ж"),VLOOKUP(BO9,'Прыжок в длину'!$P$4:$Q$294,2,0),IF(AND(G9=5,H9="м"),VLOOKUP(BO9,'Прыжок в длину'!$S$4:$T$294,2,0),IF(AND(G9=5,H9="ж"),VLOOKUP(BO9,'Прыжок в длину'!$V$4:$W$294,2,0),IF(AND(G9=6,H9="м"),VLOOKUP(BO9,'Прыжок в длину'!$Y$4:$Z$294,2,0),IF(AND(G9=6,H9="ж"),VLOOKUP(BO9,'Прыжок в длину'!$AB$4:$AC$294,2,0),IF(AND(G9=7,H9="м"),VLOOKUP(BO9,'Прыжок в длину'!$AE$4:$AF$294,2,0),IF(AND(G9=7,H9="ж"),VLOOKUP(BO9,'Прыжок в длину'!$AH$4:$AI$294,2,0),IF(AND(G9=8,H9="м"),VLOOKUP(BO9,'Прыжок в длину'!$AK$4:$AL$294,2,0),IF(AND(G9=8,H9="ж"),VLOOKUP(BO9,'Прыжок в длину'!$AN$4:$AO$294,2,0),IF(AND(G9=9,H9="м"),VLOOKUP(BO9,'Прыжок в длину'!$AQ$4:$AR$294,2,0),IF(AND(G9=9,H9="ж"),VLOOKUP(BO9,'Прыжок в длину'!$AT$4:$AU$294,2,0),IF(AND(G9=10,H9="м"),VLOOKUP(BO9,'Прыжок в длину'!$AW$4:$AX$294,2,0),IF(AND(G9=10,H9="ж"),VLOOKUP(BO9,'Прыжок в длину'!$AZ$4:$BA$294,2,0),IF(AND(G9=11,H9="м"),VLOOKUP(BO9,'Прыжок в длину'!BC5:$BD$294,2,0),IF(AND(G9=11,H9="ж"),VLOOKUP(BO9,'Прыжок в длину'!$BF$4:$BG$294,2,0),""))))))))))))))))))))) -> 0 | BQ9: 35 | BR9: =IF(BQ9="",0,IF(AND(G9=2,H9="м"),VLOOKUP(BQ9,Пресс!$A$4:$B$104,2,0),IF(AND(G9=2,H9="ж"),VLOOKUP(BQ9,Пресс!$D$4:$E$104,2,0),IF(AND(G9=3,H9="м"),VLOOKUP(BQ9,Пресс!$G$4:$H$104,2,0),IF(AND(G9=3,H9="ж"),VLOOKUP(BQ9,Пресс!$J$4:$K$104,2,0),IF(AND(G9=4,H9="м"),VLOOKUP(BQ9,Пресс!$M$4:$N$104,2,0),IF(AND(G9=4,H9="ж"),VLOOKUP(BQ9,Пресс!$P$4:$Q$104,2,0),IF(AND(G9=5,H9="м"),VLOOKUP(BQ9,Пресс!$S$4:$T$104,2,0),IF(AND(G9=5,H9="ж"),VLOOKUP(BQ9,Пресс!$V$4:$W$104,2,0),IF(AND(G9=6,H9="м"),VLOOKUP(BQ9,Пресс!$Y$4:$Z$104,2,0),IF(AND(G9=6,H9="ж"),VLOOKUP(BQ9,Пресс!$AB$4:$AC$104,2,0),IF(AND(G9=7,H9="м"),VLOOKUP(BQ9,Пресс!$AE$4:$AF$104,2,0),IF(AND(G9=7,H9="ж"),VLOOKUP(BQ9,Пресс!$AH$4:$AI$104,2,0),IF(AND(G9=8,H9="м"),VLOOKUP(BQ9,Пресс!$AK$4:$AL$104,2,0),IF(AND(G9=8,H9="ж"),VLOOKUP(BQ9,Пресс!$AN$4:$AO$104,2,0),IF(AND(G9=9,H9="м"),VLOOKUP(BQ9,Пресс!$AQ$4:$AR$104,2,0),IF(AND(G9=9,H9="ж"),VLOOKUP(BQ9,Пресс!$AT$4:$AU$104,2,0),IF(AND(G9=10,H9="м"),VLOOKUP(BQ9,Пресс!$AW$4:$AX$104,2,0),IF(AND(G9=10,H9="ж"),VLOOKUP(BQ9,Пресс!$AZ$4:$BA$104,2,0),IF(AND(G9=11,H9="м"),VLOOKUP(BQ9,Пресс!$BC$4:$BD$104,2,0),IF(AND(G9=11,H9="ж"),VLOOKUP(BQ9,Пресс!$BF$4:$BG$104,2,0),IF(AND(G9=12,H9="м"),VLOOKUP(BQ9,Пресс!$BI$4:$BJ$104,2,0),IF(AND(G9=12,H9="ж"),VLOOKUP(BQ9,Пресс!$BL$4:$BM$104,2,0),IF(AND(G9=13,H9="м"),VLOOKUP(BQ9,Пресс!$BO$4:$BP$104,2,0),IF(AND(G9=13,H9="ж"),VLOOKUP(BQ9,Пресс!$BR$4:$BS$104,2,0),IF(AND(G9=14,H9="м"),VLOOKUP(BQ9,Пресс!$BU$4:$BV$104,2,0),IF(AND(G9=14,H9="ж"),VLOOKUP(BQ9,Пресс!$BX$4:$BY$104,2,0),IF(AND(G9=15,H9="м"),VLOOKUP(BQ9,Пресс!$CA$4:$CB$104,2,0),IF(AND(G9=15,H9="ж"),VLOOKUP(BQ9,Пресс!$CD$4:$CE$104,2,0),IF(AND(G9=16,H9="м"),VLOOKUP(BQ9,Пресс!$CG$4:$CH$104,2,0),IF(AND(G9=16,H9="ж"),VLOOKUP(BQ9,Пресс!$CJ$4:$CK$104,2,0),IF(AND(G9=17,H9="м"),VLOOKUP(BQ9,Пресс!$CM$4:$CN$104,2,0),IF(AND(G9=17,H9="ж"),VLOOKUP(BQ9,Пресс!$CP$4:$CQ$104,2,0),IF(AND(G9=18,H9="м"),VLOOKUP(BQ9,Пресс!$CS$4:$CT$104,2,0),IF(AND(G9=18,H9="ж"),VLOOKUP(BQ9,Пресс!$CV$4:$CW$104,2,0),""))))))))))))))))))))))))))))))))))) -> 59 | BV9: =IF(BU9="",0,IF(AND(G9=4,H9="м"),VLOOKUP(BU9,Стрельба!$A$4:$B$54,2,0),IF(AND(G9=4,H9="ж"),VLOOKUP(BU9,Стрельба!$D$4:$E$54,2,0),IF(AND(G9=5,H9="м"),VLOOKUP(BU9,Стрельба!$G$4:$H$54,2,0),IF(AND(G9=5,H9="ж"),VLOOKUP(BU9,Стрельба!$J$4:$K$54,2,0),IF(AND(G9=6,H9="м"),VLOOKUP(BU9,Стрельба!$M$4:$N$54,2,0),IF(AND(G9=6,H9="ж"),VLOOKUP(BU9,Стрельба!$P$4:$Q$54,2,0),IF(AND(G9=7,H9="м"),VLOOKUP(BU9,Стрельба!$S$4:$T$54,2,0),IF(AND(G9=7,H9="ж"),VLOOKUP(BU9,Стрельба!$V$4:$W$54,2,0),IF(AND(G9=8,H9="м"),VLOOKUP(BU9,Стрельба!$Y$4:$Z$54,2,0),IF(AND(G9=8,H9="ж"),VLOOKUP(BU9,Стрельба!$AB$4:$AC$54,2,0),IF(AND(G9=9,H9="м"),VLOOKUP(BU9,Стрельба!$AE$4:$AF$54,2,0),IF(AND(G9=9,H9="ж"),VLOOKUP(BU9,Стрельба!$AH$4:$AI$54,2,0),IF(AND(G9=10,H9="м"),VLOOKUP(BU9,Стрельба!$AK$4:$AL$54,2,0),IF(AND(G9=10,H9="ж"),VLOOKUP(BU9,Стрельба!$AN$4:$AO$54,2,0),IF(AND(G9=11,H9="м"),VLOOKUP(BU9,Стрельба!$AQ$4:$AR$54,2,0),IF(AND(G9=11,H9="ж"),VLOOKUP(BU9,Стрельба!$AT$4:$AU$54,2,0),IF(AND(G9=12,H9="м"),VLOOKUP(BU9,Стрельба!$AW$4:$AX$54,2,0),IF(AND(G9=12,H9="ж"),VLOOKUP(BU9,Стрельба!$AZ$4:$BA$54,2,0),IF(AND(G9=13,H9="м"),VLOOKUP(BU9,Стрельба!$BC$4:$BD$54,2,0),IF(AND(G9=13,H9="ж"),VLOOKUP(BU9,Стрельба!$BF$4:$BG$54,2,0),IF(AND(G9=14,H9="м"),VLOOKUP(BU9,Стрельба!$BI$4:$BJ$54,2,0),IF(AND(G9=14,H9="ж"),VLOOKUP(BU9,Стрельба!$BL$4:$BM$54,2,0),IF(AND(G9=15,H9="м"),VLOOKUP(BU9,Стрельба!$BO$4:$BP$54,2,0),IF(AND(G9=15,H9="ж"),VLOOKUP(BU9,Стрельба!$BR$4:$BS$54,2,0),""))))))))))))))))))))))))) -> 0 | BZ9: =IF(BY9="",0,IF(AND(G9=3,H9="м"),VLOOKUP(BY9,'Метание 150г'!$A$4:$B$784,2,0),IF(AND(G9=3,H9="ж"),VLOOKUP(BY9,'Метание 150г'!$D$4:$E$784,2,0),IF(AND(G9=4,H9="м"),VLOOKUP(BY9,'Метание 150г'!$G$4:$H$784,2,0),IF(AND(G9=4,H9="ж"),VLOOKUP(BY9,'Метание 150г'!$J$4:$K$784,2,0),IF(AND(G9=5,H9="м"),VLOOKUP(BY9,'Метание 150г'!$M$4:$N$784,2,0),IF(AND(G9=5,H9="ж"),VLOOKUP(BY9,'Метание 150г'!$P$4:$Q$784,2,0),""))))))) -> 0 | CB9: =IF(CA9="",0,IF(AND(G9=6,H9="м"),VLOOKUP(CA9,'Метание 700г'!$A$4:$B$574,2,0),IF(AND(G9=7,H9="м"),VLOOKUP(CA9,'Метание 700г'!$D$4:$E$574,2,0),IF(AND(G9=8,H9="м"),VLOOKUP(CA9,'Метание 700г'!$G$4:$H$574,2,0),"")))) -> 0 | CD9: =IF(CC9="",0,IF(AND(G9=6,H9="ж"),VLOOKUP(CC9,'Метание 500г'!$A$4:$B$565,2,0),IF(AND(G9=7,H9="ж"),VLOOKUP(CC9,'Метание 500г'!$D$4:$E$565,2,0),IF(AND(G9=8,H9="ж"),VLOOKUP(CC9,'Метание 500г'!$G$4:$H$565,2,0),IF(AND(G9=9,H9="ж"),VLOOKUP(CC9,'Метание 500г'!$J$4:$K$565,2,0),IF(AND(G9=10,H9="ж"),VLOOKUP(CC9,'Метание 500г'!$M$4:$N$565,2,0),IF(AND(G9=11,H9="ж"),VLOOKUP(CC9,'Метание 500г'!$P$4:$Q$565,2,0),""))))))) -> 0 | CH9: =IF(CG9="",0,IF(AND(G9=2,H9="м"),VLOOKUP(CG9,'Плавание 25 м'!$A$4:$B$2333,2,0),IF(AND(G9=2,H9="ж"),VLOOKUP(CG9,'Плавание 25 м'!$D$4:$E$2333,2,0),IF(AND(G9=16,H9="м"),VLOOKUP(CG9,'Плавание 25 м'!$G$4:$H$2333,2,0),IF(AND(G9=16,H9="ж"),VLOOKUP(CG9,'Плавание 25 м'!$J$4:$K$2333,2,0),IF(AND(G9=17,H9="м"),VLOOKUP(CG9,'Плавание 25 м'!$M$4:$N$2333,2,0),IF(AND(G9=17,H9="ж"),VLOOKUP(CG9,'Плавание 25 м'!$P$4:$Q$2333,2,0),IF(AND(G9=18,H9="м"),VLOOKUP(CG9,'Плавание 25 м'!$S$4:$T$2333,2,0),IF(AND(G9=18,H9="ж"),VLOOKUP(CG9,'Плавание 25 м'!$V$4:$W$2333,2,0),""))))))))) -> 0 | CJ9: =IF(CI9="",0,IF(AND(G9=3,H9="м"),VLOOKUP(CI9,'Плавание 50 м'!$A$4:$B$1954,2,0),IF(AND(G9=3,H9="ж"),VLOOKUP(CI9,'Плавание 50 м'!$D$4:$E$1954,2,0),IF(AND(G9=4,H9="м"),VLOOKUP(CI9,'Плавание 50 м'!$G$4:$H$1954,2,0),IF(AND(G9=4,H9="ж"),VLOOKUP(CI9,'Плавание 50 м'!$J$4:$K$1954,2,0),IF(AND(G9=5,H9="м"),VLOOKUP(CI9,'Плавание 50 м'!$M$4:$N$1954,2,0),IF(AND(G9=5,H9="ж"),VLOOKUP(CI9,'Плавание 50 м'!$P$4:$Q$1954,2,0),IF(AND(G9=6,H9="м"),VLOOKUP(CI9,'Плавание 50 м'!$S$4:$T$1954,2,0),IF(AND(G9=6,H9="ж"),VLOOKUP(CI9,'Плавание 50 м'!$V$4:$W$1954,2,0),IF(AND(G9=7,H9="м"),VLOOKUP(CI9,'Плавание 50 м'!$Y$4:$Z$1954,2,0),IF(AND(G9=7,H9="ж"),VLOOKUP(CI9,'Плавание 50 м'!$AB$4:$AC$1954,2,0),IF(AND(G9=8,H9="м"),VLOOKUP(CI9,'Плавание 50 м'!$AE$4:$AF$1954,2,0),IF(AND(G9=8,H9="ж"),VLOOKUP(CI9,'Плавание 50 м'!$AH$4:$AI$1954,2,0),IF(AND(G9=9,H9="м"),VLOOKUP(CI9,'Плавание 50 м'!$AK$4:$AL$1954,2,0),IF(AND(G9=9,H9="ж"),VLOOKUP(CI9,'Плавание 50 м'!$AN$4:$AO$1954,2,0),IF(AND(G9=10,H9="м"),VLOOKUP(CI9,'Плавание 50 м'!$AQ$4:$AR$1954,2,0),IF(AND(G9=10,H9="ж"),VLOOKUP(CI9,'Плавание 50 м'!$AT$4:$AU$1954,2,0),IF(AND(G9=11,H9="м"),VLOOKUP(CI9,'Плавание 50 м'!$AW$4:$AX$1954,2,0),IF(AND(G9=11,H9="ж"),VLOOKUP(CI9,'Плавание 50 м'!$AZ$4:$BA$1954,2,0),IF(AND(G9=12,H9="м"),VLOOKUP(CI9,'Плавание 50 м'!$BC$4:$BD$1954,2,0),IF(AND(G9=12,H9="ж"),VLOOKUP(CI9,'Плавание 50 м'!$BF$4:$BG$1954,2,0),IF(AND(G9=13,H9="м"),VLOOKUP(CI9,'Плавание 50 м'!$BI$4:$BJ$1954,2,0),IF(AND(G9=13,H9="ж"),VLOOKUP(CI9,'Плавание 50 м'!$BL$4:$BM$1954,2,0),IF(AND(G9=14,H9="м"),VLOOKUP(CI9,'Плавание 50 м'!$BO$4:$BP$1954,2,0),IF(AND(G9=14,H9="ж"),VLOOKUP(CI9,'Плавание 50 м'!$BR$4:$BS$1954,2,0),IF(AND(G9=15,H9="м"),VLOOKUP(CI9,'Плавание 50 м'!$BU$4:$BV$1954,2,0),IF(AND(G9=15,H9="ж"),VLOOKUP(CI9,'Плавание 50 м'!$BX$4:$BY$1954,2,0),""))))))))))))))))))))))))))) -> 0 | CK9: =BR9+BN9+BH9 -> 218
A10: 3 | B10: Богидаева Жанна Радиславовна | C10: ПАО "АКРОН" - 1 | D10: 25-53-0026508 | E10: 21.11.1982 | F10: =IF(E10="",0,INT(($B$4-E10)/365.25)) -> 43 | G10: =IFERROR(VLOOKUP(F10,Ступени!$A$2:$B$99,2,0),"") -> 12 | H10: ж | J10: =IF(I10="",0,IF(AND(G10=2,H10="м"),VLOOKUP(I10,'30м'!$A$4:$B$71,2,0),IF(AND(G10=2,H10="ж"),VLOOKUP(I10,'30м'!$D$4:$E$71,2,0),IF(AND(G10=3,H10="м"),VLOOKUP(I10,'30м'!$G$4:$H$71,2,0),IF(AND(G10=3,H10="ж"),VLOOKUP(I10,'30м'!$J$4:$K$71,2,0),IF(AND(G10=4,H10="м"),VLOOKUP(I10,'30м'!$M$4:$N$71,2,0),IF(AND(G10=4,H10="ж"),VLOOKUP(I10,'30м'!$P$4:$Q$71,2,0),IF(AND(G10=5,H10="м"),VLOOKUP(I10,'30м'!$S$4:$T$71,2,0),IF(AND(G10=5,H10="ж"),VLOOKUP(I10,'30м'!$V$4:$W$71,2,0),""))))))))) -> 0 | L10: =IF(K10="",0,IF(AND(G10=4,H10="м"),VLOOKUP(K10,'60м'!$A$4:$B$129,2,0),IF(AND(G10=4,H10="ж"),VLOOKUP(K10,'60м'!$D$4:$E$129,2,0),IF(AND(G10=5,H10="м"),VLOOKUP(K10,'60м'!$G$4:$H$129,2,0),IF(AND(G10=5,H10="ж"),VLOOKUP(K10,'60м'!$J$4:$K$129,2,0),IF(AND(G10=6,H10="м"),VLOOKUP(K10,'60м'!$M$4:$N$129,2,0),IF(AND(G10=6,H10="ж"),VLOOKUP(K10,'60м'!$P$4:$Q$129,2,0),IF(AND(G10=7,H10="м"),VLOOKUP(K10,'60м'!$S$4:$T$129,2,0),IF(AND(G10=7,H10="ж"),VLOOKUP(K10,'60м'!$V$4:$W$129,2,0),IF(AND(G10=8,H10="м"),VLOOKUP(K10,'60м'!$Y$4:$Z$129,2,0),IF(AND(G10=8,H10="ж"),VLOOKUP(K10,'60м'!$AB$4:$AC$129,2,0),IF(AND(G10=9,H10="м"),VLOOKUP(K10,'60м'!$AE$4:$AF$129,2,0),IF(AND(G10=9,H10="ж"),VLOOKUP(K10,'60м'!$AH$4:$AI$129,2,0),IF(AND(G10=10,H10="м"),VLOOKUP(K10,'60м'!$AK$4:$AL$129,2,0),IF(AND(G10=10,H10="ж"),VLOOKUP(K10,'60м'!$AN$4:$AO$129,2,0),IF(AND(G10=11,H10="м"),VLOOKUP(K10,'60м'!$AQ$4:$AR$129,2,0),IF(AND(G10=11,H10="ж"),VLOOKUP(K10,'60м'!$AT$4:$AU$129,2,0),IF(AND(G10=12,H10="м"),VLOOKUP(K10,'60м'!$AW$4:$AX$129,2,0),IF(AND(G10=12,H10="ж"),VLOOKUP(K10,'60м'!$AZ$4:$BA$129,2,0),IF(AND(G10=13,H10="м"),VLOOKUP(K10,'60м'!$BC$4:$BD$129,2,0),IF(AND(G10=13,H10="ж"),VLOOKUP(K10,'60м'!$BF$4:$BG$129,2,0),""))))))))))))))))))))) -> 0 | N10: =IF(M10="",0,IF(AND(G10=6,H10="м"),VLOOKUP(M10,'100м'!$A$4:$B$134,2,0),IF(AND(G10=6,H10="ж"),VLOOKUP(M10,'100м'!$D$4:$E$134,2,0),IF(AND(G10=7,H10="м"),VLOOKUP(M10,'100м'!$G$4:$H$134,2,0),IF(AND(G10=7,H10="ж"),VLOOKUP(M10,'100м'!$J$4:$K$134,2,0),IF(AND(G10=8,H10="м"),VLOOKUP(M10,'100м'!$M$4:$N$134,2,0),IF(AND(G10=8,H10="ж"),VLOOKUP(M10,'100м'!$P$4:$Q$134,2,0),IF(AND(G10=9,H10="м"),VLOOKUP(M10,'100м'!$S$4:$T$134,2,0),IF(AND(G10=9,H10="ж"),VLOOKUP(M10,'100м'!$V$4:$W$134,2,0),""))))))))) -> 0 | R10: =IF(Q10="",0,IF(AND(G10=4,H10="м"),VLOOKUP(Q10,'1500м'!$A$4:$B$364,2,0),IF(AND(G10=4,H10="ж"),VLOOKUP(Q10,'1500м'!$D$4:$E$364,2,0),""))) -> 0 | T10: =IF(S10="",0,IF(AND(G10=5,H10="м"),VLOOKUP(S10,'2000м'!$A$4:$B$780,2,0),IF(AND(G10=5,H10="ж"),VLOOKUP(S10,'2000м'!$D$4:$E$780,2,0),IF(AND(G10=6,H10="ж"),VLOOKUP(S10,'2000м'!$G$4:$H$780,2,0),IF(AND(G10=7,H10="ж"),VLOOKUP(S10,'2000м'!$J$4:$K$780,2,0),IF(AND(G10=8,H10="ж"),VLOOKUP(S10,'2000м'!$M$4:$N$780,2,0),"")))))) -> 0 | V10: =IF(U10="",0,IF(AND(G10=6,H10="м"),VLOOKUP(U10,'3000м'!$A$4:$B$594,2,0),IF(AND(G10=7,H10="м"),VLOOKUP(U10,'3000м'!$D$4:$E$594,2,0),IF(AND(G10=8,H10="м"),VLOOKUP(U10,'3000м'!$G$4:$H$594,2,0),IF(AND(G10=9,H10="м"),VLOOKUP(U10,'3000м'!$J$4:$K$594,2,0),IF(AND(G10=10,H10="м"),VLOOKUP(U10,'3000м'!$M$4:$N$594,2,0),IF(AND(G10=11,H10="м"),VLOOKUP(U10,'3000м'!$P$4:$Q$594,2,0),""))))))) -> 0 | BB10: =IF(BA10="",0,IF(AND(G10=2,H10="м"),VLOOKUP(BA10,Подтягивание!$A$4:$B$79,2,0),IF(AND(G10=3,H10="м"),VLOOKUP(BA10,Подтягивание!$D$4:$E$79,2,0),IF(AND(G10=4,H10="м"),VLOOKUP(BA10,Подтягивание!$G$4:$H$79,2,0),IF(AND(G10=5,H10="м"),VLOOKUP(BA10,Подтягивание!$J$4:$K$79,2,0),IF(AND(G10=6,H10="м"),VLOOKUP(BA10,Подтягивание!$M$4:$N$79,2,0),IF(AND(G10=7,H10="м"),VLOOKUP(BA10,Подтягивание!$P$4:$Q$79,2,0),IF(AND(G10=8,H10="м"),VLOOKUP(BA10,Подтягивание!$S$4:$T$79,2,0),IF(AND(G10=9,H10="м"),VLOOKUP(BA10,Подтягивание!$V$4:$W$79,2,0),IF(AND(G10=10,H10="м"),VLOOKUP(BA10,Подтягивание!$Y$4:$Z$79,2,0),IF(AND(G10=11,H10="м"),VLOOKUP(BA10,Подтягивание!$AB$4:$AC$79,2,0),IF(AND(G10=12,H10="м"),VLOOKUP(BA10,Подтягивание!$AE$4:$AF$79,2,0),IF(AND(G10=13,H10="м"),VLOOKUP(BA10,Подтягивание!$AH$4:$AI$79,2,0),IF(AND(G10=14,H10="м"),VLOOKUP(BA10,Подтягивание!$AK$4:$AL$79,2,0),IF(AND(G10=15,H10="м"),VLOOKUP(BA10,Подтягивание!$AN$4:$AO$79,2,0),""))))))))))))))) -> 0 | BF10: =IF(BE10="",0,IF(AND(G10=6,H10="м"),VLOOKUP(BE10,Гиря!$A$4:$B$166,2,0),IF(AND(G10=7,H10="м"),VLOOKUP(BE10,Гиря!$D$4:$E$166,2,0),IF(AND(G10=8,H10="м"),VLOOKUP(BE10,Гиря!$G$4:$H$166,2,0),IF(AND(G10=9,H10="м"),VLOOKUP(BE10,Гиря!$J$4:$K$166,2,0),IF(AND(G10=10,H10="м"),VLOOKUP(BE10,Гиря!$M$4:$N$166,2,0),IF(AND(G10=11,H10="м"),VLOOKUP(BE10,Гиря!$P$4:$Q$166,2,0),IF(AND(G10=12,H10="м"),VLOOKUP(BE10,Гиря!$S$4:$T$166,2,0),IF(AND(G10=13,H10="м"),VLOOKUP(BE10,Гиря!$V$4:$W$166,2,0),IF(AND(G10=14,H10="м"),VLOOKUP(BE10,Гиря!$Y$4:$Z$166,2,0),IF(AND(G10=15,H10="м"),VLOOKUP(BE10,Гиря!$AB$4:$AC$166,2,0),""))))))))))) -> 0 | BG10: 0 | BH10: =IF(BG10="",0,IF(AND(G10=2,H10="м"),VLOOKUP(BG10,'Отж. от пола'!$A$4:$B$169,2,0),IF(AND(G10=2,H10="ж"),VLOOKUP(BG10,'Отж. от пола'!$D$4:$E$169,2,0),IF(AND(G10=3,H10="м"),VLOOKUP(BG10,'Отж. от пола'!$G$4:$H$169,2,0),IF(AND(G10=3,H10="ж"),VLOOKUP(BG10,'Отж. от пола'!$J$4:$K$169,2,0),IF(AND(G10=4,H10="м"),VLOOKUP(BG10,'Отж. от пола'!$M$4:$N$169,2,0),IF(AND(G10=4,H10="ж"),VLOOKUP(BG10,'Отж. от пола'!$P$4:$Q$169,2,0),IF(AND(G10=5,H10="м"),VLOOKUP(BG10,'Отж. от пола'!$S$4:$T$169,2,0),IF(AND(G10=5,H10="ж"),VLOOKUP(BG10,'Отж. от пола'!$V$4:$W$169,2,0),IF(AND(G10=6,H10="м"),VLOOKUP(BG10,'Отж. от пола'!$Y$4:$Z$169,2,0),IF(AND(G10=6,H10="ж"),VLOOKUP(BG10,'Отж. от пола'!$AB$4:$AC$169,2,0),IF(AND(G10=7,H10="м"),VLOOKUP(BG10,'Отж. от пола'!$AE$4:$AF$169,2,0),IF(AND(G10=7,H10="ж"),VLOOKUP(BG10,'Отж. от пола'!$AH$4:$AI$169,2,0),IF(AND(G10=8,H10="м"),VLOOKUP(BG10,'Отж. от пола'!$AK$4:$AL$169,2,0),IF(AND(G10=8,H10="ж"),VLOOKUP(BG10,'Отж. от пола'!$AN$4:$AO$169,2,0),IF(AND(G10=9,H10="м"),VLOOKUP(BG10,'Отж. от пола'!$AQ$4:$AR$169,2,0),IF(AND(G10=9,H10="ж"),VLOOKUP(BG10,'Отж. от пола'!$AT$4:$AU$169,2,0),IF(AND(G10=10,H10="м"),VLOOKUP(BG10,'Отж. от пола'!$AW$4:$AX$169,2,0),IF(AND(G10=10,H10="ж"),VLOOKUP(BG10,'Отж. от пола'!$AZ$4:$BA$169,2,0),IF(AND(G10=11,H10="м"),VLOOKUP(BG10,'Отж. от пола'!$BC$4:$BD$169,2,0),IF(AND(G10=11,H10="ж"),VLOOKUP(BG10,'Отж. от пола'!$BF$4:$BG$169,2,0),IF(AND(G10=12,H10="м"),VLOOKUP(BG10,'Отж. от пола'!$BI$4:$BJ$169,2,0),IF(AND(G10=12,H10="ж"),VLOOKUP(BG10,'Отж. от пола'!$BL$4:$BM$169,2,0),IF(AND(G10=13,H10="м"),VLOOKUP(BG10,'Отж. от пола'!$BO$4:$BP$169,2,0),IF(AND(G10=13,H10="ж"),VLOOKUP(BG10,'Отж. от пола'!$BR$4:$BS$169,2,0),IF(AND(G10=14,H10="м"),VLOOKUP(BG10,'Отж. от пола'!$BU$4:$BV$169,2,0),IF(AND(G10=14,H10="ж"),VLOOKUP(BG10,'Отж. от пола'!$BX$4:$BY$169,2,0),IF(AND(G10=15,H10="м"),VLOOKUP(BG10,'Отж. от пола'!$CA$4:$CB$169,2,0),IF(AND(G10=15,H10="ж"),VLOOKUP(BG10,'Отж. от пола'!$CD$4:$CE$169,2,0),""))))))))))))))))))))))))))))) -> 0 | BJ10: =IF(BI10="",0,IF(AND(G10=16,H10="м"),VLOOKUP(BI10,'Отж.от скамьи'!$A$4:$B$79,2,0),IF(AND(G10=16,H10="ж"),VLOOKUP(BI10,'Отж.от скамьи'!$D$4:$E$79,2,0),IF(AND(G10=17,H10="м"),VLOOKUP(BI10,'Отж.от скамьи'!$G$4:$H$79,2,0),IF(AND(G10=17,H10="ж"),VLOOKUP(BI10,'Отж.от скамьи'!$J$4:$K$79,2,0),""))))) -> 0 | BL10: =IF(BK10="",0,IF(AND(G10=18,H10="м"),VLOOKUP(BK10,'Отж.от стула'!$A$4:$B$68,2,0),IF(AND(G10=18,H10="ж"),VLOOKUP(BK10,'Отж.от стула'!$D$4:$E$69,2,0),""))) -> 0 | BM10: 14 | BN10: =IF(BM10="",0,IF(AND(G10=2,H10="м"),VLOOKUP(BM10,Наклон!$A$4:$B$69,2,0),IF(AND(G10=2,H10="ж"),VLOOKUP(BM10,Наклон!$A$74:$B$139,2,0),IF(AND(G10=3,H10="м"),VLOOKUP(BM10,Наклон!$D$4:$E$69,2,0),IF(AND(G10=3,H10="ж"),VLOOKUP(BM10,Наклон!$D$74:$E$139,2,0),IF(AND(G10=4,H10="м"),VLOOKUP(BM10,Наклон!$G$4:$H$69,2,0),IF(AND(G10=4,H10="ж"),VLOOKUP(BM10,Наклон!$G$74:$H$139,2,0),IF(AND(G10=5,H10="м"),VLOOKUP(BM10,Наклон!$J$4:$K$69,2,0),IF(AND(G10=5,H10="ж"),VLOOKUP(BM10,Наклон!$J$74:$K$139,2,0),IF(AND(G10=6,H10="м"),VLOOKUP(BM10,Наклон!$M$4:$N$69,2,0),IF(AND(G10=6,H10="ж"),VLOOKUP(BM10,Наклон!$M$74:$N$139,2,0),IF(AND(G10=7,H10="м"),VLOOKUP(BM10,Наклон!$P$4:$Q$69,2,0),IF(AND(G10=7,H10="ж"),VLOOKUP(BM10,Наклон!$P$74:$Q$139,2,0),IF(AND(G10=8,H10="м"),VLOOKUP(BM10,Наклон!$S$4:$T$69,2,0),IF(AND(G10=8,H10="ж"),VLOOKUP(BM10,Наклон!$S$74:$T$139,2,0),IF(AND(G10=9,H10="м"),VLOOKUP(BM10,Наклон!$V$4:$W$69,2,0),IF(AND(G10=9,H10="ж"),VLOOKUP(BM10,Наклон!$V$74:$W$139,2,0),IF(AND(G10=10,H10="м"),VLOOKUP(BM10,Наклон!$Y$4:$Z$69,2,0),IF(AND(G10=10,H10="ж"),VLOOKUP(BM10,Наклон!$Y$74:$Z$139,2,0),IF(AND(G10=11,H10="м"),VLOOKUP(BM10,Наклон!$AB$4:$AC$69,2,0),IF(AND(G10=11,H10="ж"),VLOOKUP(BM10,Наклон!$AB$74:$AC$139,2,0),IF(AND(G10=12,H10="м"),VLOOKUP(BM10,Наклон!$AE$4:$AF$69,2,0),IF(AND(G10=12,H10="ж"),VLOOKUP(BM10,Наклон!$AE$74:$AF$139,2,0),IF(AND(G10=13,H10="м"),VLOOKUP(BM10,Наклон!$AH$4:$AI$69,2,0),IF(AND(G10=13,H10="ж"),VLOOKUP(BM10,Наклон!$AH$74:$AI$139,2,0),IF(AND(G10=14,H10="м"),VLOOKUP(BM10,Наклон!$AK$4:$AL$69,2,0),IF(AND(G10=14,H10="ж"),VLOOKUP(BM10,Наклон!$AK$74:$AL$139,2,0),IF(AND(G10=15,H10="м"),VLOOKUP(BM10,Наклон!$AN$4:$AO$69,2,0),IF(AND(G10=15,H10="ж"),VLOOKUP(BM10,Наклон!$AN$74:$AO$139,2,0),IF(AND(G10=16,H10="м"),VLOOKUP(BM10,Наклон!$AQ$4:$AR$69,2,0),IF(AND(G10=16,H10="ж"),VLOOKUP(BM10,Наклон!$AQ$74:$AR$139,2,0),IF(AND(G10=17,H10="м"),VLOOKUP(BM10,Наклон!$AT$4:$AU$69,2,0),IF(AND(G10=17,H10="ж"),VLOOKUP(BM10,Наклон!$AT$74:$AU$139,2,0),IF(AND(G10=18,H10="м"),VLOOKUP(BM10,Наклон!$AW$4:$AX$69,2,0),IF(AND(G10=18,H10="ж"),VLOOKUP(BM10,Наклон!$AW$74:$AX$139,2,0)))))))))))))))))))))))))))))))))))) -> 63 | BP10: =IF(BO10="",0,IF(AND(G10=2,H10="м"),VLOOKUP(BO10,'Прыжок в длину'!$A$4:$B$294,2,0),IF(AND(G10=2,H10="ж"),VLOOKUP(BO10,'Прыжок в длину'!$D$4:$E$294,2,0),IF(AND(G10=3,H10="м"),VLOOKUP(BO10,'Прыжок в длину'!$G$4:$H$294,2,0),IF(AND(G10=3,H10="ж"),VLOOKUP(BO10,'Прыжок в длину'!$J$4:$K$294,2,0),IF(AND(G10=4,H10="м"),VLOOKUP(BO10,'Прыжок в длину'!$M$4:$N$294,2,0),IF(AND(G10=4,H10="ж"),VLOOKUP(BO10,'Прыжок в длину'!$P$4:$Q$294,2,0),IF(AND(G10=5,H10="м"),VLOOKUP(BO10,'Прыжок в длину'!$S$4:$T$294,2,0),IF(AND(G10=5,H10="ж"),VLOOKUP(BO10,'Прыжок в длину'!$V$4:$W$294,2,0),IF(AND(G10=6,H10="м"),VLOOKUP(BO10,'Прыжок в длину'!$Y$4:$Z$294,2,0),IF(AND(G10=6,H10="ж"),VLOOKUP(BO10,'Прыжок в длину'!$AB$4:$AC$294,2,0),IF(AND(G10=7,H10="м"),VLOOKUP(BO10,'Прыжок в длину'!$AE$4:$AF$294,2,0),IF(AND(G10=7,H10="ж"),VLOOKUP(BO10,'Прыжок в длину'!$AH$4:$AI$294,2,0),IF(AND(G10=8,H10="м"),VLOOKUP(BO10,'Прыжок в длину'!$AK$4:$AL$294,2,0),IF(AND(G10=8,H10="ж"),VLOOKUP(BO10,'Прыжок в длину'!$AN$4:$AO$294,2,0),IF(AND(G10=9,H10="м"),VLOOKUP(BO10,'Прыжок в длину'!$AQ$4:$AR$294,2,0),IF(AND(G10=9,H10="ж"),VLOOKUP(BO10,'Прыжок в длину'!$AT$4:$AU$294,2,0),IF(AND(G10=10,H10="м"),VLOOKUP(BO10,'Прыжок в длину'!$AW$4:$AX$294,2,0),IF(AND(G10=10,H10="ж"),VLOOKUP(BO10,'Прыжок в длину'!$AZ$4:$BA$294,2,0),IF(AND(G10=11,H10="м"),VLOOKUP(BO10,'Прыжок в длину'!BC6:$BD$294,2,0),IF(AND(G10=11,H10="ж"),VLOOKUP(BO10,'Прыжок в длину'!$BF$4:$BG$294,2,0),""))))))))))))))))))))) -> 0 | BQ10: 0 | BR10: =IF(BQ10="",0,IF(AND(G10=2,H10="м"),VLOOKUP(BQ10,Пресс!$A$4:$B$104,2,0),IF(AND(G10=2,H10="ж"),VLOOKUP(BQ10,Пресс!$D$4:$E$104,2,0),IF(AND(G10=3,H10="м"),VLOOKUP(BQ10,Пресс!$G$4:$H$104,2,0),IF(AND(G10=3,H10="ж"),VLOOKUP(BQ10,Пресс!$J$4:$K$104,2,0),IF(AND(G10=4,H10="м"),VLOOKUP(BQ10,Пресс!$M$4:$N$104,2,0),IF(AND(G10=4,H10="ж"),VLOOKUP(BQ10,Пресс!$P$4:$Q$104,2,0),IF(AND(G10=5,H10="м"),VLOOKUP(BQ10,Пресс!$S$4:$T$104,2,0),IF(AND(G10=5,H10="ж"),VLOOKUP(BQ10,Пресс!$V$4:$W$104,2,0),IF(AND(G10=6,H10="м"),VLOOKUP(BQ10,Пресс!$Y$4:$Z$104,2,0),IF(AND(G10=6,H10="ж"),VLOOKUP(BQ10,Пресс!$AB$4:$AC$104,2,0),IF(AND(G10=7,H10="м"),VLOOKUP(BQ10,Пресс!$AE$4:$AF$104,2,0),IF(AND(G10=7,H10="ж"),VLOOKUP(BQ10,Пресс!$AH$4:$AI$104,2,0),IF(AND(G10=8,H10="м"),VLOOKUP(BQ10,Пресс!$AK$4:$AL$104,2,0),IF(AND(G10=8,H10="ж"),VLOOKUP(BQ10,Пресс!$AN$4:$AO$104,2,0),IF(AND(G10=9,H10="м"),VLOOKUP(BQ10,Пресс!$AQ$4:$AR$104,2,0),IF(AND(G10=9,H10="ж"),VLOOKUP(BQ10,Пресс!$AT$4:$AU$104,2,0),IF(AND(G10=10,H10="м"),VLOOKUP(BQ10,Пресс!$AW$4:$AX$104,2,0),IF(AND(G10=10,H10="ж"),VLOOKUP(BQ10,Пресс!$AZ$4:$BA$104,2,0),IF(AND(G10=11,H10="м"),VLOOKUP(BQ10,Пресс!$BC$4:$BD$104,2,0),IF(AND(G10=11,H10="ж"),VLOOKUP(BQ10,Пресс!$BF$4:$BG$104,2,0),IF(AND(G10=12,H10="м"),VLOOKUP(BQ10,Пресс!$BI$4:$BJ$104,2,0),IF(AND(G10=12,H10="ж"),VLOOKUP(BQ10,Пресс!$BL$4:$BM$104,2,0),IF(AND(G10=13,H10="м"),VLOOKUP(BQ10,Пресс!$BO$4:$BP$104,2,0),IF(AND(G10=13,H10="ж"),VLOOKUP(BQ10,Пресс!$BR$4:$BS$104,2,0),IF(AND(G10=14,H10="м"),VLOOKUP(BQ10,Пресс!$BU$4:$BV$104,2,0),IF(AND(G10=14,H10="ж"),VLOOKUP(BQ10,Пресс!$BX$4:$BY$104,2,0),IF(AND(G10=15,H10="м"),VLOOKUP(BQ10,Пресс!$CA$4:$CB$104,2,0),IF(AND(G10=15,H10="ж"),VLOOKUP(BQ10,Пресс!$CD$4:$CE$104,2,0),IF(AND(G10=16,H10="м"),VLOOKUP(BQ10,Пресс!$CG$4:$CH$104,2,0),IF(AND(G10=16,H10="ж"),VLOOKUP(BQ10,Пресс!$CJ$4:$CK$104,2,0),IF(AND(G10=17,H10="м"),VLOOKUP(BQ10,Пресс!$CM$4:$CN$104,2,0),IF(AND(G10=17,H10="ж"),VLOOKUP(BQ10,Пресс!$CP$4:$CQ$104,2,0),IF(AND(G10=18,H10="м"),VLOOKUP(BQ10,Пресс!$CS$4:$CT$104,2,0),IF(AND(G10=18,H10="ж"),VLOOKUP(BQ10,Пресс!$CV$4:$CW$104,2,0),""))))))))))))))))))))))))))))))))))) -> 0 | BV10: =IF(BU10="",0,IF(AND(G10=4,H10="м"),VLOOKUP(BU10,Стрельба!$A$4:$B$54,2,0),IF(AND(G10=4,H10="ж"),VLOOKUP(BU10,Стрельба!$D$4:$E$54,2,0),IF(AND(G10=5,H10="м"),VLOOKUP(BU10,Стрельба!$G$4:$H$54,2,0),IF(AND(G10=5,H10="ж"),VLOOKUP(BU10,Стрельба!$J$4:$K$54,2,0),IF(AND(G10=6,H10="м"),VLOOKUP(BU10,Стрельба!$M$4:$N$54,2,0),IF(AND(G10=6,H10="ж"),VLOOKUP(BU10,Стрельба!$P$4:$Q$54,2,0),IF(AND(G10=7,H10="м"),VLOOKUP(BU10,Стрельба!$S$4:$T$54,2,0),IF(AND(G10=7,H10="ж"),VLOOKUP(BU10,Стрельба!$V$4:$W$54,2,0),IF(AND(G10=8,H10="м"),VLOOKUP(BU10,Стрельба!$Y$4:$Z$54,2,0),IF(AND(G10=8,H10="ж"),VLOOKUP(BU10,Стрельба!$AB$4:$AC$54,2,0),IF(AND(G10=9,H10="м"),VLOOKUP(BU10,Стрельба!$AE$4:$AF$54,2,0),IF(AND(G10=9,H10="ж"),VLOOKUP(BU10,Стрельба!$AH$4:$AI$54,2,0),IF(AND(G10=10,H10="м"),VLOOKUP(BU10,Стрельба!$AK$4:$AL$54,2,0),IF(AND(G10=10,H10="ж"),VLOOKUP(BU10,Стрельба!$AN$4:$AO$54,2,0),IF(AND(G10=11,H10="м"),VLOOKUP(BU10,Стрельба!$AQ$4:$AR$54,2,0),IF(AND(G10=11,H10="ж"),VLOOKUP(BU10,Стрельба!$AT$4:$AU$54,2,0),IF(AND(G10=12,H10="м"),VLOOKUP(BU10,Стрельба!$AW$4:$AX$54,2,0),IF(AND(G10=12,H10="ж"),VLOOKUP(BU10,Стрельба!$AZ$4:$BA$54,2,0),IF(AND(G10=13,H10="м"),VLOOKUP(BU10,Стрельба!$BC$4:$BD$54,2,0),IF(AND(G10=13,H10="ж"),VLOOKUP(BU10,Стрельба!$BF$4:$BG$54,2,0),IF(AND(G10=14,H10="м"),VLOOKUP(BU10,Стрельба!$BI$4:$BJ$54,2,0),IF(AND(G10=14,H10="ж"),VLOOKUP(BU10,Стрельба!$BL$4:$BM$54,2,0),IF(AND(G10=15,H10="м"),VLOOKUP(BU10,Стрельба!$BO$4:$BP$54,2,0),IF(AND(G10=15,H10="ж"),VLOOKUP(BU10,Стрельба!$BR$4:$BS$54,2,0),""))))))))))))))))))))))))) -> 0 | BZ10: =IF(BY10="",0,IF(AND(G10=3,H10="м"),VLOOKUP(BY10,'Метание 150г'!$A$4:$B$784,2,0),IF(AND(G10=3,H10="ж"),VLOOKUP(BY10,'Метание 150г'!$D$4:$E$784,2,0),IF(AND(G10=4,H10="м"),VLOOKUP(BY10,'Метание 150г'!$G$4:$H$784,2,0),IF(AND(G10=4,H10="ж"),VLOOKUP(BY10,'Метание 150г'!$J$4:$K$784,2,0),IF(AND(G10=5,H10="м"),VLOOKUP(BY10,'Метание 150г'!$M$4:$N$784,2,0),IF(AND(G10=5,H10="ж"),VLOOKUP(BY10,'Метание 150г'!$P$4:$Q$784,2,0),""))))))) -> 0 | CB10: =IF(CA10="",0,IF(AND(G10=6,H10="м"),VLOOKUP(CA10,'Метание 700г'!$A$4:$B$574,2,0),IF(AND(G10=7,H10="м"),VLOOKUP(CA10,'Метание 700г'!$D$4:$E$574,2,0),IF(AND(G10=8,H10="м"),VLOOKUP(CA10,'Метание 700г'!$G$4:$H$574,2,0),"")))) -> 0 | CD10: =IF(CC10="",0,IF(AND(G10=6,H10="ж"),VLOOKUP(CC10,'Метание 500г'!$A$4:$B$565,2,0),IF(AND(G10=7,H10="ж"),VLOOKUP(CC10,'Метание 500г'!$D$4:$E$565,2,0),IF(AND(G10=8,H10="ж"),VLOOKUP(CC10,'Метание 500г'!$G$4:$H$565,2,0),IF(AND(G10=9,H10="ж"),VLOOKUP(CC10,'Метание 500г'!$J$4:$K$565,2,0),IF(AND(G10=10,H10="ж"),VLOOKUP(CC10,'Метание 500г'!$M$4:$N$565,2,0),IF(AND(G10=11,H10="ж"),VLOOKUP(CC10,'Метание 500г'!$P$4:$Q$565,2,0),""))))))) -> 0 | CH10: =IF(CG10="",0,IF(AND(G10=2,H10="м"),VLOOKUP(CG10,'Плавание 25 м'!$A$4:$B$2333,2,0),IF(AND(G10=2,H10="ж"),VLOOKUP(CG10,'Плавание 25 м'!$D$4:$E$2333,2,0),IF(AND(G10=16,H10="м"),VLOOKUP(CG10,'Плавание 25 м'!$G$4:$H$2333,2,0),IF(AND(G10=16,H10="ж"),VLOOKUP(CG10,'Плавание 25 м'!$J$4:$K$2333,2,0),IF(AND(G10=17,H10="м"),VLOOKUP(CG10,'Плавание 25 м'!$M$4:$N$2333,2,0),IF(AND(G10=17,H10="ж"),VLOOKUP(CG10,'Плавание 25 м'!$P$4:$Q$2333,2,0),IF(AND(G10=18,H10="м"),VLOOKUP(CG10,'Плавание 25 м'!$S$4:$T$2333,2,0),IF(AND(G10=18,H10="ж"),VLOOKUP(CG10,'Плавание 25 м'!$V$4:$W$2333,2,0),""))))))))) -> 0 | CJ10: =IF(CI10="",0,IF(AND(G10=3,H10="м"),VLOOKUP(CI10,'Плавание 50 м'!$A$4:$B$1954,2,0),IF(AND(G10=3,H10="ж"),VLOOKUP(CI10,'Плавание 50 м'!$D$4:$E$1954,2,0),IF(AND(G10=4,H10="м"),VLOOKUP(CI10,'Плавание 50 м'!$G$4:$H$1954,2,0),IF(AND(G10=4,H10="ж"),VLOOKUP(CI10,'Плавание 50 м'!$J$4:$K$1954,2,0),IF(AND(G10=5,H10="м"),VLOOKUP(CI10,'Плавание 50 м'!$M$4:$N$1954,2,0),IF(AND(G10=5,H10="ж"),VLOOKUP(CI10,'Плавание 50 м'!$P$4:$Q$1954,2,0),IF(AND(G10=6,H10="м"),VLOOKUP(CI10,'Плавание 50 м'!$S$4:$T$1954,2,0),IF(AND(G10=6,H10="ж"),VLOOKUP(CI10,'Плавание 50 м'!$V$4:$W$1954,2,0),IF(AND(G10=7,H10="м"),VLOOKUP(CI10,'Плавание 50 м'!$Y$4:$Z$1954,2,0),IF(AND(G10=7,H10="ж"),VLOOKUP(CI10,'Плавание 50 м'!$AB$4:$AC$1954,2,0),IF(AND(G10=8,H10="м"),VLOOKUP(CI10,'Плавание 50 м'!$AE$4:$AF$1954,2,0),IF(AND(G10=8,H10="ж"),VLOOKUP(CI10,'Плавание 50 м'!$AH$4:$AI$1954,2,0),IF(AND(G10=9,H10="м"),VLOOKUP(CI10,'Плавание 50 м'!$AK$4:$AL$1954,2,0),IF(AND(G10=9,H10="ж"),VLOOKUP(CI10,'Плавание 50 м'!$AN$4:$AO$1954,2,0),IF(AND(G10=10,H10="м"),VLOOKUP(CI10,'Плавание 50 м'!$AQ$4:$AR$1954,2,0),IF(AND(G10=10,H10="ж"),VLOOKUP(CI10,'Плавание 50 м'!$AT$4:$AU$1954,2,0),IF(AND(G10=11,H10="м"),VLOOKUP(CI10,'Плавание 50 м'!$AW$4:$AX$1954,2,0),IF(AND(G10=11,H10="ж"),VLOOKUP(CI10,'Плавание 50 м'!$AZ$4:$BA$1954,2,0),IF(AND(G10=12,H10="м"),VLOOKUP(CI10,'Плавание 50 м'!$BC$4:$BD$1954,2,0),IF(AND(G10=12,H10="ж"),VLOOKUP(CI10,'Плавание 50 м'!$BF$4:$BG$1954,2,0),IF(AND(G10=13,H10="м"),VLOOKUP(CI10,'Плавание 50 м'!$BI$4:$BJ$1954,2,0),IF(AND(G10=13,H10="ж"),VLOOKUP(CI10,'Плавание 50 м'!$BL$4:$BM$1954,2,0),IF(AND(G10=14,H10="м"),VLOOKUP(CI10,'Плавание 50 м'!$BO$4:$BP$1954,2,0),IF(AND(G10=14,H10="ж"),VLOOKUP(CI10,'Плавание 50 м'!$BR$4:$BS$1954,2,0),IF(AND(G10=15,H10="м"),VLOOKUP(CI10,'Плавание 50 м'!$BU$4:$BV$1954,2,0),IF(AND(G10=15,H10="ж"),VLOOKUP(CI10,'Плавание 50 м'!$BX$4:$BY$1954,2,0),""))))))))))))))))))))))))))) -> 0 | CK10: =BR10+BN10+BH10 -> 63
A11: 4 | B11: Васильева Валентина Николаевна | C11: ПАО "АКРОН" - 1 | D11: 25-53-0002358 | E11: 29.04.1984 | F11: =IF(E11="",0,INT(($B$4-E11)/365.25)) -> 41 | G11: =IFERROR(VLOOKUP(F11,Ступени!$A$2:$B$99,2,0),"") -> 12 | H11: ж | J11: =IF(I11="",0,IF(AND(G11=2,H11="м"),VLOOKUP(I11,'30м'!$A$4:$B$71,2,0),IF(AND(G11=2,H11="ж"),VLOOKUP(I11,'30м'!$D$4:$E$71,2,0),IF(AND(G11=3,H11="м"),VLOOKUP(I11,'30м'!$G$4:$H$71,2,0),IF(AND(G11=3,H11="ж"),VLOOKUP(I11,'30м'!$J$4:$K$71,2,0),IF(AND(G11=4,H11="м"),VLOOKUP(I11,'30м'!$M$4:$N$71,2,0),IF(AND(G11=4,H11="ж"),VLOOKUP(I11,'30м'!$P$4:$Q$71,2,0),IF(AND(G11=5,H11="м"),VLOOKUP(I11,'30м'!$S$4:$T$71,2,0),IF(AND(G11=5,H11="ж"),VLOOKUP(I11,'30м'!$V$4:$W$71,2,0),""))))))))) -> 0 | L11: =IF(K11="",0,IF(AND(G11=4,H11="м"),VLOOKUP(K11,'60м'!$A$4:$B$129,2,0),IF(AND(G11=4,H11="ж"),VLOOKUP(K11,'60м'!$D$4:$E$129,2,0),IF(AND(G11=5,H11="м"),VLOOKUP(K11,'60м'!$G$4:$H$129,2,0),IF(AND(G11=5,H11="ж"),VLOOKUP(K11,'60м'!$J$4:$K$129,2,0),IF(AND(G11=6,H11="м"),VLOOKUP(K11,'60м'!$M$4:$N$129,2,0),IF(AND(G11=6,H11="ж"),VLOOKUP(K11,'60м'!$P$4:$Q$129,2,0),IF(AND(G11=7,H11="м"),VLOOKUP(K11,'60м'!$S$4:$T$129,2,0),IF(AND(G11=7,H11="ж"),VLOOKUP(K11,'60м'!$V$4:$W$129,2,0),IF(AND(G11=8,H11="м"),VLOOKUP(K11,'60м'!$Y$4:$Z$129,2,0),IF(AND(G11=8,H11="ж"),VLOOKUP(K11,'60м'!$AB$4:$AC$129,2,0),IF(AND(G11=9,H11="м"),VLOOKUP(K11,'60м'!$AE$4:$AF$129,2,0),IF(AND(G11=9,H11="ж"),VLOOKUP(K11,'60м'!$AH$4:$AI$129,2,0),IF(AND(G11=10,H11="м"),VLOOKUP(K11,'60м'!$AK$4:$AL$129,2,0),IF(AND(G11=10,H11="ж"),VLOOKUP(K11,'60м'!$AN$4:$AO$129,2,0),IF(AND(G11=11,H11="м"),VLOOKUP(K11,'60м'!$AQ$4:$AR$129,2,0),IF(AND(G11=11,H11="ж"),VLOOKUP(K11,'60м'!$AT$4:$AU$129,2,0),IF(AND(G11=12,H11="м"),VLOOKUP(K11,'60м'!$AW$4:$AX$129,2,0),IF(AND(G11=12,H11="ж"),VLOOKUP(K11,'60м'!$AZ$4:$BA$129,2,0),IF(AND(G11=13,H11="м"),VLOOKUP(K11,'60м'!$BC$4:$BD$129,2,0),IF(AND(G11=13,H11="ж"),VLOOKUP(K11,'60м'!$BF$4:$BG$129,2,0),""))))))))))))))))))))) -> 0 | N11: =IF(M11="",0,IF(AND(G11=6,H11="м"),VLOOKUP(M11,'100м'!$A$4:$B$134,2,0),IF(AND(G11=6,H11="ж"),VLOOKUP(M11,'100м'!$D$4:$E$134,2,0),IF(AND(G11=7,H11="м"),VLOOKUP(M11,'100м'!$G$4:$H$134,2,0),IF(AND(G11=7,H11="ж"),VLOOKUP(M11,'100м'!$J$4:$K$134,2,0),IF(AND(G11=8,H11="м"),VLOOKUP(M11,'100м'!$M$4:$N$134,2,0),IF(AND(G11=8,H11="ж"),VLOOKUP(M11,'100м'!$P$4:$Q$134,2,0),IF(AND(G11=9,H11="м"),VLOOKUP(M11,'100м'!$S$4:$T$134,2,0),IF(AND(G11=9,H11="ж"),VLOOKUP(M11,'100м'!$V$4:$W$134,2,0),""))))))))) -> 0 | R11: =IF(Q11="",0,IF(AND(G11=4,H11="м"),VLOOKUP(Q11,'1500м'!$A$4:$B$364,2,0),IF(AND(G11=4,H11="ж"),VLOOKUP(Q11,'1500м'!$D$4:$E$364,2,0),""))) -> 0 | T11: =IF(S11="",0,IF(AND(G11=5,H11="м"),VLOOKUP(S11,'2000м'!$A$4:$B$780,2,0),IF(AND(G11=5,H11="ж"),VLOOKUP(S11,'2000м'!$D$4:$E$780,2,0),IF(AND(G11=6,H11="ж"),VLOOKUP(S11,'2000м'!$G$4:$H$780,2,0),IF(AND(G11=7,H11="ж"),VLOOKUP(S11,'2000м'!$J$4:$K$780,2,0),IF(AND(G11=8,H11="ж"),VLOOKUP(S11,'2000м'!$M$4:$N$780,2,0),"")))))) -> 0 | V11: =IF(U11="",0,IF(AND(G11=6,H11="м"),VLOOKUP(U11,'3000м'!$A$4:$B$594,2,0),IF(AND(G11=7,H11="м"),VLOOKUP(U11,'3000м'!$D$4:$E$594,2,0),IF(AND(G11=8,H11="м"),VLOOKUP(U11,'3000м'!$G$4:$H$594,2,0),IF(AND(G11=9,H11="м"),VLOOKUP(U11,'3000м'!$J$4:$K$594,2,0),IF(AND(G11=10,H11="м"),VLOOKUP(U11,'3000м'!$M$4:$N$594,2,0),IF(AND(G11=11,H11="м"),VLOOKUP(U11,'3000м'!$P$4:$Q$594,2,0),""))))))) -> 0 | BB11: =IF(BA11="",0,IF(AND(G11=2,H11="м"),VLOOKUP(BA11,Подтягивание!$A$4:$B$79,2,0),IF(AND(G11=3,H11="м"),VLOOKUP(BA11,Подтягивание!$D$4:$E$79,2,0),IF(AND(G11=4,H11="м"),VLOOKUP(BA11,Подтягивание!$G$4:$H$79,2,0),IF(AND(G11=5,H11="м"),VLOOKUP(BA11,Подтягивание!$J$4:$K$79,2,0),IF(AND(G11=6,H11="м"),VLOOKUP(BA11,Подтягивание!$M$4:$N$79,2,0),IF(AND(G11=7,H11="м"),VLOOKUP(BA11,Подтягивание!$P$4:$Q$79,2,0),IF(AND(G11=8,H11="м"),VLOOKUP(BA11,Подтягивание!$S$4:$T$79,2,0),IF(AND(G11=9,H11="м"),VLOOKUP(BA11,Подтягивание!$V$4:$W$79,2,0),IF(AND(G11=10,H11="м"),VLOOKUP(BA11,Подтягивание!$Y$4:$Z$79,2,0),IF(AND(G11=11,H11="м"),VLOOKUP(BA11,Подтягивание!$AB$4:$AC$79,2,0),IF(AND(G11=12,H11="м"),VLOOKUP(BA11,Подтягивание!$AE$4:$AF$79,2,0),IF(AND(G11=13,H11="м"),VLOOKUP(BA11,Подтягивание!$AH$4:$AI$79,2,0),IF(AND(G11=14,H11="м"),VLOOKUP(BA11,Подтягивание!$AK$4:$AL$79,2,0),IF(AND(G11=15,H11="м"),VLOOKUP(BA11,Подтягивание!$AN$4:$AO$79,2,0),""))))))))))))))) -> 0 | BF11: =IF(BE11="",0,IF(AND(G11=6,H11="м"),VLOOKUP(BE11,Гиря!$A$4:$B$166,2,0),IF(AND(G11=7,H11="м"),VLOOKUP(BE11,Гиря!$D$4:$E$166,2,0),IF(AND(G11=8,H11="м"),VLOOKUP(BE11,Гиря!$G$4:$H$166,2,0),IF(AND(G11=9,H11="м"),VLOOKUP(BE11,Гиря!$J$4:$K$166,2,0),IF(AND(G11=10,H11="м"),VLOOKUP(BE11,Гиря!$M$4:$N$166,2,0),IF(AND(G11=11,H11="м"),VLOOKUP(BE11,Гиря!$P$4:$Q$166,2,0),IF(AND(G11=12,H11="м"),VLOOKUP(BE11,Гиря!$S$4:$T$166,2,0),IF(AND(G11=13,H11="м"),VLOOKUP(BE11,Гиря!$V$4:$W$166,2,0),IF(AND(G11=14,H11="м"),VLOOKUP(BE11,Гиря!$Y$4:$Z$166,2,0),IF(AND(G11=15,H11="м"),VLOOKUP(BE11,Гиря!$AB$4:$AC$166,2,0),""))))))))))) -> 0 | BG11: 16 | BH11: =IF(BG11="",0,IF(AND(G11=2,H11="м"),VLOOKUP(BG11,'Отж. от пола'!$A$4:$B$169,2,0),IF(AND(G11=2,H11="ж"),VLOOKUP(BG11,'Отж. от пола'!$D$4:$E$169,2,0),IF(AND(G11=3,H11="м"),VLOOKUP(BG11,'Отж. от пола'!$G$4:$H$169,2,0),IF(AND(G11=3,H11="ж"),VLOOKUP(BG11,'Отж. от пола'!$J$4:$K$169,2,0),IF(AND(G11=4,H11="м"),VLOOKUP(BG11,'Отж. от пола'!$M$4:$N$169,2,0),IF(AND(G11=4,H11="ж"),VLOOKUP(BG11,'Отж. от пола'!$P$4:$Q$169,2,0),IF(AND(G11=5,H11="м"),VLOOKUP(BG11,'Отж. от пола'!$S$4:$T$169,2,0),IF(AND(G11=5,H11="ж"),VLOOKUP(BG11,'Отж. от пола'!$V$4:$W$169,2,0),IF(AND(G11=6,H11="м"),VLOOKUP(BG11,'Отж. от пола'!$Y$4:$Z$169,2,0),IF(AND(G11=6,H11="ж"),VLOOKUP(BG11,'Отж. от пола'!$AB$4:$AC$169,2,0),IF(AND(G11=7,H11="м"),VLOOKUP(BG11,'Отж. от пола'!$AE$4:$AF$169,2,0),IF(AND(G11=7,H11="ж"),VLOOKUP(BG11,'Отж. от пола'!$AH$4:$AI$169,2,0),IF(AND(G11=8,H11="м"),VLOOKUP(BG11,'Отж. от пола'!$AK$4:$AL$169,2,0),IF(AND(G11=8,H11="ж"),VLOOKUP(BG11,'Отж. от пола'!$AN$4:$AO$169,2,0),IF(AND(G11=9,H11="м"),VLOOKUP(BG11,'Отж. от пола'!$AQ$4:$AR$169,2,0),IF(AND(G11=9,H11="ж"),VLOOKUP(BG11,'Отж. от пола'!$AT$4:$AU$169,2,0),IF(AND(G11=10,H11="м"),VLOOKUP(BG11,'Отж. от пола'!$AW$4:$AX$169,2,0),IF(AND(G11=10,H11="ж"),VLOOKUP(BG11,'Отж. от пола'!$AZ$4:$BA$169,2,0),IF(AND(G11=11,H11="м"),VLOOKUP(BG11,'Отж. от пола'!$BC$4:$BD$169,2,0),IF(AND(G11=11,H11="ж"),VLOOKUP(BG11,'Отж. от пола'!$BF$4:$BG$169,2,0),IF(AND(G11=12,H11="м"),VLOOKUP(BG11,'Отж. от пола'!$BI$4:$BJ$169,2,0),IF(AND(G11=12,H11="ж"),VLOOKUP(BG11,'Отж. от пола'!$BL$4:$BM$169,2,0),IF(AND(G11=13,H11="м"),VLOOKUP(BG11,'Отж. от пола'!$BO$4:$BP$169,2,0),IF(AND(G11=13,H11="ж"),VLOOKUP(BG11,'Отж. от пола'!$BR$4:$BS$169,2,0),IF(AND(G11=14,H11="м"),VLOOKUP(BG11,'Отж. от пола'!$BU$4:$BV$169,2,0),IF(AND(G11=14,H11="ж"),VLOOKUP(BG11,'Отж. от пола'!$BX$4:$BY$169,2,0),IF(AND(G11=15,H11="м"),VLOOKUP(BG11,'Отж. от пола'!$CA$4:$CB$169,2,0),IF(AND(G11=15,H11="ж"),VLOOKUP(BG11,'Отж. от пола'!$CD$4:$CE$169,2,0),""))))))))))))))))))))))))))))) -> 63 | BJ11: =IF(BI11="",0,IF(AND(G11=16,H11="м"),VLOOKUP(BI11,'Отж.от скамьи'!$A$4:$B$79,2,0),IF(AND(G11=16,H11="ж"),VLOOKUP(BI11,'Отж.от скамьи'!$D$4:$E$79,2,0),IF(AND(G11=17,H11="м"),VLOOKUP(BI11,'Отж.от скамьи'!$G$4:$H$79,2,0),IF(AND(G11=17,H11="ж"),VLOOKUP(BI11,'Отж.от скамьи'!$J$4:$K$79,2,0),""))))) -> 0 | BL11: =IF(BK11="",0,IF(AND(G11=18,H11="м"),VLOOKUP(BK11,'Отж.от стула'!$A$4:$B$68,2,0),IF(AND(G11=18,H11="ж"),VLOOKUP(BK11,'Отж.от стула'!$D$4:$E$69,2,0),""))) -> 0 | BM11: 18 | BN11: =IF(BM11="",0,IF(AND(G11=2,H11="м"),VLOOKUP(BM11,Наклон!$A$4:$B$69,2,0),IF(AND(G11=2,H11="ж"),VLOOKUP(BM11,Наклон!$A$74:$B$139,2,0),IF(AND(G11=3,H11="м"),VLOOKUP(BM11,Наклон!$D$4:$E$69,2,0),IF(AND(G11=3,H11="ж"),VLOOKUP(BM11,Наклон!$D$74:$E$139,2,0),IF(AND(G11=4,H11="м"),VLOOKUP(BM11,Наклон!$G$4:$H$69,2,0),IF(AND(G11=4,H11="ж"),VLOOKUP(BM11,Наклон!$G$74:$H$139,2,0),IF(AND(G11=5,H11="м"),VLOOKUP(BM11,Наклон!$J$4:$K$69,2,0),IF(AND(G11=5,H11="ж"),VLOOKUP(BM11,Наклон!$J$74:$K$139,2,0),IF(AND(G11=6,H11="м"),VLOOKUP(BM11,Наклон!$M$4:$N$69,2,0),IF(AND(G11=6,H11="ж"),VLOOKUP(BM11,Наклон!$M$74:$N$139,2,0),IF(AND(G11=7,H11="м"),VLOOKUP(BM11,Наклон!$P$4:$Q$69,2,0),IF(AND(G11=7,H11="ж"),VLOOKUP(BM11,Наклон!$P$74:$Q$139,2,0),IF(AND(G11=8,H11="м"),VLOOKUP(BM11,Наклон!$S$4:$T$69,2,0),IF(AND(G11=8,H11="ж"),VLOOKUP(BM11,Наклон!$S$74:$T$139,2,0),IF(AND(G11=9,H11="м"),VLOOKUP(BM11,Наклон!$V$4:$W$69,2,0),IF(AND(G11=9,H11="ж"),VLOOKUP(BM11,Наклон!$V$74:$W$139,2,0),IF(AND(G11=10,H11="м"),VLOOKUP(BM11,Наклон!$Y$4:$Z$69,2,0),IF(AND(G11=10,H11="ж"),VLOOKUP(BM11,Наклон!$Y$74:$Z$139,2,0),IF(AND(G11=11,H11="м"),VLOOKUP(BM11,Наклон!$AB$4:$AC$69,2,0),IF(AND(G11=11,H11="ж"),VLOOKUP(BM11,Наклон!$AB$74:$AC$139,2,0),IF(AND(G11=12,H11="м"),VLOOKUP(BM11,Наклон!$AE$4:$AF$69,2,0),IF(AND(G11=12,H11="ж"),VLOOKUP(BM11,Наклон!$AE$74:$AF$139,2,0),IF(AND(G11=13,H11="м"),VLOOKUP(BM11,Наклон!$AH$4:$AI$69,2,0),IF(AND(G11=13,H11="ж"),VLOOKUP(BM11,Наклон!$AH$74:$AI$139,2,0),IF(AND(G11=14,H11="м"),VLOOKUP(BM11,Наклон!$AK$4:$AL$69,2,0),IF(AND(G11=14,H11="ж"),VLOOKUP(BM11,Наклон!$AK$74:$AL$139,2,0),IF(AND(G11=15,H11="м"),VLOOKUP(BM11,Наклон!$AN$4:$AO$69,2,0),IF(AND(G11=15,H11="ж"),VLOOKUP(BM11,Наклон!$AN$74:$AO$139,2,0),IF(AND(G11=16,H11="м"),VLOOKUP(BM11,Наклон!$AQ$4:$AR$69,2,0),IF(AND(G11=16,H11="ж"),VLOOKUP(BM11,Наклон!$AQ$74:$AR$139,2,0),IF(AND(G11=17,H11="м"),VLOOKUP(BM11,Наклон!$AT$4:$AU$69,2,0),IF(AND(G11=17,H11="ж"),VLOOKUP(BM11,Наклон!$AT$74:$AU$139,2,0),IF(AND(G11=18,H11="м"),VLOOKUP(BM11,Наклон!$AW$4:$AX$69,2,0),IF(AND(G11=18,H11="ж"),VLOOKUP(BM11,Наклон!$AW$74:$AX$139,2,0)))))))))))))))))))))))))))))))))))) -> 71 | BP11: =IF(BO11="",0,IF(AND(G11=2,H11="м"),VLOOKUP(BO11,'Прыжок в длину'!$A$4:$B$294,2,0),IF(AND(G11=2,H11="ж"),VLOOKUP(BO11,'Прыжок в длину'!$D$4:$E$294,2,0),IF(AND(G11=3,H11="м"),VLOOKUP(BO11,'Прыжок в длину'!$G$4:$H$294,2,0),IF(AND(G11=3,H11="ж"),VLOOKUP(BO11,'Прыжок в длину'!$J$4:$K$294,2,0),IF(AND(G11=4,H11="м"),VLOOKUP(BO11,'Прыжок в длину'!$M$4:$N$294,2,0),IF(AND(G11=4,H11="ж"),VLOOKUP(BO11,'Прыжок в длину'!$P$4:$Q$294,2,0),IF(AND(G11=5,H11="м"),VLOOKUP(BO11,'Прыжок в длину'!$S$4:$T$294,2,0),IF(AND(G11=5,H11="ж"),VLOOKUP(BO11,'Прыжок в длину'!$V$4:$W$294,2,0),IF(AND(G11=6,H11="м"),VLOOKUP(BO11,'Прыжок в длину'!$Y$4:$Z$294,2,0),IF(AND(G11=6,H11="ж"),VLOOKUP(BO11,'Прыжок в длину'!$AB$4:$AC$294,2,0),IF(AND(G11=7,H11="м"),VLOOKUP(BO11,'Прыжок в длину'!$AE$4:$AF$294,2,0),IF(AND(G11=7,H11="ж"),VLOOKUP(BO11,'Прыжок в длину'!$AH$4:$AI$294,2,0),IF(AND(G11=8,H11="м"),VLOOKUP(BO11,'Прыжок в длину'!$AK$4:$AL$294,2,0),IF(AND(G11=8,H11="ж"),VLOOKUP(BO11,'Прыжок в длину'!$AN$4:$AO$294,2,0),IF(AND(G11=9,H11="м"),VLOOKUP(BO11,'Прыжок в длину'!$AQ$4:$AR$294,2,0),IF(AND(G11=9,H11="ж"),VLOOKUP(BO11,'Прыжок в длину'!$AT$4:$AU$294,2,0),IF(AND(G11=10,H11="м"),VLOOKUP(BO11,'Прыжок в длину'!$AW$4:$AX$294,2,0),IF(AND(G11=10,H11="ж"),VLOOKUP(BO11,'Прыжок в длину'!$AZ$4:$BA$294,2,0),IF(AND(G11=11,H11="м"),VLOOKUP(BO11,'Прыжок в длину'!BC7:$BD$294,2,0),IF(AND(G11=11,H11="ж"),VLOOKUP(BO11,'Прыжок в длину'!$BF$4:$BG$294,2,0),""))))))))))))))))))))) -> 0 | BQ11: 37 | BR11: =IF(BQ11="",0,IF(AND(G11=2,H11="м"),VLOOKUP(BQ11,Пресс!$A$4:$B$104,2,0),IF(AND(G11=2,H11="ж"),VLOOKUP(BQ11,Пресс!$D$4:$E$104,2,0),IF(AND(G11=3,H11="м"),VLOOKUP(BQ11,Пресс!$G$4:$H$104,2,0),IF(AND(G11=3,H11="ж"),VLOOKUP(BQ11,Пресс!$J$4:$K$104,2,0),IF(AND(G11=4,H11="м"),VLOOKUP(BQ11,Пресс!$M$4:$N$104,2,0),IF(AND(G11=4,H11="ж"),VLOOKUP(BQ11,Пресс!$P$4:$Q$104,2,0),IF(AND(G11=5,H11="м"),VLOOKUP(BQ11,Пресс!$S$4:$T$104,2,0),IF(AND(G11=5,H11="ж"),VLOOKUP(BQ11,Пресс!$V$4:$W$104,2,0),IF(AND(G11=6,H11="м"),VLOOKUP(BQ11,Пресс!$Y$4:$Z$104,2,0),IF(AND(G11=6,H11="ж"),VLOOKUP(BQ11,Пресс!$AB$4:$AC$104,2,0),IF(AND(G11=7,H11="м"),VLOOKUP(BQ11,Пресс!$AE$4:$AF$104,2,0),IF(AND(G11=7,H11="ж"),VLOOKUP(BQ11,Пресс!$AH$4:$AI$104,2,0),IF(AND(G11=8,H11="м"),VLOOKUP(BQ11,Пресс!$AK$4:$AL$104,2,0),IF(AND(G11=8,H11="ж"),VLOOKUP(BQ11,Пресс!$AN$4:$AO$104,2,0),IF(AND(G11=9,H11="м"),VLOOKUP(BQ11,Пресс!$AQ$4:$AR$104,2,0),IF(AND(G11=9,H11="ж"),VLOOKUP(BQ11,Пресс!$AT$4:$AU$104,2,0),IF(AND(G11=10,H11="м"),VLOOKUP(BQ11,Пресс!$AW$4:$AX$104,2,0),IF(AND(G11=10,H11="ж"),VLOOKUP(BQ11,Пресс!$AZ$4:$BA$104,2,0),IF(AND(G11=11,H11="м"),VLOOKUP(BQ11,Пресс!$BC$4:$BD$104,2,0),IF(AND(G11=11,H11="ж"),VLOOKUP(BQ11,Пресс!$BF$4:$BG$104,2,0),IF(AND(G11=12,H11="м"),VLOOKUP(BQ11,Пресс!$BI$4:$BJ$104,2,0),IF(AND(G11=12,H11="ж"),VLOOKUP(BQ11,Пресс!$BL$4:$BM$104,2,0),IF(AND(G11=13,H11="м"),VLOOKUP(BQ11,Пресс!$BO$4:$BP$104,2,0),IF(AND(G11=13,H11="ж"),VLOOKUP(BQ11,Пресс!$BR$4:$BS$104,2,0),IF(AND(G11=14,H11="м"),VLOOKUP(BQ11,Пресс!$BU$4:$BV$104,2,0),IF(AND(G11=14,H11="ж"),VLOOKUP(BQ11,Пресс!$BX$4:$BY$104,2,0),IF(AND(G11=15,H11="м"),VLOOKUP(BQ11,Пресс!$CA$4:$CB$104,2,0),IF(AND(G11=15,H11="ж"),VLOOKUP(BQ11,Пресс!$CD$4:$CE$104,2,0),IF(AND(G11=16,H11="м"),VLOOKUP(BQ11,Пресс!$CG$4:$CH$104,2,0),IF(AND(G11=16,H11="ж"),VLOOKUP(BQ11,Пресс!$CJ$4:$CK$104,2,0),IF(AND(G11=17,H11="м"),VLOOKUP(BQ11,Пресс!$CM$4:$CN$104,2,0),IF(AND(G11=17,H11="ж"),VLOOKUP(BQ11,Пресс!$CP$4:$CQ$104,2,0),IF(AND(G11=18,H11="м"),VLOOKUP(BQ11,Пресс!$CS$4:$CT$104,2,0),IF(AND(G11=18,H11="ж"),VLOOKUP(BQ11,Пресс!$CV$4:$CW$104,2,0),""))))))))))))))))))))))))))))))))))) -> 66 | BV11: =IF(BU11="",0,IF(AND(G11=4,H11="м"),VLOOKUP(BU11,Стрельба!$A$4:$B$54,2,0),IF(AND(G11=4,H11="ж"),VLOOKUP(BU11,Стрельба!$D$4:$E$54,2,0),IF(AND(G11=5,H11="м"),VLOOKUP(BU11,Стрельба!$G$4:$H$54,2,0),IF(AND(G11=5,H11="ж"),VLOOKUP(BU11,Стрельба!$J$4:$K$54,2,0),IF(AND(G11=6,H11="м"),VLOOKUP(BU11,Стрельба!$M$4:$N$54,2,0),IF(AND(G11=6,H11="ж"),VLOOKUP(BU11,Стрельба!$P$4:$Q$54,2,0),IF(AND(G11=7,H11="м"),VLOOKUP(BU11,Стрельба!$S$4:$T$54,2,0),IF(AND(G11=7,H11="ж"),VLOOKUP(BU11,Стрельба!$V$4:$W$54,2,0),IF(AND(G11=8,H11="м"),VLOOKUP(BU11,Стрельба!$Y$4:$Z$54,2,0),IF(AND(G11=8,H11="ж"),VLOOKUP(BU11,Стрельба!$AB$4:$AC$54,2,0),IF(AND(G11=9,H11="м"),VLOOKUP(BU11,Стрельба!$AE$4:$AF$54,2,0),IF(AND(G11=9,H11="ж"),VLOOKUP(BU11,Стрельба!$AH$4:$AI$54,2,0),IF(AND(G11=10,H11="м"),VLOOKUP(BU11,Стрельба!$AK$4:$AL$54,2,0),IF(AND(G11=10,H11="ж"),VLOOKUP(BU11,Стрельба!$AN$4:$AO$54,2,0),IF(AND(G11=11,H11="м"),VLOOKUP(BU11,Стрельба!$AQ$4:$AR$54,2,0),IF(AND(G11=11,H11="ж"),VLOOKUP(BU11,Стрельба!$AT$4:$AU$54,2,0),IF(AND(G11=12,H11="м"),VLOOKUP(BU11,Стрельба!$AW$4:$AX$54,2,0),IF(AND(G11=12,H11="ж"),VLOOKUP(BU11,Стрельба!$AZ$4:$BA$54,2,0),IF(AND(G11=13,H11="м"),VLOOKUP(BU11,Стрельба!$BC$4:$BD$54,2,0),IF(AND(G11=13,H11="ж"),VLOOKUP(BU11,Стрельба!$BF$4:$BG$54,2,0),IF(AND(G11=14,H11="м"),VLOOKUP(BU11,Стрельба!$BI$4:$BJ$54,2,0),IF(AND(G11=14,H11="ж"),VLOOKUP(BU11,Стрельба!$BL$4:$BM$54,2,0),IF(AND(G11=15,H11="м"),VLOOKUP(BU11,Стрельба!$BO$4:$BP$54,2,0),IF(AND(G11=15,H11="ж"),VLOOKUP(BU11,Стрельба!$BR$4:$BS$54,2,0),""))))))))))))))))))))))))) -> 0 | BZ11: =IF(BY11="",0,IF(AND(G11=3,H11="м"),VLOOKUP(BY11,'Метание 150г'!$A$4:$B$784,2,0),IF(AND(G11=3,H11="ж"),VLOOKUP(BY11,'Метание 150г'!$D$4:$E$784,2,0),IF(AND(G11=4,H11="м"),VLOOKUP(BY11,'Метание 150г'!$G$4:$H$784,2,0),IF(AND(G11=4,H11="ж"),VLOOKUP(BY11,'Метание 150г'!$J$4:$K$784,2,0),IF(AND(G11=5,H11="м"),VLOOKUP(BY11,'Метание 150г'!$M$4:$N$784,2,0),IF(AND(G11=5,H11="ж"),VLOOKUP(BY11,'Метание 150г'!$P$4:$Q$784,2,0),""))))))) -> 0 | CB11: =IF(CA11="",0,IF(AND(G11=6,H11="м"),VLOOKUP(CA11,'Метание 700г'!$A$4:$B$574,2,0),IF(AND(G11=7,H11="м"),VLOOKUP(CA11,'Метание 700г'!$D$4:$E$574,2,0),IF(AND(G11=8,H11="м"),VLOOKUP(CA11,'Метание 700г'!$G$4:$H$574,2,0),"")))) -> 0 | CD11: =IF(CC11="",0,IF(AND(G11=6,H11="ж"),VLOOKUP(CC11,'Метание 500г'!$A$4:$B$565,2,0),IF(AND(G11=7,H11="ж"),VLOOKUP(CC11,'Метание 500г'!$D$4:$E$565,2,0),IF(AND(G11=8,H11="ж"),VLOOKUP(CC11,'Метание 500г'!$G$4:$H$565,2,0),IF(AND(G11=9,H11="ж"),VLOOKUP(CC11,'Метание 500г'!$J$4:$K$565,2,0),IF(AND(G11=10,H11="ж"),VLOOKUP(CC11,'Метание 500г'!$M$4:$N$565,2,0),IF(AND(G11=11,H11="ж"),VLOOKUP(CC11,'Метание 500г'!$P$4:$Q$565,2,0),""))))))) -> 0 | CH11: =IF(CG11="",0,IF(AND(G11=2,H11="м"),VLOOKUP(CG11,'Плавание 25 м'!$A$4:$B$2333,2,0),IF(AND(G11=2,H11="ж"),VLOOKUP(CG11,'Плавание 25 м'!$D$4:$E$2333,2,0),IF(AND(G11=16,H11="м"),VLOOKUP(CG11,'Плавание 25 м'!$G$4:$H$2333,2,0),IF(AND(G11=16,H11="ж"),VLOOKUP(CG11,'Плавание 25 м'!$J$4:$K$2333,2,0),IF(AND(G11=17,H11="м"),VLOOKUP(CG11,'Плавание 25 м'!$M$4:$N$2333,2,0),IF(AND(G11=17,H11="ж"),VLOOKUP(CG11,'Плавание 25 м'!$P$4:$Q$2333,2,0),IF(AND(G11=18,H11="м"),VLOOKUP(CG11,'Плавание 25 м'!$S$4:$T$2333,2,0),IF(AND(G11=18,H11="ж"),VLOOKUP(CG11,'Плавание 25 м'!$V$4:$W$2333,2,0),""))))))))) -> 0 | CJ11: =IF(CI11="",0,IF(AND(G11=3,H11="м"),VLOOKUP(CI11,'Плавание 50 м'!$A$4:$B$1954,2,0),IF(AND(G11=3,H11="ж"),VLOOKUP(CI11,'Плавание 50 м'!$D$4:$E$1954,2,0),IF(AND(G11=4,H11="м"),VLOOKUP(CI11,'Плавание 50 м'!$G$4:$H$1954,2,0),IF(AND(G11=4,H11="ж"),VLOOKUP(CI11,'Плавание 50 м'!$J$4:$K$1954,2,0),IF(AND(G11=5,H11="м"),VLOOKUP(CI11,'Плавание 50 м'!$M$4:$N$1954,2,0),IF(AND(G11=5,H11="ж"),VLOOKUP(CI11,'Плавание 50 м'!$P$4:$Q$1954,2,0),IF(AND(G11=6,H11="м"),VLOOKUP(CI11,'Плавание 50 м'!$S$4:$T$1954,2,0),IF(AND(G11=6,H11="ж"),VLOOKUP(CI11,'Плавание 50 м'!$V$4:$W$1954,2,0),IF(AND(G11=7,H11="м"),VLOOKUP(CI11,'Плавание 50 м'!$Y$4:$Z$1954,2,0),IF(AND(G11=7,H11="ж"),VLOOKUP(CI11,'Плавание 50 м'!$AB$4:$AC$1954,2,0),IF(AND(G11=8,H11="м"),VLOOKUP(CI11,'Плавание 50 м'!$AE$4:$AF$1954,2,0),IF(AND(G11=8,H11="ж"),VLOOKUP(CI11,'Плавание 50 м'!$AH$4:$AI$1954,2,0),IF(AND(G11=9,H11="м"),VLOOKUP(CI11,'Плавание 50 м'!$AK$4:$AL$1954,2,0),IF(AND(G11=9,H11="ж"),VLOOKUP(CI11,'Плавание 50 м'!$AN$4:$AO$1954,2,0),IF(AND(G11=10,H11="м"),VLOOKUP(CI11,'Плавание 50 м'!$AQ$4:$AR$1954,2,0),IF(AND(G11=10,H11="ж"),VLOOKUP(CI11,'Плавание 50 м'!$AT$4:$AU$1954,2,0),IF(AND(G11=11,H11="м"),VLOOKUP(CI11,'Плавание 50 м'!$AW$4:$AX$1954,2,0),IF(AND(G11=11,H11="ж"),VLOOKUP(CI11,'Плавание 50 м'!$AZ$4:$BA$1954,2,0),IF(AND(G11=12,H11="м"),VLOOKUP(CI11,'Плавание 50 м'!$BC$4:$BD$1954,2,0),IF(AND(G11=12,H11="ж"),VLOOKUP(CI11,'Плавание 50 м'!$BF$4:$BG$1954,2,0),IF(AND(G11=13,H11="м"),VLOOKUP(CI11,'Плавание 50 м'!$BI$4:$BJ$1954,2,0),IF(AND(G11=13,H11="ж"),VLOOKUP(CI11,'Плавание 50 м'!$BL$4:$BM$1954,2,0),IF(AND(G11=14,H11="м"),VLOOKUP(CI11,'Плавание 50 м'!$BO$4:$BP$1954,2,0),IF(AND(G11=14,H11="ж"),VLOOKUP(CI11,'Плавание 50 м'!$BR$4:$BS$1954,2,0),IF(AND(G11=15,H11="м"),VLOOKUP(CI11,'Плавание 50 м'!$BU$4:$BV$1954,2,0),IF(AND(G11=15,H11="ж"),VLOOKUP(CI11,'Плавание 50 м'!$BX$4:$BY$1954,2,0),""))))))))))))))))))))))))))) -> 0 | CK11: =BR11+BN11+BH11 -> 200
A12: 5 | B12: Иванов Дмитрий Владимирович | C12: ПАО "АКРОН" - 1 | D12: 25-53-0007169 | E12: 04.04.1991 | F12: =IF(E12="",0,INT(($B$4-E12)/365.25)) -> 34 | G12: =IFERROR(VLOOKUP(F12,Ступени!$A$2:$B$99,2,0),"") -> 10 | H12: м | J12: =IF(I12="",0,IF(AND(G12=2,H12="м"),VLOOKUP(I12,'30м'!$A$4:$B$71,2,0),IF(AND(G12=2,H12="ж"),VLOOKUP(I12,'30м'!$D$4:$E$71,2,0),IF(AND(G12=3,H12="м"),VLOOKUP(I12,'30м'!$G$4:$H$71,2,0),IF(AND(G12=3,H12="ж"),VLOOKUP(I12,'30м'!$J$4:$K$71,2,0),IF(AND(G12=4,H12="м"),VLOOKUP(I12,'30м'!$M$4:$N$71,2,0),IF(AND(G12=4,H12="ж"),VLOOKUP(I12,'30м'!$P$4:$Q$71,2,0),IF(AND(G12=5,H12="м"),VLOOKUP(I12,'30м'!$S$4:$T$71,2,0),IF(AND(G12=5,H12="ж"),VLOOKUP(I12,'30м'!$V$4:$W$71,2,0),""))))))))) -> 0 | L12: =IF(K12="",0,IF(AND(G12=4,H12="м"),VLOOKUP(K12,'60м'!$A$4:$B$129,2,0),IF(AND(G12=4,H12="ж"),VLOOKUP(K12,'60м'!$D$4:$E$129,2,0),IF(AND(G12=5,H12="м"),VLOOKUP(K12,'60м'!$G$4:$H$129,2,0),IF(AND(G12=5,H12="ж"),VLOOKUP(K12,'60м'!$J$4:$K$129,2,0),IF(AND(G12=6,H12="м"),VLOOKUP(K12,'60м'!$M$4:$N$129,2,0),IF(AND(G12=6,H12="ж"),VLOOKUP(K12,'60м'!$P$4:$Q$129,2,0),IF(AND(G12=7,H12="м"),VLOOKUP(K12,'60м'!$S$4:$T$129,2,0),IF(AND(G12=7,H12="ж"),VLOOKUP(K12,'60м'!$V$4:$W$129,2,0),IF(AND(G12=8,H12="м"),VLOOKUP(K12,'60м'!$Y$4:$Z$129,2,0),IF(AND(G12=8,H12="ж"),VLOOKUP(K12,'60м'!$AB$4:$AC$129,2,0),IF(AND(G12=9,H12="м"),VLOOKUP(K12,'60м'!$AE$4:$AF$129,2,0),IF(AND(G12=9,H12="ж"),VLOOKUP(K12,'60м'!$AH$4:$AI$129,2,0),IF(AND(G12=10,H12="м"),VLOOKUP(K12,'60м'!$AK$4:$AL$129,2,0),IF(AND(G12=10,H12="ж"),VLOOKUP(K12,'60м'!$AN$4:$AO$129,2,0),IF(AND(G12=11,H12="м"),VLOOKUP(K12,'60м'!$AQ$4:$AR$129,2,0),IF(AND(G12=11,H12="ж"),VLOOKUP(K12,'60м'!$AT$4:$AU$129,2,0),IF(AND(G12=12,H12="м"),VLOOKUP(K12,'60м'!$AW$4:$AX$129,2,0),IF(AND(G12=12,H12="ж"),VLOOKUP(K12,'60м'!$AZ$4:$BA$129,2,0),IF(AND(G12=13,H12="м"),VLOOKUP(K12,'60м'!$BC$4:$BD$129,2,0),IF(AND(G12=13,H12="ж"),VLOOKUP(K12,'60м'!$BF$4:$BG$129,2,0),""))))))))))))))))))))) -> 0 | N12: =IF(M12="",0,IF(AND(G12=6,H12="м"),VLOOKUP(M12,'100м'!$A$4:$B$134,2,0),IF(AND(G12=6,H12="ж"),VLOOKUP(M12,'100м'!$D$4:$E$134,2,0),IF(AND(G12=7,H12="м"),VLOOKUP(M12,'100м'!$G$4:$H$134,2,0),IF(AND(G12=7,H12="ж"),VLOOKUP(M12,'100м'!$J$4:$K$134,2,0),IF(AND(G12=8,H12="м"),VLOOKUP(M12,'100м'!$M$4:$N$134,2,0),IF(AND(G12=8,H12="ж"),VLOOKUP(M12,'100м'!$P$4:$Q$134,2,0),IF(AND(G12=9,H12="м"),VLOOKUP(M12,'100м'!$S$4:$T$134,2,0),IF(AND(G12=9,H12="ж"),VLOOKUP(M12,'100м'!$V$4:$W$134,2,0),""))))))))) -> 0 | R12: =IF(Q12="",0,IF(AND(G12=4,H12="м"),VLOOKUP(Q12,'1500м'!$A$4:$B$364,2,0),IF(AND(G12=4,H12="ж"),VLOOKUP(Q12,'1500м'!$D$4:$E$364,2,0),""))) -> 0 | T12: =IF(S12="",0,IF(AND(G12=5,H12="м"),VLOOKUP(S12,'2000м'!$A$4:$B$780,2,0),IF(AND(G12=5,H12="ж"),VLOOKUP(S12,'2000м'!$D$4:$E$780,2,0),IF(AND(G12=6,H12="ж"),VLOOKUP(S12,'2000м'!$G$4:$H$780,2,0),IF(AND(G12=7,H12="ж"),VLOOKUP(S12,'2000м'!$J$4:$K$780,2,0),IF(AND(G12=8,H12="ж"),VLOOKUP(S12,'2000м'!$M$4:$N$780,2,0),"")))))) -> 0 | V12: =IF(U12="",0,IF(AND(G12=6,H12="м"),VLOOKUP(U12,'3000м'!$A$4:$B$594,2,0),IF(AND(G12=7,H12="м"),VLOOKUP(U12,'3000м'!$D$4:$E$594,2,0),IF(AND(G12=8,H12="м"),VLOOKUP(U12,'3000м'!$G$4:$H$594,2,0),IF(AND(G12=9,H12="м"),VLOOKUP(U12,'3000м'!$J$4:$K$594,2,0),IF(AND(G12=10,H12="м"),VLOOKUP(U12,'3000м'!$M$4:$N$594,2,0),IF(AND(G12=11,H12="м"),VLOOKUP(U12,'3000м'!$P$4:$Q$594,2,0),""))))))) -> 0 | BB12: =IF(BA12="",0,IF(AND(G12=2,H12="м"),VLOOKUP(BA12,Подтягивание!$A$4:$B$79,2,0),IF(AND(G12=3,H12="м"),VLOOKUP(BA12,Подтягивание!$D$4:$E$79,2,0),IF(AND(G12=4,H12="м"),VLOOKUP(BA12,Подтягивание!$G$4:$H$79,2,0),IF(AND(G12=5,H12="м"),VLOOKUP(BA12,Подтягивание!$J$4:$K$79,2,0),IF(AND(G12=6,H12="м"),VLOOKUP(BA12,Подтягивание!$M$4:$N$79,2,0),IF(AND(G12=7,H12="м"),VLOOKUP(BA12,Подтягивание!$P$4:$Q$79,2,0),IF(AND(G12=8,H12="м"),VLOOKUP(BA12,Подтягивание!$S$4:$T$79,2,0),IF(AND(G12=9,H12="м"),VLOOKUP(BA12,Подтягивание!$V$4:$W$79,2,0),IF(AND(G12=10,H12="м"),VLOOKUP(BA12,Подтягивание!$Y$4:$Z$79,2,0),IF(AND(G12=11,H12="м"),VLOOKUP(BA12,Подтягивание!$AB$4:$AC$79,2,0),IF(AND(G12=12,H12="м"),VLOOKUP(BA12,Подтягивание!$AE$4:$AF$79,2,0),IF(AND(G12=13,H12="м"),VLOOKUP(BA12,Подтягивание!$AH$4:$AI$79,2,0),IF(AND(G12=14,H12="м"),VLOOKUP(BA12,Подтягивание!$AK$4:$AL$79,2,0),IF(AND(G12=15,H12="м"),VLOOKUP(BA12,Подтягивание!$AN$4:$AO$79,2,0),""))))))))))))))) -> 0 | BF12: =IF(BE12="",0,IF(AND(G12=6,H12="м"),VLOOKUP(BE12,Гиря!$A$4:$B$166,2,0),IF(AND(G12=7,H12="м"),VLOOKUP(BE12,Гиря!$D$4:$E$166,2,0),IF(AND(G12=8,H12="м"),VLOOKUP(BE12,Гиря!$G$4:$H$166,2,0),IF(AND(G12=9,H12="м"),VLOOKUP(BE12,Гиря!$J$4:$K$166,2,0),IF(AND(G12=10,H12="м"),VLOOKUP(BE12,Гиря!$M$4:$N$166,2,0),IF(AND(G12=11,H12="м"),VLOOKUP(BE12,Гиря!$P$4:$Q$166,2,0),IF(AND(G12=12,H12="м"),VLOOKUP(BE12,Гиря!$S$4:$T$166,2,0),IF(AND(G12=13,H12="м"),VLOOKUP(BE12,Гиря!$V$4:$W$166,2,0),IF(AND(G12=14,H12="м"),VLOOKUP(BE12,Гиря!$Y$4:$Z$166,2,0),IF(AND(G12=15,H12="м"),VLOOKUP(BE12,Гиря!$AB$4:$AC$166,2,0),""))))))))))) -> 0 | BG12: 50 | BH12: =IF(BG12="",0,IF(AND(G12=2,H12="м"),VLOOKUP(BG12,'Отж. от пола'!$A$4:$B$169,2,0),IF(AND(G12=2,H12="ж"),VLOOKUP(BG12,'Отж. от пола'!$D$4:$E$169,2,0),IF(AND(G12=3,H12="м"),VLOOKUP(BG12,'Отж. от пола'!$G$4:$H$169,2,0),IF(AND(G12=3,H12="ж"),VLOOKUP(BG12,'Отж. от пола'!$J$4:$K$169,2,0),IF(AND(G12=4,H12="м"),VLOOKUP(BG12,'Отж. от пола'!$M$4:$N$169,2,0),IF(AND(G12=4,H12="ж"),VLOOKUP(BG12,'Отж. от пола'!$P$4:$Q$169,2,0),IF(AND(G12=5,H12="м"),VLOOKUP(BG12,'Отж. от пола'!$S$4:$T$169,2,0),IF(AND(G12=5,H12="ж"),VLOOKUP(BG12,'Отж. от пола'!$V$4:$W$169,2,0),IF(AND(G12=6,H12="м"),VLOOKUP(BG12,'Отж. от пола'!$Y$4:$Z$169,2,0),IF(AND(G12=6,H12="ж"),VLOOKUP(BG12,'Отж. от пола'!$AB$4:$AC$169,2,0),IF(AND(G12=7,H12="м"),VLOOKUP(BG12,'Отж. от пола'!$AE$4:$AF$169,2,0),IF(AND(G12=7,H12="ж"),VLOOKUP(BG12,'Отж. от пола'!$AH$4:$AI$169,2,0),IF(AND(G12=8,H12="м"),VLOOKUP(BG12,'Отж. от пола'!$AK$4:$AL$169,2,0),IF(AND(G12=8,H12="ж"),VLOOKUP(BG12,'Отж. от пола'!$AN$4:$AO$169,2,0),IF(AND(G12=9,H12="м"),VLOOKUP(BG12,'Отж. от пола'!$AQ$4:$AR$169,2,0),IF(AND(G12=9,H12="ж"),VLOOKUP(BG12,'Отж. от пола'!$AT$4:$AU$169,2,0),IF(AND(G12=10,H12="м"),VLOOKUP(BG12,'Отж. от пола'!$AW$4:$AX$169,2,0),IF(AND(G12=10,H12="ж"),VLOOKUP(BG12,'Отж. от пола'!$AZ$4:$BA$169,2,0),IF(AND(G12=11,H12="м"),VLOOKUP(BG12,'Отж. от пола'!$BC$4:$BD$169,2,0),IF(AND(G12=11,H12="ж"),VLOOKUP(BG12,'Отж. от пола'!$BF$4:$BG$169,2,0),IF(AND(G12=12,H12="м"),VLOOKUP(BG12,'Отж. от пола'!$BI$4:$BJ$169,2,0),IF(AND(G12=12,H12="ж"),VLOOKUP(BG12,'Отж. от пола'!$BL$4:$BM$169,2,0),IF(AND(G12=13,H12="м"),VLOOKUP(BG12,'Отж. от пола'!$BO$4:$BP$169,2,0),IF(AND(G12=13,H12="ж"),VLOOKUP(BG12,'Отж. от пола'!$BR$4:$BS$169,2,0),IF(AND(G12=14,H12="м"),VLOOKUP(BG12,'Отж. от пола'!$BU$4:$BV$169,2,0),IF(AND(G12=14,H12="ж"),VLOOKUP(BG12,'Отж. от пола'!$BX$4:$BY$169,2,0),IF(AND(G12=15,H12="м"),VLOOKUP(BG12,'Отж. от пола'!$CA$4:$CB$169,2,0),IF(AND(G12=15,H12="ж"),VLOOKUP(BG12,'Отж. от пола'!$CD$4:$CE$169,2,0),""))))))))))))))))))))))))))))) -> 68 | BJ12: =IF(BI12="",0,IF(AND(G12=16,H12="м"),VLOOKUP(BI12,'Отж.от скамьи'!$A$4:$B$79,2,0),IF(AND(G12=16,H12="ж"),VLOOKUP(BI12,'Отж.от скамьи'!$D$4:$E$79,2,0),IF(AND(G12=17,H12="м"),VLOOKUP(BI12,'Отж.от скамьи'!$G$4:$H$79,2,0),IF(AND(G12=17,H12="ж"),VLOOKUP(BI12,'Отж.от скамьи'!$J$4:$K$79,2,0),""))))) -> 0 | BL12: =IF(BK12="",0,IF(AND(G12=18,H12="м"),VLOOKUP(BK12,'Отж.от стула'!$A$4:$B$68,2,0),IF(AND(G12=18,H12="ж"),VLOOKUP(BK12,'Отж.от стула'!$D$4:$E$69,2,0),""))) -> 0 | BM12: 15 | BN12: =IF(BM12="",0,IF(AND(G12=2,H12="м"),VLOOKUP(BM12,Наклон!$A$4:$B$69,2,0),IF(AND(G12=2,H12="ж"),VLOOKUP(BM12,Наклон!$A$74:$B$139,2,0),IF(AND(G12=3,H12="м"),VLOOKUP(BM12,Наклон!$D$4:$E$69,2,0),IF(AND(G12=3,H12="ж"),VLOOKUP(BM12,Наклон!$D$74:$E$139,2,0),IF(AND(G12=4,H12="м"),VLOOKUP(BM12,Наклон!$G$4:$H$69,2,0),IF(AND(G12=4,H12="ж"),VLOOKUP(BM12,Наклон!$G$74:$H$139,2,0),IF(AND(G12=5,H12="м"),VLOOKUP(BM12,Наклон!$J$4:$K$69,2,0),IF(AND(G12=5,H12="ж"),VLOOKUP(BM12,Наклон!$J$74:$K$139,2,0),IF(AND(G12=6,H12="м"),VLOOKUP(BM12,Наклон!$M$4:$N$69,2,0),IF(AND(G12=6,H12="ж"),VLOOKUP(BM12,Наклон!$M$74:$N$139,2,0),IF(AND(G12=7,H12="м"),VLOOKUP(BM12,Наклон!$P$4:$Q$69,2,0),IF(AND(G12=7,H12="ж"),VLOOKUP(BM12,Наклон!$P$74:$Q$139,2,0),IF(AND(G12=8,H12="м"),VLOOKUP(BM12,Наклон!$S$4:$T$69,2,0),IF(AND(G12=8,H12="ж"),VLOOKUP(BM12,Наклон!$S$74:$T$139,2,0),IF(AND(G12=9,H12="м"),VLOOKUP(BM12,Наклон!$V$4:$W$69,2,0),IF(AND(G12=9,H12="ж"),VLOOKUP(BM12,Наклон!$V$74:$W$139,2,0),IF(AND(G12=10,H12="м"),VLOOKUP(BM12,Наклон!$Y$4:$Z$69,2,0),IF(AND(G12=10,H12="ж"),VLOOKUP(BM12,Наклон!$Y$74:$Z$139,2,0),IF(AND(G12=11,H12="м"),VLOOKUP(BM12,Наклон!$AB$4:$AC$69,2,0),IF(AND(G12=11,H12="ж"),VLOOKUP(BM12,Наклон!$AB$74:$AC$139,2,0),IF(AND(G12=12,H12="м"),VLOOKUP(BM12,Наклон!$AE$4:$AF$69,2,0),IF(AND(G12=12,H12="ж"),VLOOKUP(BM12,Наклон!$AE$74:$AF$139,2,0),IF(AND(G12=13,H12="м"),VLOOKUP(BM12,Наклон!$AH$4:$AI$69,2,0),IF(AND(G12=13,H12="ж"),VLOOKUP(BM12,Наклон!$AH$74:$AI$139,2,0),IF(AND(G12=14,H12="м"),VLOOKUP(BM12,Наклон!$AK$4:$AL$69,2,0),IF(AND(G12=14,H12="ж"),VLOOKUP(BM12,Наклон!$AK$74:$AL$139,2,0),IF(AND(G12=15,H12="м"),VLOOKUP(BM12,Наклон!$AN$4:$AO$69,2,0),IF(AND(G12=15,H12="ж"),VLOOKUP(BM12,Наклон!$AN$74:$AO$139,2,0),IF(AND(G12=16,H12="м"),VLOOKUP(BM12,Наклон!$AQ$4:$AR$69,2,0),IF(AND(G12=16,H12="ж"),VLOOKUP(BM12,Наклон!$AQ$74:$AR$139,2,0),IF(AND(G12=17,H12="м"),VLOOKUP(BM12,Наклон!$AT$4:$AU$69,2,0),IF(AND(G12=17,H12="ж"),VLOOKUP(BM12,Наклон!$AT$74:$AU$139,2,0),IF(AND(G12=18,H12="м"),VLOOKUP(BM12,Наклон!$AW$4:$AX$69,2,0),IF(AND(G12=18,H12="ж"),VLOOKUP(BM12,Наклон!$AW$74:$AX$139,2,0)))))))))))))))))))))))))))))))))))) -> 68 | BP12: =IF(BO12="",0,IF(AND(G12=2,H12="м"),VLOOKUP(BO12,'Прыжок в длину'!$A$4:$B$294,2,0),IF(AND(G12=2,H12="ж"),VLOOKUP(BO12,'Прыжок в длину'!$D$4:$E$294,2,0),IF(AND(G12=3,H12="м"),VLOOKUP(BO12,'Прыжок в длину'!$G$4:$H$294,2,0),IF(AND(G12=3,H12="ж"),VLOOKUP(BO12,'Прыжок в длину'!$J$4:$K$294,2,0),IF(AND(G12=4,H12="м"),VLOOKUP(BO12,'Прыжок в длину'!$M$4:$N$294,2,0),IF(AND(G12=4,H12="ж"),VLOOKUP(BO12,'Прыжок в длину'!$P$4:$Q$294,2,0),IF(AND(G12=5,H12="м"),VLOOKUP(BO12,'Прыжок в длину'!$S$4:$T$294,2,0),IF(AND(G12=5,H12="ж"),VLOOKUP(BO12,'Прыжок в длину'!$V$4:$W$294,2,0),IF(AND(G12=6,H12="м"),VLOOKUP(BO12,'Прыжок в длину'!$Y$4:$Z$294,2,0),IF(AND(G12=6,H12="ж"),VLOOKUP(BO12,'Прыжок в длину'!$AB$4:$AC$294,2,0),IF(AND(G12=7,H12="м"),VLOOKUP(BO12,'Прыжок в длину'!$AE$4:$AF$294,2,0),IF(AND(G12=7,H12="ж"),VLOOKUP(BO12,'Прыжок в длину'!$AH$4:$AI$294,2,0),IF(AND(G12=8,H12="м"),VLOOKUP(BO12,'Прыжок в длину'!$AK$4:$AL$294,2,0),IF(AND(G12=8,H12="ж"),VLOOKUP(BO12,'Прыжок в длину'!$AN$4:$AO$294,2,0),IF(AND(G12=9,H12="м"),VLOOKUP(BO12,'Прыжок в длину'!$AQ$4:$AR$294,2,0),IF(AND(G12=9,H12="ж"),VLOOKUP(BO12,'Прыжок в длину'!$AT$4:$AU$294,2,0),IF(AND(G12=10,H12="м"),VLOOKUP(BO12,'Прыжок в длину'!$AW$4:$AX$294,2,0),IF(AND(G12=10,H12="ж"),VLOOKUP(BO12,'Прыжок в длину'!$AZ$4:$BA$294,2,0),IF(AND(G12=11,H12="м"),VLOOKUP(BO12,'Прыжок в длину'!BC8:$BD$294,2,0),IF(AND(G12=11,H12="ж"),VLOOKUP(BO12,'Прыжок в длину'!$BF$4:$BG$294,2,0),""))))))))))))))))))))) -> 0 | BQ12: 47 | BR12: =IF(BQ12="",0,IF(AND(G12=2,H12="м"),VLOOKUP(BQ12,Пресс!$A$4:$B$104,2,0),IF(AND(G12=2,H12="ж"),VLOOKUP(BQ12,Пресс!$D$4:$E$104,2,0),IF(AND(G12=3,H12="м"),VLOOKUP(BQ12,Пресс!$G$4:$H$104,2,0),IF(AND(G12=3,H12="ж"),VLOOKUP(BQ12,Пресс!$J$4:$K$104,2,0),IF(AND(G12=4,H12="м"),VLOOKUP(BQ12,Пресс!$M$4:$N$104,2,0),IF(AND(G12=4,H12="ж"),VLOOKUP(BQ12,Пресс!$P$4:$Q$104,2,0),IF(AND(G12=5,H12="м"),VLOOKUP(BQ12,Пресс!$S$4:$T$104,2,0),IF(AND(G12=5,H12="ж"),VLOOKUP(BQ12,Пресс!$V$4:$W$104,2,0),IF(AND(G12=6,H12="м"),VLOOKUP(BQ12,Пресс!$Y$4:$Z$104,2,0),IF(AND(G12=6,H12="ж"),VLOOKUP(BQ12,Пресс!$AB$4:$AC$104,2,0),IF(AND(G12=7,H12="м"),VLOOKUP(BQ12,Пресс!$AE$4:$AF$104,2,0),IF(AND(G12=7,H12="ж"),VLOOKUP(BQ12,Пресс!$AH$4:$AI$104,2,0),IF(AND(G12=8,H12="м"),VLOOKUP(BQ12,Пресс!$AK$4:$AL$104,2,0),IF(AND(G12=8,H12="ж"),VLOOKUP(BQ12,Пресс!$AN$4:$AO$104,2,0),IF(AND(G12=9,H12="м"),VLOOKUP(BQ12,Пресс!$AQ$4:$AR$104,2,0),IF(AND(G12=9,H12="ж"),VLOOKUP(BQ12,Пресс!$AT$4:$AU$104,2,0),IF(AND(G12=10,H12="м"),VLOOKUP(BQ12,Пресс!$AW$4:$AX$104,2,0),IF(AND(G12=10,H12="ж"),VLOOKUP(BQ12,Пресс!$AZ$4:$BA$104,2,0),IF(AND(G12=11,H12="м"),VLOOKUP(BQ12,Пресс!$BC$4:$BD$104,2,0),IF(AND(G12=11,H12="ж"),VLOOKUP(BQ12,Пресс!$BF$4:$BG$104,2,0),IF(AND(G12=12,H12="м"),VLOOKUP(BQ12,Пресс!$BI$4:$BJ$104,2,0),IF(AND(G12=12,H12="ж"),VLOOKUP(BQ12,Пресс!$BL$4:$BM$104,2,0),IF(AND(G12=13,H12="м"),VLOOKUP(BQ12,Пресс!$BO$4:$BP$104,2,0),IF(AND(G12=13,H12="ж"),VLOOKUP(BQ12,Пресс!$BR$4:$BS$104,2,0),IF(AND(G12=14,H12="м"),VLOOKUP(BQ12,Пресс!$BU$4:$BV$104,2,0),IF(AND(G12=14,H12="ж"),VLOOKUP(BQ12,Пресс!$BX$4:$BY$104,2,0),IF(AND(G12=15,H12="м"),VLOOKUP(BQ12,Пресс!$CA$4:$CB$104,2,0),IF(AND(G12=15,H12="ж"),VLOOKUP(BQ12,Пресс!$CD$4:$CE$104,2,0),IF(AND(G12=16,H12="м"),VLOOKUP(BQ12,Пресс!$CG$4:$CH$104,2,0),IF(AND(G12=16,H12="ж"),VLOOKUP(BQ12,Пресс!$CJ$4:$CK$104,2,0),IF(AND(G12=17,H12="м"),VLOOKUP(BQ12,Пресс!$CM$4:$CN$104,2,0),IF(AND(G12=17,H12="ж"),VLOOKUP(BQ12,Пресс!$CP$4:$CQ$104,2,0),IF(AND(G12=18,H12="м"),VLOOKUP(BQ12,Пресс!$CS$4:$CT$104,2,0),IF(AND(G12=18,H12="ж"),VLOOKUP(BQ12,Пресс!$CV$4:$CW$104,2,0),""))))))))))))))))))))))))))))))))))) -> 63 | BV12: =IF(BU12="",0,IF(AND(G12=4,H12="м"),VLOOKUP(BU12,Стрельба!$A$4:$B$54,2,0),IF(AND(G12=4,H12="ж"),VLOOKUP(BU12,Стрельба!$D$4:$E$54,2,0),IF(AND(G12=5,H12="м"),VLOOKUP(BU12,Стрельба!$G$4:$H$54,2,0),IF(AND(G12=5,H12="ж"),VLOOKUP(BU12,Стрельба!$J$4:$K$54,2,0),IF(AND(G12=6,H12="м"),VLOOKUP(BU12,Стрельба!$M$4:$N$54,2,0),IF(AND(G12=6,H12="ж"),VLOOKUP(BU12,Стрельба!$P$4:$Q$54,2,0),IF(AND(G12=7,H12="м"),VLOOKUP(BU12,Стрельба!$S$4:$T$54,2,0),IF(AND(G12=7,H12="ж"),VLOOKUP(BU12,Стрельба!$V$4:$W$54,2,0),IF(AND(G12=8,H12="м"),VLOOKUP(BU12,Стрельба!$Y$4:$Z$54,2,0),IF(AND(G12=8,H12="ж"),VLOOKUP(BU12,Стрельба!$AB$4:$AC$54,2,0),IF(AND(G12=9,H12="м"),VLOOKUP(BU12,Стрельба!$AE$4:$AF$54,2,0),IF(AND(G12=9,H12="ж"),VLOOKUP(BU12,Стрельба!$AH$4:$AI$54,2,0),IF(AND(G12=10,H12="м"),VLOOKUP(BU12,Стрельба!$AK$4:$AL$54,2,0),IF(AND(G12=10,H12="ж"),VLOOKUP(BU12,Стрельба!$AN$4:$AO$54,2,0),IF(AND(G12=11,H12="м"),VLOOKUP(BU12,Стрельба!$AQ$4:$AR$54,2,0),IF(AND(G12=11,H12="ж"),VLOOKUP(BU12,Стрельба!$AT$4:$AU$54,2,0),IF(AND(G12=12,H12="м"),VLOOKUP(BU12,Стрельба!$AW$4:$AX$54,2,0),IF(AND(G12=12,H12="ж"),VLOOKUP(BU12,Стрельба!$AZ$4:$BA$54,2,0),IF(AND(G12=13,H12="м"),VLOOKUP(BU12,Стрельба!$BC$4:$BD$54,2,0),IF(AND(G12=13,H12="ж"),VLOOKUP(BU12,Стрельба!$BF$4:$BG$54,2,0),IF(AND(G12=14,H12="м"),VLOOKUP(BU12,Стрельба!$BI$4:$BJ$54,2,0),IF(AND(G12=14,H12="ж"),VLOOKUP(BU12,Стрельба!$BL$4:$BM$54,2,0),IF(AND(G12=15,H12="м"),VLOOKUP(BU12,Стрельба!$BO$4:$BP$54,2,0),IF(AND(G12=15,H12="ж"),VLOOKUP(BU12,Стрельба!$BR$4:$BS$54,2,0),""))))))))))))))))))))))))) -> 0 | BZ12: =IF(BY12="",0,IF(AND(G12=3,H12="м"),VLOOKUP(BY12,'Метание 150г'!$A$4:$B$784,2,0),IF(AND(G12=3,H12="ж"),VLOOKUP(BY12,'Метание 150г'!$D$4:$E$784,2,0),IF(AND(G12=4,H12="м"),VLOOKUP(BY12,'Метание 150г'!$G$4:$H$784,2,0),IF(AND(G12=4,H12="ж"),VLOOKUP(BY12,'Метание 150г'!$J$4:$K$784,2,0),IF(AND(G12=5,H12="м"),VLOOKUP(BY12,'Метание 150г'!$M$4:$N$784,2,0),IF(AND(G12=5,H12="ж"),VLOOKUP(BY12,'Метание 150г'!$P$4:$Q$784,2,0),""))))))) -> 0 | CB12: =IF(CA12="",0,IF(AND(G12=6,H12="м"),VLOOKUP(CA12,'Метание 700г'!$A$4:$B$574,2,0),IF(AND(G12=7,H12="м"),VLOOKUP(CA12,'Метание 700г'!$D$4:$E$574,2,0),IF(AND(G12=8,H12="м"),VLOOKUP(CA12,'Метание 700г'!$G$4:$H$574,2,0),"")))) -> 0 | CD12: =IF(CC12="",0,IF(AND(G12=6,H12="ж"),VLOOKUP(CC12,'Метание 500г'!$A$4:$B$565,2,0),IF(AND(G12=7,H12="ж"),VLOOKUP(CC12,'Метание 500г'!$D$4:$E$565,2,0),IF(AND(G12=8,H12="ж"),VLOOKUP(CC12,'Метание 500г'!$G$4:$H$565,2,0),IF(AND(G12=9,H12="ж"),VLOOKUP(CC12,'Метание 500г'!$J$4:$K$565,2,0),IF(AND(G12=10,H12="ж"),VLOOKUP(CC12,'Метание 500г'!$M$4:$N$565,2,0),IF(AND(G12=11,H12="ж"),VLOOKUP(CC12,'Метание 500г'!$P$4:$Q$565,2,0),""))))))) -> 0 | CH12: =IF(CG12="",0,IF(AND(G12=2,H12="м"),VLOOKUP(CG12,'Плавание 25 м'!$A$4:$B$2333,2,0),IF(AND(G12=2,H12="ж"),VLOOKUP(CG12,'Плавание 25 м'!$D$4:$E$2333,2,0),IF(AND(G12=16,H12="м"),VLOOKUP(CG12,'Плавание 25 м'!$G$4:$H$2333,2,0),IF(AND(G12=16,H12="ж"),VLOOKUP(CG12,'Плавание 25 м'!$J$4:$K$2333,2,0),IF(AND(G12=17,H12="м"),VLOOKUP(CG12,'Плавание 25 м'!$M$4:$N$2333,2,0),IF(AND(G12=17,H12="ж"),VLOOKUP(CG12,'Плавание 25 м'!$P$4:$Q$2333,2,0),IF(AND(G12=18,H12="м"),VLOOKUP(CG12,'Плавание 25 м'!$S$4:$T$2333,2,0),IF(AND(G12=18,H12="ж"),VLOOKUP(CG12,'Плавание 25 м'!$V$4:$W$2333,2,0),""))))))))) -> 0 | CJ12: =IF(CI12="",0,IF(AND(G12=3,H12="м"),VLOOKUP(CI12,'Плавание 50 м'!$A$4:$B$1954,2,0),IF(AND(G12=3,H12="ж"),VLOOKUP(CI12,'Плавание 50 м'!$D$4:$E$1954,2,0),IF(AND(G12=4,H12="м"),VLOOKUP(CI12,'Плавание 50 м'!$G$4:$H$1954,2,0),IF(AND(G12=4,H12="ж"),VLOOKUP(CI12,'Плавание 50 м'!$J$4:$K$1954,2,0),IF(AND(G12=5,H12="м"),VLOOKUP(CI12,'Плавание 50 м'!$M$4:$N$1954,2,0),IF(AND(G12=5,H12="ж"),VLOOKUP(CI12,'Плавание 50 м'!$P$4:$Q$1954,2,0),IF(AND(G12=6,H12="м"),VLOOKUP(CI12,'Плавание 50 м'!$S$4:$T$1954,2,0),IF(AND(G12=6,H12="ж"),VLOOKUP(CI12,'Плавание 50 м'!$V$4:$W$1954,2,0),IF(AND(G12=7,H12="м"),VLOOKUP(CI12,'Плавание 50 м'!$Y$4:$Z$1954,2,0),IF(AND(G12=7,H12="ж"),VLOOKUP(CI12,'Плавание 50 м'!$AB$4:$AC$1954,2,0),IF(AND(G12=8,H12="м"),VLOOKUP(CI12,'Плавание 50 м'!$AE$4:$AF$1954,2,0),IF(AND(G12=8,H12="ж"),VLOOKUP(CI12,'Плавание 50 м'!$AH$4:$AI$1954,2,0),IF(AND(G12=9,H12="м"),VLOOKUP(CI12,'Плавание 50 м'!$AK$4:$AL$1954,2,0),IF(AND(G12=9,H12="ж"),VLOOKUP(CI12,'Плавание 50 м'!$AN$4:$AO$1954,2,0),IF(AND(G12=10,H12="м"),VLOOKUP(CI12,'Плавание 50 м'!$AQ$4:$AR$1954,2,0),IF(AND(G12=10,H12="ж"),VLOOKUP(CI12,'Плавание 50 м'!$AT$4:$AU$1954,2,0),IF(AND(G12=11,H12="м"),VLOOKUP(CI12,'Плавание 50 м'!$AW$4:$AX$1954,2,0),IF(AND(G12=11,H12="ж"),VLOOKUP(CI12,'Плавание 50 м'!$AZ$4:$BA$1954,2,0),IF(AND(G12=12,H12="м"),VLOOKUP(CI12,'Плавание 50 м'!$BC$4:$BD$1954,2,0),IF(AND(G12=12,H12="ж"),VLOOKUP(CI12,'Плавание 50 м'!$BF$4:$BG$1954,2,0),IF(AND(G12=13,H12="м"),VLOOKUP(CI12,'Плавание 50 м'!$BI$4:$BJ$1954,2,0),IF(AND(G12=13,H12="ж"),VLOOKUP(CI12,'Плавание 50 м'!$BL$4:$BM$1954,2,0),IF(AND(G12=14,H12="м"),VLOOKUP(CI12,'Плавание 50 м'!$BO$4:$BP$1954,2,0),IF(AND(G12=14,H12="ж"),VLOOKUP(CI12,'Плавание 50 м'!$BR$4:$BS$1954,2,0),IF(AND(G12=15,H12="м"),VLOOKUP(CI12,'Плавание 50 м'!$BU$4:$BV$1954,2,0),IF(AND(G12=15,H12="ж"),VLOOKUP(CI12,'Плавание 50 м'!$BX$4:$BY$1954,2,0),""))))))))))))))))))))))))))) -> 0 | CK12: =BR12+BN12+BH12 -> 199
A13: 6 | B13: Иванова Мария Александровна | C13: ПАО "АКРОН" - 1 | D13: 26-53-0000494 | E13: 26.09.1991 | F13: =IF(E13="",0,INT(($B$4-E13)/365.25)) -> 34 | G13: =IFERROR(VLOOKUP(F13,Ступени!$A$2:$B$99,2,0),"") -> 10 | H13: ж | J13: =IF(I13="",0,IF(AND(G13=2,H13="м"),VLOOKUP(I13,'30м'!$A$4:$B$71,2,0),IF(AND(G13=2,H13="ж"),VLOOKUP(I13,'30м'!$D$4:$E$71,2,0),IF(AND(G13=3,H13="м"),VLOOKUP(I13,'30м'!$G$4:$H$71,2,0),IF(AND(G13=3,H13="ж"),VLOOKUP(I13,'30м'!$J$4:$K$71,2,0),IF(AND(G13=4,H13="м"),VLOOKUP(I13,'30м'!$M$4:$N$71,2,0),IF(AND(G13=4,H13="ж"),VLOOKUP(I13,'30м'!$P$4:$Q$71,2,0),IF(AND(G13=5,H13="м"),VLOOKUP(I13,'30м'!$S$4:$T$71,2,0),IF(AND(G13=5,H13="ж"),VLOOKUP(I13,'30м'!$V$4:$W$71,2,0),""))))))))) -> 0 | L13: =IF(K13="",0,IF(AND(G13=4,H13="м"),VLOOKUP(K13,'60м'!$A$4:$B$129,2,0),IF(AND(G13=4,H13="ж"),VLOOKUP(K13,'60м'!$D$4:$E$129,2,0),IF(AND(G13=5,H13="м"),VLOOKUP(K13,'60м'!$G$4:$H$129,2,0),IF(AND(G13=5,H13="ж"),VLOOKUP(K13,'60м'!$J$4:$K$129,2,0),IF(AND(G13=6,H13="м"),VLOOKUP(K13,'60м'!$M$4:$N$129,2,0),IF(AND(G13=6,H13="ж"),VLOOKUP(K13,'60м'!$P$4:$Q$129,2,0),IF(AND(G13=7,H13="м"),VLOOKUP(K13,'60м'!$S$4:$T$129,2,0),IF(AND(G13=7,H13="ж"),VLOOKUP(K13,'60м'!$V$4:$W$129,2,0),IF(AND(G13=8,H13="м"),VLOOKUP(K13,'60м'!$Y$4:$Z$129,2,0),IF(AND(G13=8,H13="ж"),VLOOKUP(K13,'60м'!$AB$4:$AC$129,2,0),IF(AND(G13=9,H13="м"),VLOOKUP(K13,'60м'!$AE$4:$AF$129,2,0),IF(AND(G13=9,H13="ж"),VLOOKUP(K13,'60м'!$AH$4:$AI$129,2,0),IF(AND(G13=10,H13="м"),VLOOKUP(K13,'60м'!$AK$4:$AL$129,2,0),IF(AND(G13=10,H13="ж"),VLOOKUP(K13,'60м'!$AN$4:$AO$129,2,0),IF(AND(G13=11,H13="м"),VLOOKUP(K13,'60м'!$AQ$4:$AR$129,2,0),IF(AND(G13=11,H13="ж"),VLOOKUP(K13,'60м'!$AT$4:$AU$129,2,0),IF(AND(G13=12,H13="м"),VLOOKUP(K13,'60м'!$AW$4:$AX$129,2,0),IF(AND(G13=12,H13="ж"),VLOOKUP(K13,'60м'!$AZ$4:$BA$129,2,0),IF(AND(G13=13,H13="м"),VLOOKUP(K13,'60м'!$BC$4:$BD$129,2,0),IF(AND(G13=13,H13="ж"),VLOOKUP(K13,'60м'!$BF$4:$BG$129,2,0),""))))))))))))))))))))) -> 0 | N13: =IF(M13="",0,IF(AND(G13=6,H13="м"),VLOOKUP(M13,'100м'!$A$4:$B$134,2,0),IF(AND(G13=6,H13="ж"),VLOOKUP(M13,'100м'!$D$4:$E$134,2,0),IF(AND(G13=7,H13="м"),VLOOKUP(M13,'100м'!$G$4:$H$134,2,0),IF(AND(G13=7,H13="ж"),VLOOKUP(M13,'100м'!$J$4:$K$134,2,0),IF(AND(G13=8,H13="м"),VLOOKUP(M13,'100м'!$M$4:$N$134,2,0),IF(AND(G13=8,H13="ж"),VLOOKUP(M13,'100м'!$P$4:$Q$134,2,0),IF(AND(G13=9,H13="м"),VLOOKUP(M13,'100м'!$S$4:$T$134,2,0),IF(AND(G13=9,H13="ж"),VLOOKUP(M13,'100м'!$V$4:$W$134,2,0),""))))))))) -> 0 | R13: =IF(Q13="",0,IF(AND(G13=4,H13="м"),VLOOKUP(Q13,'1500м'!$A$4:$B$364,2,0),IF(AND(G13=4,H13="ж"),VLOOKUP(Q13,'1500м'!$D$4:$E$364,2,0),""))) -> 0 | T13: =IF(S13="",0,IF(AND(G13=5,H13="м"),VLOOKUP(S13,'2000м'!$A$4:$B$780,2,0),IF(AND(G13=5,H13="ж"),VLOOKUP(S13,'2000м'!$D$4:$E$780,2,0),IF(AND(G13=6,H13="ж"),VLOOKUP(S13,'2000м'!$G$4:$H$780,2,0),IF(AND(G13=7,H13="ж"),VLOOKUP(S13,'2000м'!$J$4:$K$780,2,0),IF(AND(G13=8,H13="ж"),VLOOKUP(S13,'2000м'!$M$4:$N$780,2,0),"")))))) -> 0 | V13: =IF(U13="",0,IF(AND(G13=6,H13="м"),VLOOKUP(U13,'3000м'!$A$4:$B$594,2,0),IF(AND(G13=7,H13="м"),VLOOKUP(U13,'3000м'!$D$4:$E$594,2,0),IF(AND(G13=8,H13="м"),VLOOKUP(U13,'3000м'!$G$4:$H$594,2,0),IF(AND(G13=9,H13="м"),VLOOKUP(U13,'3000м'!$J$4:$K$594,2,0),IF(AND(G13=10,H13="м"),VLOOKUP(U13,'3000м'!$M$4:$N$594,2,0),IF(AND(G13=11,H13="м"),VLOOKUP(U13,'3000м'!$P$4:$Q$594,2,0),""))))))) -> 0 | BB13: =IF(BA13="",0,IF(AND(G13=2,H13="м"),VLOOKUP(BA13,Подтягивание!$A$4:$B$79,2,0),IF(AND(G13=3,H13="м"),VLOOKUP(BA13,Подтягивание!$D$4:$E$79,2,0),IF(AND(G13=4,H13="м"),VLOOKUP(BA13,Подтягивание!$G$4:$H$79,2,0),IF(AND(G13=5,H13="м"),VLOOKUP(BA13,Подтягивание!$J$4:$K$79,2,0),IF(AND(G13=6,H13="м"),VLOOKUP(BA13,Подтягивание!$M$4:$N$79,2,0),IF(AND(G13=7,H13="м"),VLOOKUP(BA13,Подтягивание!$P$4:$Q$79,2,0),IF(AND(G13=8,H13="м"),VLOOKUP(BA13,Подтягивание!$S$4:$T$79,2,0),IF(AND(G13=9,H13="м"),VLOOKUP(BA13,Подтягивание!$V$4:$W$79,2,0),IF(AND(G13=10,H13="м"),VLOOKUP(BA13,Подтягивание!$Y$4:$Z$79,2,0),IF(AND(G13=11,H13="м"),VLOOKUP(BA13,Подтягивание!$AB$4:$AC$79,2,0),IF(AND(G13=12,H13="м"),VLOOKUP(BA13,Подтягивание!$AE$4:$AF$79,2,0),IF(AND(G13=13,H13="м"),VLOOKUP(BA13,Подтягивание!$AH$4:$AI$79,2,0),IF(AND(G13=14,H13="м"),VLOOKUP(BA13,Подтягивание!$AK$4:$AL$79,2,0),IF(AND(G13=15,H13="м"),VLOOKUP(BA13,Подтягивание!$AN$4:$AO$79,2,0),""))))))))))))))) -> 0 | BF13: =IF(BE13="",0,IF(AND(G13=6,H13="м"),VLOOKUP(BE13,Гиря!$A$4:$B$166,2,0),IF(AND(G13=7,H13="м"),VLOOKUP(BE13,Гиря!$D$4:$E$166,2,0),IF(AND(G13=8,H13="м"),VLOOKUP(BE13,Гиря!$G$4:$H$166,2,0),IF(AND(G13=9,H13="м"),VLOOKUP(BE13,Гиря!$J$4:$K$166,2,0),IF(AND(G13=10,H13="м"),VLOOKUP(BE13,Гиря!$M$4:$N$166,2,0),IF(AND(G13=11,H13="м"),VLOOKUP(BE13,Гиря!$P$4:$Q$166,2,0),IF(AND(G13=12,H13="м"),VLOOKUP(BE13,Гиря!$S$4:$T$166,2,0),IF(AND(G13=13,H13="м"),VLOOKUP(BE13,Гиря!$V$4:$W$166,2,0),IF(AND(G13=14,H13="м"),VLOOKUP(BE13,Гиря!$Y$4:$Z$166,2,0),IF(AND(G13=15,H13="м"),VLOOKUP(BE13,Гиря!$AB$4:$AC$166,2,0),""))))))))))) -> 0 | BG13: 0 | BH13: =IF(BG13="",0,IF(AND(G13=2,H13="м"),VLOOKUP(BG13,'Отж. от пола'!$A$4:$B$169,2,0),IF(AND(G13=2,H13="ж"),VLOOKUP(BG13,'Отж. от пола'!$D$4:$E$169,2,0),IF(AND(G13=3,H13="м"),VLOOKUP(BG13,'Отж. от пола'!$G$4:$H$169,2,0),IF(AND(G13=3,H13="ж"),VLOOKUP(BG13,'Отж. от пола'!$J$4:$K$169,2,0),IF(AND(G13=4,H13="м"),VLOOKUP(BG13,'Отж. от пола'!$M$4:$N$169,2,0),IF(AND(G13=4,H13="ж"),VLOOKUP(BG13,'Отж. от пола'!$P$4:$Q$169,2,0),IF(AND(G13=5,H13="м"),VLOOKUP(BG13,'Отж. от пола'!$S$4:$T$169,2,0),IF(AND(G13=5,H13="ж"),VLOOKUP(BG13,'Отж. от пола'!$V$4:$W$169,2,0),IF(AND(G13=6,H13="м"),VLOOKUP(BG13,'Отж. от пола'!$Y$4:$Z$169,2,0),IF(AND(G13=6,H13="ж"),VLOOKUP(BG13,'Отж. от пола'!$AB$4:$AC$169,2,0),IF(AND(G13=7,H13="м"),VLOOKUP(BG13,'Отж. от пола'!$AE$4:$AF$169,2,0),IF(AND(G13=7,H13="ж"),VLOOKUP(BG13,'Отж. от пола'!$AH$4:$AI$169,2,0),IF(AND(G13=8,H13="м"),VLOOKUP(BG13,'Отж. от пола'!$AK$4:$AL$169,2,0),IF(AND(G13=8,H13="ж"),VLOOKUP(BG13,'Отж. от пола'!$AN$4:$AO$169,2,0),IF(AND(G13=9,H13="м"),VLOOKUP(BG13,'Отж. от пола'!$AQ$4:$AR$169,2,0),IF(AND(G13=9,H13="ж"),VLOOKUP(BG13,'Отж. от пола'!$AT$4:$AU$169,2,0),IF(AND(G13=10,H13="м"),VLOOKUP(BG13,'Отж. от пола'!$AW$4:$AX$169,2,0),IF(AND(G13=10,H13="ж"),VLOOKUP(BG13,'Отж. от пола'!$AZ$4:$BA$169,2,0),IF(AND(G13=11,H13="м"),VLOOKUP(BG13,'Отж. от пола'!$BC$4:$BD$169,2,0),IF(AND(G13=11,H13="ж"),VLOOKUP(BG13,'Отж. от пола'!$BF$4:$BG$169,2,0),IF(AND(G13=12,H13="м"),VLOOKUP(BG13,'Отж. от пола'!$BI$4:$BJ$169,2,0),IF(AND(G13=12,H13="ж"),VLOOKUP(BG13,'Отж. от пола'!$BL$4:$BM$169,2,0),IF(AND(G13=13,H13="м"),VLOOKUP(BG13,'Отж. от пола'!$BO$4:$BP$169,2,0),IF(AND(G13=13,H13="ж"),VLOOKUP(BG13,'Отж. от пола'!$BR$4:$BS$169,2,0),IF(AND(G13=14,H13="м"),VLOOKUP(BG13,'Отж. от пола'!$BU$4:$BV$169,2,0),IF(AND(G13=14,H13="ж"),VLOOKUP(BG13,'Отж. от пола'!$BX$4:$BY$169,2,0),IF(AND(G13=15,H13="м"),VLOOKUP(BG13,'Отж. от пола'!$CA$4:$CB$169,2,0),IF(AND(G13=15,H13="ж"),VLOOKUP(BG13,'Отж. от пола'!$CD$4:$CE$169,2,0),""))))))))))))))))))))))))))))) -> 0 | BJ13: =IF(BI13="",0,IF(AND(G13=16,H13="м"),VLOOKUP(BI13,'Отж.от скамьи'!$A$4:$B$79,2,0),IF(AND(G13=16,H13="ж"),VLOOKUP(BI13,'Отж.от скамьи'!$D$4:$E$79,2,0),IF(AND(G13=17,H13="м"),VLOOKUP(BI13,'Отж.от скамьи'!$G$4:$H$79,2,0),IF(AND(G13=17,H13="ж"),VLOOKUP(BI13,'Отж.от скамьи'!$J$4:$K$79,2,0),""))))) -> 0 | BL13: =IF(BK13="",0,IF(AND(G13=18,H13="м"),VLOOKUP(BK13,'Отж.от стула'!$A$4:$B$68,2,0),IF(AND(G13=18,H13="ж"),VLOOKUP(BK13,'Отж.от стула'!$D$4:$E$69,2,0),""))) -> 0 | BM13: 13 | BN13: =IF(BM13="",0,IF(AND(G13=2,H13="м"),VLOOKUP(BM13,Наклон!$A$4:$B$69,2,0),IF(AND(G13=2,H13="ж"),VLOOKUP(BM13,Наклон!$A$74:$B$139,2,0),IF(AND(G13=3,H13="м"),VLOOKUP(BM13,Наклон!$D$4:$E$69,2,0),IF(AND(G13=3,H13="ж"),VLOOKUP(BM13,Наклон!$D$74:$E$139,2,0),IF(AND(G13=4,H13="м"),VLOOKUP(BM13,Наклон!$G$4:$H$69,2,0),IF(AND(G13=4,H13="ж"),VLOOKUP(BM13,Наклон!$G$74:$H$139,2,0),IF(AND(G13=5,H13="м"),VLOOKUP(BM13,Наклон!$J$4:$K$69,2,0),IF(AND(G13=5,H13="ж"),VLOOKUP(BM13,Наклон!$J$74:$K$139,2,0),IF(AND(G13=6,H13="м"),VLOOKUP(BM13,Наклон!$M$4:$N$69,2,0),IF(AND(G13=6,H13="ж"),VLOOKUP(BM13,Наклон!$M$74:$N$139,2,0),IF(AND(G13=7,H13="м"),VLOOKUP(BM13,Наклон!$P$4:$Q$69,2,0),IF(AND(G13=7,H13="ж"),VLOOKUP(BM13,Наклон!$P$74:$Q$139,2,0),IF(AND(G13=8,H13="м"),VLOOKUP(BM13,Наклон!$S$4:$T$69,2,0),IF(AND(G13=8,H13="ж"),VLOOKUP(BM13,Наклон!$S$74:$T$139,2,0),IF(AND(G13=9,H13="м"),VLOOKUP(BM13,Наклон!$V$4:$W$69,2,0),IF(AND(G13=9,H13="ж"),VLOOKUP(BM13,Наклон!$V$74:$W$139,2,0),IF(AND(G13=10,H13="м"),VLOOKUP(BM13,Наклон!$Y$4:$Z$69,2,0),IF(AND(G13=10,H13="ж"),VLOOKUP(BM13,Наклон!$Y$74:$Z$139,2,0),IF(AND(G13=11,H13="м"),VLOOKUP(BM13,Наклон!$AB$4:$AC$69,2,0),IF(AND(G13=11,H13="ж"),VLOOKUP(BM13,Наклон!$AB$74:$AC$139,2,0),IF(AND(G13=12,H13="м"),VLOOKUP(BM13,Наклон!$AE$4:$AF$69,2,0),IF(AND(G13=12,H13="ж"),VLOOKUP(BM13,Наклон!$AE$74:$AF$139,2,0),IF(AND(G13=13,H13="м"),VLOOKUP(BM13,Наклон!$AH$4:$AI$69,2,0),IF(AND(G13=13,H13="ж"),VLOOKUP(BM13,Наклон!$AH$74:$AI$139,2,0),IF(AND(G13=14,H13="м"),VLOOKUP(BM13,Наклон!$AK$4:$AL$69,2,0),IF(AND(G13=14,H13="ж"),VLOOKUP(BM13,Наклон!$AK$74:$AL$139,2,0),IF(AND(G13=15,H13="м"),VLOOKUP(BM13,Наклон!$AN$4:$AO$69,2,0),IF(AND(G13=15,H13="ж"),VLOOKUP(BM13,Наклон!$AN$74:$AO$139,2,0),IF(AND(G13=16,H13="м"),VLOOKUP(BM13,Наклон!$AQ$4:$AR$69,2,0),IF(AND(G13=16,H13="ж"),VLOOKUP(BM13,Наклон!$AQ$74:$AR$139,2,0),IF(AND(G13=17,H13="м"),VLOOKUP(BM13,Наклон!$AT$4:$AU$69,2,0),IF(AND(G13=17,H13="ж"),VLOOKUP(BM13,Наклон!$AT$74:$AU$139,2,0),IF(AND(G13=18,H13="м"),VLOOKUP(BM13,Наклон!$AW$4:$AX$69,2,0),IF(AND(G13=18,H13="ж"),VLOOKUP(BM13,Наклон!$AW$74:$AX$139,2,0)))))))))))))))))))))))))))))))))))) -> 60 | BP13: =IF(BO13="",0,IF(AND(G13=2,H13="м"),VLOOKUP(BO13,'Прыжок в длину'!$A$4:$B$294,2,0),IF(AND(G13=2,H13="ж"),VLOOKUP(BO13,'Прыжок в длину'!$D$4:$E$294,2,0),IF(AND(G13=3,H13="м"),VLOOKUP(BO13,'Прыжок в длину'!$G$4:$H$294,2,0),IF(AND(G13=3,H13="ж"),VLOOKUP(BO13,'Прыжок в длину'!$J$4:$K$294,2,0),IF(AND(G13=4,H13="м"),VLOOKUP(BO13,'Прыжок в длину'!$M$4:$N$294,2,0),IF(AND(G13=4,H13="ж"),VLOOKUP(BO13,'Прыжок в длину'!$P$4:$Q$294,2,0),IF(AND(G13=5,H13="м"),VLOOKUP(BO13,'Прыжок в длину'!$S$4:$T$294,2,0),IF(AND(G13=5,H13="ж"),VLOOKUP(BO13,'Прыжок в длину'!$V$4:$W$294,2,0),IF(AND(G13=6,H13="м"),VLOOKUP(BO13,'Прыжок в длину'!$Y$4:$Z$294,2,0),IF(AND(G13=6,H13="ж"),VLOOKUP(BO13,'Прыжок в длину'!$AB$4:$AC$294,2,0),IF(AND(G13=7,H13="м"),VLOOKUP(BO13,'Прыжок в длину'!$AE$4:$AF$294,2,0),IF(AND(G13=7,H13="ж"),VLOOKUP(BO13,'Прыжок в длину'!$AH$4:$AI$294,2,0),IF(AND(G13=8,H13="м"),VLOOKUP(BO13,'Прыжок в длину'!$AK$4:$AL$294,2,0),IF(AND(G13=8,H13="ж"),VLOOKUP(BO13,'Прыжок в длину'!$AN$4:$AO$294,2,0),IF(AND(G13=9,H13="м"),VLOOKUP(BO13,'Прыжок в длину'!$AQ$4:$AR$294,2,0),IF(AND(G13=9,H13="ж"),VLOOKUP(BO13,'Прыжок в длину'!$AT$4:$AU$294,2,0),IF(AND(G13=10,H13="м"),VLOOKUP(BO13,'Прыжок в длину'!$AW$4:$AX$294,2,0),IF(AND(G13=10,H13="ж"),VLOOKUP(BO13,'Прыжок в длину'!$AZ$4:$BA$294,2,0),IF(AND(G13=11,H13="м"),VLOOKUP(BO13,'Прыжок в длину'!BC9:$BD$294,2,0),IF(AND(G13=11,H13="ж"),VLOOKUP(BO13,'Прыжок в длину'!$BF$4:$BG$294,2,0),""))))))))))))))))))))) -> 0 | BQ13: 25 | BR13: =IF(BQ13="",0,IF(AND(G13=2,H13="м"),VLOOKUP(BQ13,Пресс!$A$4:$B$104,2,0),IF(AND(G13=2,H13="ж"),VLOOKUP(BQ13,Пресс!$D$4:$E$104,2,0),IF(AND(G13=3,H13="м"),VLOOKUP(BQ13,Пресс!$G$4:$H$104,2,0),IF(AND(G13=3,H13="ж"),VLOOKUP(BQ13,Пресс!$J$4:$K$104,2,0),IF(AND(G13=4,H13="м"),VLOOKUP(BQ13,Пресс!$M$4:$N$104,2,0),IF(AND(G13=4,H13="ж"),VLOOKUP(BQ13,Пресс!$P$4:$Q$104,2,0),IF(AND(G13=5,H13="м"),VLOOKUP(BQ13,Пресс!$S$4:$T$104,2,0),IF(AND(G13=5,H13="ж"),VLOOKUP(BQ13,Пресс!$V$4:$W$104,2,0),IF(AND(G13=6,H13="м"),VLOOKUP(BQ13,Пресс!$Y$4:$Z$104,2,0),IF(AND(G13=6,H13="ж"),VLOOKUP(BQ13,Пресс!$AB$4:$AC$104,2,0),IF(AND(G13=7,H13="м"),VLOOKUP(BQ13,Пресс!$AE$4:$AF$104,2,0),IF(AND(G13=7,H13="ж"),VLOOKUP(BQ13,Пресс!$AH$4:$AI$104,2,0),IF(AND(G13=8,H13="м"),VLOOKUP(BQ13,Пресс!$AK$4:$AL$104,2,0),IF(AND(G13=8,H13="ж"),VLOOKUP(BQ13,Пресс!$AN$4:$AO$104,2,0),IF(AND(G13=9,H13="м"),VLOOKUP(BQ13,Пресс!$AQ$4:$AR$104,2,0),IF(AND(G13=9,H13="ж"),VLOOKUP(BQ13,Пресс!$AT$4:$AU$104,2,0),IF(AND(G13=10,H13="м"),VLOOKUP(BQ13,Пресс!$AW$4:$AX$104,2,0),IF(AND(G13=10,H13="ж"),VLOOKUP(BQ13,Пресс!$AZ$4:$BA$104,2,0),IF(AND(G13=11,H13="м"),VLOOKUP(BQ13,Пресс!$BC$4:$BD$104,2,0),IF(AND(G13=11,H13="ж"),VLOOKUP(BQ13,Пресс!$BF$4:$BG$104,2,0),IF(AND(G13=12,H13="м"),VLOOKUP(BQ13,Пресс!$BI$4:$BJ$104,2,0),IF(AND(G13=12,H13="ж"),VLOOKUP(BQ13,Пресс!$BL$4:$BM$104,2,0),IF(AND(G13=13,H13="м"),VLOOKUP(BQ13,Пресс!$BO$4:$BP$104,2,0),IF(AND(G13=13,H13="ж"),VLOOKUP(BQ13,Пресс!$BR$4:$BS$104,2,0),IF(AND(G13=14,H13="м"),VLOOKUP(BQ13,Пресс!$BU$4:$BV$104,2,0),IF(AND(G13=14,H13="ж"),VLOOKUP(BQ13,Пресс!$BX$4:$BY$104,2,0),IF(AND(G13=15,H13="м"),VLOOKUP(BQ13,Пресс!$CA$4:$CB$104,2,0),IF(AND(G13=15,H13="ж"),VLOOKUP(BQ13,Пресс!$CD$4:$CE$104,2,0),IF(AND(G13=16,H13="м"),VLOOKUP(BQ13,Пресс!$CG$4:$CH$104,2,0),IF(AND(G13=16,H13="ж"),VLOOKUP(BQ13,Пресс!$CJ$4:$CK$104,2,0),IF(AND(G13=17,H13="м"),VLOOKUP(BQ13,Пресс!$CM$4:$CN$104,2,0),IF(AND(G13=17,H13="ж"),VLOOKUP(BQ13,Пресс!$CP$4:$CQ$104,2,0),IF(AND(G13=18,H13="м"),VLOOKUP(BQ13,Пресс!$CS$4:$CT$104,2,0),IF(AND(G13=18,H13="ж"),VLOOKUP(BQ13,Пресс!$CV$4:$CW$104,2,0),""))))))))))))))))))))))))))))))))))) -> 44 | BV13: =IF(BU13="",0,IF(AND(G13=4,H13="м"),VLOOKUP(BU13,Стрельба!$A$4:$B$54,2,0),IF(AND(G13=4,H13="ж"),VLOOKUP(BU13,Стрельба!$D$4:$E$54,2,0),IF(AND(G13=5,H13="м"),VLOOKUP(BU13,Стрельба!$G$4:$H$54,2,0),IF(AND(G13=5,H13="ж"),VLOOKUP(BU13,Стрельба!$J$4:$K$54,2,0),IF(AND(G13=6,H13="м"),VLOOKUP(BU13,Стрельба!$M$4:$N$54,2,0),IF(AND(G13=6,H13="ж"),VLOOKUP(BU13,Стрельба!$P$4:$Q$54,2,0),IF(AND(G13=7,H13="м"),VLOOKUP(BU13,Стрельба!$S$4:$T$54,2,0),IF(AND(G13=7,H13="ж"),VLOOKUP(BU13,Стрельба!$V$4:$W$54,2,0),IF(AND(G13=8,H13="м"),VLOOKUP(BU13,Стрельба!$Y$4:$Z$54,2,0),IF(AND(G13=8,H13="ж"),VLOOKUP(BU13,Стрельба!$AB$4:$AC$54,2,0),IF(AND(G13=9,H13="м"),VLOOKUP(BU13,Стрельба!$AE$4:$AF$54,2,0),IF(AND(G13=9,H13="ж"),VLOOKUP(BU13,Стрельба!$AH$4:$AI$54,2,0),IF(AND(G13=10,H13="м"),VLOOKUP(BU13,Стрельба!$AK$4:$AL$54,2,0),IF(AND(G13=10,H13="ж"),VLOOKUP(BU13,Стрельба!$AN$4:$AO$54,2,0),IF(AND(G13=11,H13="м"),VLOOKUP(BU13,Стрельба!$AQ$4:$AR$54,2,0),IF(AND(G13=11,H13="ж"),VLOOKUP(BU13,Стрельба!$AT$4:$AU$54,2,0),IF(AND(G13=12,H13="м"),VLOOKUP(BU13,Стрельба!$AW$4:$AX$54,2,0),IF(AND(G13=12,H13="ж"),VLOOKUP(BU13,Стрельба!$AZ$4:$BA$54,2,0),IF(AND(G13=13,H13="м"),VLOOKUP(BU13,Стрельба!$BC$4:$BD$54,2,0),IF(AND(G13=13,H13="ж"),VLOOKUP(BU13,Стрельба!$BF$4:$BG$54,2,0),IF(AND(G13=14,H13="м"),VLOOKUP(BU13,Стрельба!$BI$4:$BJ$54,2,0),IF(AND(G13=14,H13="ж"),VLOOKUP(BU13,Стрельба!$BL$4:$BM$54,2,0),IF(AND(G13=15,H13="м"),VLOOKUP(BU13,Стрельба!$BO$4:$BP$54,2,0),IF(AND(G13=15,H13="ж"),VLOOKUP(BU13,Стрельба!$BR$4:$BS$54,2,0),""))))))))))))))))))))))))) -> 0 | BZ13: =IF(BY13="",0,IF(AND(G13=3,H13="м"),VLOOKUP(BY13,'Метание 150г'!$A$4:$B$784,2,0),IF(AND(G13=3,H13="ж"),VLOOKUP(BY13,'Метание 150г'!$D$4:$E$784,2,0),IF(AND(G13=4,H13="м"),VLOOKUP(BY13,'Метание 150г'!$G$4:$H$784,2,0),IF(AND(G13=4,H13="ж"),VLOOKUP(BY13,'Метание 150г'!$J$4:$K$784,2,0),IF(AND(G13=5,H13="м"),VLOOKUP(BY13,'Метание 150г'!$M$4:$N$784,2,0),IF(AND(G13=5,H13="ж"),VLOOKUP(BY13,'Метание 150г'!$P$4:$Q$784,2,0),""))))))) -> 0 | CB13: =IF(CA13="",0,IF(AND(G13=6,H13="м"),VLOOKUP(CA13,'Метание 700г'!$A$4:$B$574,2,0),IF(AND(G13=7,H13="м"),VLOOKUP(CA13,'Метание 700г'!$D$4:$E$574,2,0),IF(AND(G13=8,H13="м"),VLOOKUP(CA13,'Метание 700г'!$G$4:$H$574,2,0),"")))) -> 0 | CD13: =IF(CC13="",0,IF(AND(G13=6,H13="ж"),VLOOKUP(CC13,'Метание 500г'!$A$4:$B$565,2,0),IF(AND(G13=7,H13="ж"),VLOOKUP(CC13,'Метание 500г'!$D$4:$E$565,2,0),IF(AND(G13=8,H13="ж"),VLOOKUP(CC13,'Метание 500г'!$G$4:$H$565,2,0),IF(AND(G13=9,H13="ж"),VLOOKUP(CC13,'Метание 500г'!$J$4:$K$565,2,0),IF(AND(G13=10,H13="ж"),VLOOKUP(CC13,'Метание 500г'!$M$4:$N$565,2,0),IF(AND(G13=11,H13="ж"),VLOOKUP(CC13,'Метание 500г'!$P$4:$Q$565,2,0),""))))))) -> 0 | CH13: =IF(CG13="",0,IF(AND(G13=2,H13="м"),VLOOKUP(CG13,'Плавание 25 м'!$A$4:$B$2333,2,0),IF(AND(G13=2,H13="ж"),VLOOKUP(CG13,'Плавание 25 м'!$D$4:$E$2333,2,0),IF(AND(G13=16,H13="м"),VLOOKUP(CG13,'Плавание 25 м'!$G$4:$H$2333,2,0),IF(AND(G13=16,H13="ж"),VLOOKUP(CG13,'Плавание 25 м'!$J$4:$K$2333,2,0),IF(AND(G13=17,H13="м"),VLOOKUP(CG13,'Плавание 25 м'!$M$4:$N$2333,2,0),IF(AND(G13=17,H13="ж"),VLOOKUP(CG13,'Плавание 25 м'!$P$4:$Q$2333,2,0),IF(AND(G13=18,H13="м"),VLOOKUP(CG13,'Плавание 25 м'!$S$4:$T$2333,2,0),IF(AND(G13=18,H13="ж"),VLOOKUP(CG13,'Плавание 25 м'!$V$4:$W$2333,2,0),""))))))))) -> 0 | CJ13: =IF(CI13="",0,IF(AND(G13=3,H13="м"),VLOOKUP(CI13,'Плавание 50 м'!$A$4:$B$1954,2,0),IF(AND(G13=3,H13="ж"),VLOOKUP(CI13,'Плавание 50 м'!$D$4:$E$1954,2,0),IF(AND(G13=4,H13="м"),VLOOKUP(CI13,'Плавание 50 м'!$G$4:$H$1954,2,0),IF(AND(G13=4,H13="ж"),VLOOKUP(CI13,'Плавание 50 м'!$J$4:$K$1954,2,0),IF(AND(G13=5,H13="м"),VLOOKUP(CI13,'Плавание 50 м'!$M$4:$N$1954,2,0),IF(AND(G13=5,H13="ж"),VLOOKUP(CI13,'Плавание 50 м'!$P$4:$Q$1954,2,0),IF(AND(G13=6,H13="м"),VLOOKUP(CI13,'Плавание 50 м'!$S$4:$T$1954,2,0),IF(AND(G13=6,H13="ж"),VLOOKUP(CI13,'Плавание 50 м'!$V$4:$W$1954,2,0),IF(AND(G13=7,H13="м"),VLOOKUP(CI13,'Плавание 50 м'!$Y$4:$Z$1954,2,0),IF(AND(G13=7,H13="ж"),VLOOKUP(CI13,'Плавание 50 м'!$AB$4:$AC$1954,2,0),IF(AND(G13=8,H13="м"),VLOOKUP(CI13,'Плавание 50 м'!$AE$4:$AF$1954,2,0),IF(AND(G13=8,H13="ж"),VLOOKUP(CI13,'Плавание 50 м'!$AH$4:$AI$1954,2,0),IF(AND(G13=9,H13="м"),VLOOKUP(CI13,'Плавание 50 м'!$AK$4:$AL$1954,2,0),IF(AND(G13=9,H13="ж"),VLOOKUP(CI13,'Плавание 50 м'!$AN$4:$AO$1954,2,0),IF(AND(G13=10,H13="м"),VLOOKUP(CI13,'Плавание 50 м'!$AQ$4:$AR$1954,2,0),IF(AND(G13=10,H13="ж"),VLOOKUP(CI13,'Плавание 50 м'!$AT$4:$AU$1954,2,0),IF(AND(G13=11,H13="м"),VLOOKUP(CI13,'Плавание 50 м'!$AW$4:$AX$1954,2,0),IF(AND(G13=11,H13="ж"),VLOOKUP(CI13,'Плавание 50 м'!$AZ$4:$BA$1954,2,0),IF(AND(G13=12,H13="м"),VLOOKUP(CI13,'Плавание 50 м'!$BC$4:$BD$1954,2,0),IF(AND(G13=12,H13="ж"),VLOOKUP(CI13,'Плавание 50 м'!$BF$4:$BG$1954,2,0),IF(AND(G13=13,H13="м"),VLOOKUP(CI13,'Плавание 50 м'!$BI$4:$BJ$1954,2,0),IF(AND(G13=13,H13="ж"),VLOOKUP(CI13,'Плавание 50 м'!$BL$4:$BM$1954,2,0),IF(AND(G13=14,H13="м"),VLOOKUP(CI13,'Плавание 50 м'!$BO$4:$BP$1954,2,0),IF(AND(G13=14,H13="ж"),VLOOKUP(CI13,'Плавание 50 м'!$BR$4:$BS$1954,2,0),IF(AND(G13=15,H13="м"),VLOOKUP(CI13,'Плавание 50 м'!$BU$4:$BV$1954,2,0),IF(AND(G13=15,H13="ж"),VLOOKUP(CI13,'Плавание 50 м'!$BX$4:$BY$1954,2,0),""))))))))))))))))))))))))))) -> 0 | CK13: =BR13+BN13+BH13 -> 104
CK14: =SUM(CK8:CK13) -> 889
A15: 7 | B15: Красильников Анатолий Юрьевич | C15: ПАО "АКРОН" - 2 | D15: 26-53-0000977 | E15: 20.11.1984 | F15: =IF(E15="",0,INT(($B$4-E15)/365.25)) -> 41 | G15: =IFERROR(VLOOKUP(F15,Ступени!$A$2:$B$99,2,0),"") -> 12 | H15: м | J15: =IF(I15="",0,IF(AND(G15=2,H15="м"),VLOOKUP(I15,'30м'!$A$4:$B$71,2,0),IF(AND(G15=2,H15="ж"),VLOOKUP(I15,'30м'!$D$4:$E$71,2,0),IF(AND(G15=3,H15="м"),VLOOKUP(I15,'30м'!$G$4:$H$71,2,0),IF(AND(G15=3,H15="ж"),VLOOKUP(I15,'30м'!$J$4:$K$71,2,0),IF(AND(G15=4,H15="м"),VLOOKUP(I15,'30м'!$M$4:$N$71,2,0),IF(AND(G15=4,H15="ж"),VLOOKUP(I15,'30м'!$P$4:$Q$71,2,0),IF(AND(G15=5,H15="м"),VLOOKUP(I15,'30м'!$S$4:$T$71,2,0),IF(AND(G15=5,H15="ж"),VLOOKUP(I15,'30м'!$V$4:$W$71,2,0),""))))))))) -> 0 | L15: =IF(K15="",0,IF(AND(G15=4,H15="м"),VLOOKUP(K15,'60м'!$A$4:$B$129,2,0),IF(AND(G15=4,H15="ж"),VLOOKUP(K15,'60м'!$D$4:$E$129,2,0),IF(AND(G15=5,H15="м"),VLOOKUP(K15,'60м'!$G$4:$H$129,2,0),IF(AND(G15=5,H15="ж"),VLOOKUP(K15,'60м'!$J$4:$K$129,2,0),IF(AND(G15=6,H15="м"),VLOOKUP(K15,'60м'!$M$4:$N$129,2,0),IF(AND(G15=6,H15="ж"),VLOOKUP(K15,'60м'!$P$4:$Q$129,2,0),IF(AND(G15=7,H15="м"),VLOOKUP(K15,'60м'!$S$4:$T$129,2,0),IF(AND(G15=7,H15="ж"),VLOOKUP(K15,'60м'!$V$4:$W$129,2,0),IF(AND(G15=8,H15="м"),VLOOKUP(K15,'60м'!$Y$4:$Z$129,2,0),IF(AND(G15=8,H15="ж"),VLOOKUP(K15,'60м'!$AB$4:$AC$129,2,0),IF(AND(G15=9,H15="м"),VLOOKUP(K15,'60м'!$AE$4:$AF$129,2,0),IF(AND(G15=9,H15="ж"),VLOOKUP(K15,'60м'!$AH$4:$AI$129,2,0),IF(AND(G15=10,H15="м"),VLOOKUP(K15,'60м'!$AK$4:$AL$129,2,0),IF(AND(G15=10,H15="ж"),VLOOKUP(K15,'60м'!$AN$4:$AO$129,2,0),IF(AND(G15=11,H15="м"),VLOOKUP(K15,'60м'!$AQ$4:$AR$129,2,0),IF(AND(G15=11,H15="ж"),VLOOKUP(K15,'60м'!$AT$4:$AU$129,2,0),IF(AND(G15=12,H15="м"),VLOOKUP(K15,'60м'!$AW$4:$AX$129,2,0),IF(AND(G15=12,H15="ж"),VLOOKUP(K15,'60м'!$AZ$4:$BA$129,2,0),IF(AND(G15=13,H15="м"),VLOOKUP(K15,'60м'!$BC$4:$BD$129,2,0),IF(AND(G15=13,H15="ж"),VLOOKUP(K15,'60м'!$BF$4:$BG$129,2,0),""))))))))))))))))))))) -> 0 | N15: =IF(M15="",0,IF(AND(G15=6,H15="м"),VLOOKUP(M15,'100м'!$A$4:$B$134,2,0),IF(AND(G15=6,H15="ж"),VLOOKUP(M15,'100м'!$D$4:$E$134,2,0),IF(AND(G15=7,H15="м"),VLOOKUP(M15,'100м'!$G$4:$H$134,2,0),IF(AND(G15=7,H15="ж"),VLOOKUP(M15,'100м'!$J$4:$K$134,2,0),IF(AND(G15=8,H15="м"),VLOOKUP(M15,'100м'!$M$4:$N$134,2,0),IF(AND(G15=8,H15="ж"),VLOOKUP(M15,'100м'!$P$4:$Q$134,2,0),IF(AND(G15=9,H15="м"),VLOOKUP(M15,'100м'!$S$4:$T$134,2,0),IF(AND(G15=9,H15="ж"),VLOOKUP(M15,'100м'!$V$4:$W$134,2,0),""))))))))) -> 0 | R15: =IF(Q15="",0,IF(AND(G15=4,H15="м"),VLOOKUP(Q15,'1500м'!$A$4:$B$364,2,0),IF(AND(G15=4,H15="ж"),VLOOKUP(Q15,'1500м'!$D$4:$E$364,2,0),""))) -> 0 | T15: =IF(S15="",0,IF(AND(G15=5,H15="м"),VLOOKUP(S15,'2000м'!$A$4:$B$780,2,0),IF(AND(G15=5,H15="ж"),VLOOKUP(S15,'2000м'!$D$4:$E$780,2,0),IF(AND(G15=6,H15="ж"),VLOOKUP(S15,'2000м'!$G$4:$H$780,2,0),IF(AND(G15=7,H15="ж"),VLOOKUP(S15,'2000м'!$J$4:$K$780,2,0),IF(AND(G15=8,H15="ж"),VLOOKUP(S15,'2000м'!$M$4:$N$780,2,0),"")))))) -> 0 | V15: =IF(U15="",0,IF(AND(G15=6,H15="м"),VLOOKUP(U15,'3000м'!$A$4:$B$594,2,0),IF(AND(G15=7,H15="м"),VLOOKUP(U15,'3000м'!$D$4:$E$594,2,0),IF(AND(G15=8,H15="м"),VLOOKUP(U15,'3000м'!$G$4:$H$594,2,0),IF(AND(G15=9,H15="м"),VLOOKUP(U15,'3000м'!$J$4:$K$594,2,0),IF(AND(G15=10,H15="м"),VLOOKUP(U15,'3000м'!$M$4:$N$594,2,0),IF(AND(G15=11,H15="м"),VLOOKUP(U15,'3000м'!$P$4:$Q$594,2,0),""))))))) -> 0 | BB15: =IF(BA15="",0,IF(AND(G15=2,H15="м"),VLOOKUP(BA15,Подтягивание!$A$4:$B$79,2,0),IF(AND(G15=3,H15="м"),VLOOKUP(BA15,Подтягивание!$D$4:$E$79,2,0),IF(AND(G15=4,H15="м"),VLOOKUP(BA15,Подтягивание!$G$4:$H$79,2,0),IF(AND(G15=5,H15="м"),VLOOKUP(BA15,Подтягивание!$J$4:$K$79,2,0),IF(AND(G15=6,H15="м"),VLOOKUP(BA15,Подтягивание!$M$4:$N$79,2,0),IF(AND(G15=7,H15="м"),VLOOKUP(BA15,Подтягивание!$P$4:$Q$79,2,0),IF(AND(G15=8,H15="м"),VLOOKUP(BA15,Подтягивание!$S$4:$T$79,2,0),IF(AND(G15=9,H15="м"),VLOOKUP(BA15,Подтягивание!$V$4:$W$79,2,0),IF(AND(G15=10,H15="м"),VLOOKUP(BA15,Подтягивание!$Y$4:$Z$79,2,0),IF(AND(G15=11,H15="м"),VLOOKUP(BA15,Подтягивание!$AB$4:$AC$79,2,0),IF(AND(G15=12,H15="м"),VLOOKUP(BA15,Подтягивание!$AE$4:$AF$79,2,0),IF(AND(G15=13,H15="м"),VLOOKUP(BA15,Подтягивание!$AH$4:$AI$79,2,0),IF(AND(G15=14,H15="м"),VLOOKUP(BA15,Подтягивание!$AK$4:$AL$79,2,0),IF(AND(G15=15,H15="м"),VLOOKUP(BA15,Подтягивание!$AN$4:$AO$79,2,0),""))))))))))))))) -> 0 | BF15: =IF(BE15="",0,IF(AND(G15=6,H15="м"),VLOOKUP(BE15,Гиря!$A$4:$B$166,2,0),IF(AND(G15=7,H15="м"),VLOOKUP(BE15,Гиря!$D$4:$E$166,2,0),IF(AND(G15=8,H15="м"),VLOOKUP(BE15,Гиря!$G$4:$H$166,2,0),IF(AND(G15=9,H15="м"),VLOOKUP(BE15,Гиря!$J$4:$K$166,2,0),IF(AND(G15=10,H15="м"),VLOOKUP(BE15,Гиря!$M$4:$N$166,2,0),IF(AND(G15=11,H15="м"),VLOOKUP(BE15,Гиря!$P$4:$Q$166,2,0),IF(AND(G15=12,H15="м"),VLOOKUP(BE15,Гиря!$S$4:$T$166,2,0),IF(AND(G15=13,H15="м"),VLOOKUP(BE15,Гиря!$V$4:$W$166,2,0),IF(AND(G15=14,H15="м"),VLOOKUP(BE15,Гиря!$Y$4:$Z$166,2,0),IF(AND(G15=15,H15="м"),VLOOKUP(BE15,Гиря!$AB$4:$AC$166,2,0),""))))))))))) -> 0 | BG15: 47 | BH15: =IF(BG15="",0,IF(AND(G15=2,H15="м"),VLOOKUP(BG15,'Отж. от пола'!$A$4:$B$169,2,0),IF(AND(G15=2,H15="ж"),VLOOKUP(BG15,'Отж. от пола'!$D$4:$E$169,2,0),IF(AND(G15=3,H15="м"),VLOOKUP(BG15,'Отж. от пола'!$G$4:$H$169,2,0),IF(AND(G15=3,H15="ж"),VLOOKUP(BG15,'Отж. от пола'!$J$4:$K$169,2,0),IF(AND(G15=4,H15="м"),VLOOKUP(BG15,'Отж. от пола'!$M$4:$N$169,2,0),IF(AND(G15=4,H15="ж"),VLOOKUP(BG15,'Отж. от пола'!$P$4:$Q$169,2,0),IF(AND(G15=5,H15="м"),VLOOKUP(BG15,'Отж. от пола'!$S$4:$T$169,2,0),IF(AND(G15=5,H15="ж"),VLOOKUP(BG15,'Отж. от пола'!$V$4:$W$169,2,0),IF(AND(G15=6,H15="м"),VLOOKUP(BG15,'Отж. от пола'!$Y$4:$Z$169,2,0),IF(AND(G15=6,H15="ж"),VLOOKUP(BG15,'Отж. от пола'!$AB$4:$AC$169,2,0),IF(AND(G15=7,H15="м"),VLOOKUP(BG15,'Отж. от пола'!$AE$4:$AF$169,2,0),IF(AND(G15=7,H15="ж"),VLOOKUP(BG15,'Отж. от пола'!$AH$4:$AI$169,2,0),IF(AND(G15=8,H15="м"),VLOOKUP(BG15,'Отж. от пола'!$AK$4:$AL$169,2,0),IF(AND(G15=8,H15="ж"),VLOOKUP(BG15,'Отж. от пола'!$AN$4:$AO$169,2,0),IF(AND(G15=9,H15="м"),VLOOKUP(BG15,'Отж. от пола'!$AQ$4:$AR$169,2,0),IF(AND(G15=9,H15="ж"),VLOOKUP(BG15,'Отж. от пола'!$AT$4:$AU$169,2,0),IF(AND(G15=10,H15="м"),VLOOKUP(BG15,'Отж. от пола'!$AW$4:$AX$169,2,0),IF(AND(G15=10,H15="ж"),VLOOKUP(BG15,'Отж. от пола'!$AZ$4:$BA$169,2,0),IF(AND(G15=11,H15="м"),VLOOKUP(BG15,'Отж. от пола'!$BC$4:$BD$169,2,0),IF(AND(G15=11,H15="ж"),VLOOKUP(BG15,'Отж. от пола'!$BF$4:$BG$169,2,0),IF(AND(G15=12,H15="м"),VLOOKUP(BG15,'Отж. от пола'!$BI$4:$BJ$169,2,0),IF(AND(G15=12,H15="ж"),VLOOKUP(BG15,'Отж. от пола'!$BL$4:$BM$169,2,0),IF(AND(G15=13,H15="м"),VLOOKUP(BG15,'Отж. от пола'!$BO$4:$BP$169,2,0),IF(AND(G15=13,H15="ж"),VLOOKUP(BG15,'Отж. от пола'!$BR$4:$BS$169,2,0),IF(AND(G15=14,H15="м"),VLOOKUP(BG15,'Отж. от пола'!$BU$4:$BV$169,2,0),IF(AND(G15=14,H15="ж"),VLOOKUP(BG15,'Отж. от пола'!$BX$4:$BY$169,2,0),IF(AND(G15=15,H15="м"),VLOOKUP(BG15,'Отж. от пола'!$CA$4:$CB$169,2,0),IF(AND(G15=15,H15="ж"),VLOOKUP(BG15,'Отж. от пола'!$CD$4:$CE$169,2,0),""))))))))))))))))))))))))))))) -> 67 | BJ15: =IF(BI15="",0,IF(AND(G15=16,H15="м"),VLOOKUP(BI15,'Отж.от скамьи'!$A$4:$B$79,2,0),IF(AND(G15=16,H15="ж"),VLOOKUP(BI15,'Отж.от скамьи'!$D$4:$E$79,2,0),IF(AND(G15=17,H15="м"),VLOOKUP(BI15,'Отж.от скамьи'!$G$4:$H$79,2,0),IF(AND(G15=17,H15="ж"),VLOOKUP(BI15,'Отж.от скамьи'!$J$4:$K$79,2,0),""))))) -> 0 | BL15: =IF(BK15="",0,IF(AND(G15=18,H15="м"),VLOOKUP(BK15,'Отж.от стула'!$A$4:$B$68,2,0),IF(AND(G15=18,H15="ж"),VLOOKUP(BK15,'Отж.от стула'!$D$4:$E$69,2,0),""))) -> 0 | BM15: 9 | BN15: =IF(BM15="",0,IF(AND(G15=2,H15="м"),VLOOKUP(BM15,Наклон!$A$4:$B$69,2,0),IF(AND(G15=2,H15="ж"),VLOOKUP(BM15,Наклон!$A$74:$B$139,2,0),IF(AND(G15=3,H15="м"),VLOOKUP(BM15,Наклон!$D$4:$E$69,2,0),IF(AND(G15=3,H15="ж"),VLOOKUP(BM15,Наклон!$D$74:$E$139,2,0),IF(AND(G15=4,H15="м"),VLOOKUP(BM15,Наклон!$G$4:$H$69,2,0),IF(AND(G15=4,H15="ж"),VLOOKUP(BM15,Наклон!$G$74:$H$139,2,0),IF(AND(G15=5,H15="м"),VLOOKUP(BM15,Наклон!$J$4:$K$69,2,0),IF(AND(G15=5,H15="ж"),VLOOKUP(BM15,Наклон!$J$74:$K$139,2,0),IF(AND(G15=6,H15="м"),VLOOKUP(BM15,Наклон!$M$4:$N$69,2,0),IF(AND(G15=6,H15="ж"),VLOOKUP(BM15,Наклон!$M$74:$N$139,2,0),IF(AND(G15=7,H15="м"),VLOOKUP(BM15,Наклон!$P$4:$Q$69,2,0),IF(AND(G15=7,H15="ж"),VLOOKUP(BM15,Наклон!$P$74:$Q$139,2,0),IF(AND(G15=8,H15="м"),VLOOKUP(BM15,Наклон!$S$4:$T$69,2,0),IF(AND(G15=8,H15="ж"),VLOOKUP(BM15,Наклон!$S$74:$T$139,2,0),IF(AND(G15=9,H15="м"),VLOOKUP(BM15,Наклон!$V$4:$W$69,2,0),IF(AND(G15=9,H15="ж"),VLOOKUP(BM15,Наклон!$V$74:$W$139,2,0),IF(AND(G15=10,H15="м"),VLOOKUP(BM15,Наклон!$Y$4:$Z$69,2,0),IF(AND(G15=10,H15="ж"),VLOOKUP(BM15,Наклон!$Y$74:$Z$139,2,0),IF(AND(G15=11,H15="м"),VLOOKUP(BM15,Наклон!$AB$4:$AC$69,2,0),IF(AND(G15=11,H15="ж"),VLOOKUP(BM15,Наклон!$AB$74:$AC$139,2,0),IF(AND(G15=12,H15="м"),VLOOKUP(BM15,Наклон!$AE$4:$AF$69,2,0),IF(AND(G15=12,H15="ж"),VLOOKUP(BM15,Наклон!$AE$74:$AF$139,2,0),IF(AND(G15=13,H15="м"),VLOOKUP(BM15,Наклон!$AH$4:$AI$69,2,0),IF(AND(G15=13,H15="ж"),VLOOKUP(BM15,Наклон!$AH$74:$AI$139,2,0),IF(AND(G15=14,H15="м"),VLOOKUP(BM15,Наклон!$AK$4:$AL$69,2,0),IF(AND(G15=14,H15="ж"),VLOOKUP(BM15,Наклон!$AK$74:$AL$139,2,0),IF(AND(G15=15,H15="м"),VLOOKUP(BM15,Наклон!$AN$4:$AO$69,2,0),IF(AND(G15=15,H15="ж"),VLOOKUP(BM15,Наклон!$AN$74:$AO$139,2,0),IF(AND(G15=16,H15="м"),VLOOKUP(BM15,Наклон!$AQ$4:$AR$69,2,0),IF(AND(G15=16,H15="ж"),VLOOKUP(BM15,Наклон!$AQ$74:$AR$139,2,0),IF(AND(G15=17,H15="м"),VLOOKUP(BM15,Наклон!$AT$4:$AU$69,2,0),IF(AND(G15=17,H15="ж"),VLOOKUP(BM15,Наклон!$AT$74:$AU$139,2,0),IF(AND(G15=18,H15="м"),VLOOKUP(BM15,Наклон!$AW$4:$AX$69,2,0),IF(AND(G15=18,H15="ж"),VLOOKUP(BM15,Наклон!$AW$74:$AX$139,2,0)))))))))))))))))))))))))))))))))))) -> 60 | BP15: =IF(BO15="",0,IF(AND(G15=2,H15="м"),VLOOKUP(BO15,'Прыжок в длину'!$A$4:$B$294,2,0),IF(AND(G15=2,H15="ж"),VLOOKUP(BO15,'Прыжок в длину'!$D$4:$E$294,2,0),IF(AND(G15=3,H15="м"),VLOOKUP(BO15,'Прыжок в длину'!$G$4:$H$294,2,0),IF(AND(G15=3,H15="ж"),VLOOKUP(BO15,'Прыжок в длину'!$J$4:$K$294,2,0),IF(AND(G15=4,H15="м"),VLOOKUP(BO15,'Прыжок в длину'!$M$4:$N$294,2,0),IF(AND(G15=4,H15="ж"),VLOOKUP(BO15,'Прыжок в длину'!$P$4:$Q$294,2,0),IF(AND(G15=5,H15="м"),VLOOKUP(BO15,'Прыжок в длину'!$S$4:$T$294,2,0),IF(AND(G15=5,H15="ж"),VLOOKUP(BO15,'Прыжок в длину'!$V$4:$W$294,2,0),IF(AND(G15=6,H15="м"),VLOOKUP(BO15,'Прыжок в длину'!$Y$4:$Z$294,2,0),IF(AND(G15=6,H15="ж"),VLOOKUP(BO15,'Прыжок в длину'!$AB$4:$AC$294,2,0),IF(AND(G15=7,H15="м"),VLOOKUP(BO15,'Прыжок в длину'!$AE$4:$AF$294,2,0),IF(AND(G15=7,H15="ж"),VLOOKUP(BO15,'Прыжок в длину'!$AH$4:$AI$294,2,0),IF(AND(G15=8,H15="м"),VLOOKUP(BO15,'Прыжок в длину'!$AK$4:$AL$294,2,0),IF(AND(G15=8,H15="ж"),VLOOKUP(BO15,'Прыжок в длину'!$AN$4:$AO$294,2,0),IF(AND(G15=9,H15="м"),VLOOKUP(BO15,'Прыжок в длину'!$AQ$4:$AR$294,2,0),IF(AND(G15=9,H15="ж"),VLOOKUP(BO15,'Прыжок в длину'!$AT$4:$AU$294,2,0),IF(AND(G15=10,H15="м"),VLOOKUP(BO15,'Прыжок в длину'!$AW$4:$AX$294,2,0),IF(AND(G15=10,H15="ж"),VLOOKUP(BO15,'Прыжок в длину'!$AZ$4:$BA$294,2,0),IF(AND(G15=11,H15="м"),VLOOKUP(BO15,'Прыжок в длину'!BC10:$BD$294,2,0),IF(AND(G15=11,H15="ж"),VLOOKUP(BO15,'Прыжок в длину'!$BF$4:$BG$294,2,0),""))))))))))))))))))))) -> 0 | BQ15: 42 | BR15: =IF(BQ15="",0,IF(AND(G15=2,H15="м"),VLOOKUP(BQ15,Пресс!$A$4:$B$104,2,0),IF(AND(G15=2,H15="ж"),VLOOKUP(BQ15,Пресс!$D$4:$E$104,2,0),IF(AND(G15=3,H15="м"),VLOOKUP(BQ15,Пресс!$G$4:$H$104,2,0),IF(AND(G15=3,H15="ж"),VLOOKUP(BQ15,Пресс!$J$4:$K$104,2,0),IF(AND(G15=4,H15="м"),VLOOKUP(BQ15,Пресс!$M$4:$N$104,2,0),IF(AND(G15=4,H15="ж"),VLOOKUP(BQ15,Пресс!$P$4:$Q$104,2,0),IF(AND(G15=5,H15="м"),VLOOKUP(BQ15,Пресс!$S$4:$T$104,2,0),IF(AND(G15=5,H15="ж"),VLOOKUP(BQ15,Пресс!$V$4:$W$104,2,0),IF(AND(G15=6,H15="м"),VLOOKUP(BQ15,Пресс!$Y$4:$Z$104,2,0),IF(AND(G15=6,H15="ж"),VLOOKUP(BQ15,Пресс!$AB$4:$AC$104,2,0),IF(AND(G15=7,H15="м"),VLOOKUP(BQ15,Пресс!$AE$4:$AF$104,2,0),IF(AND(G15=7,H15="ж"),VLOOKUP(BQ15,Пресс!$AH$4:$AI$104,2,0),IF(AND(G15=8,H15="м"),VLOOKUP(BQ15,Пресс!$AK$4:$AL$104,2,0),IF(AND(G15=8,H15="ж"),VLOOKUP(BQ15,Пресс!$AN$4:$AO$104,2,0),IF(AND(G15=9,H15="м"),VLOOKUP(BQ15,Пресс!$AQ$4:$AR$104,2,0),IF(AND(G15=9,H15="ж"),VLOOKUP(BQ15,Пресс!$AT$4:$AU$104,2,0),IF(AND(G15=10,H15="м"),VLOOKUP(BQ15,Пресс!$AW$4:$AX$104,2,0),IF(AND(G15=10,H15="ж"),VLOOKUP(BQ15,Пресс!$AZ$4:$BA$104,2,0),IF(AND(G15=11,H15="м"),VLOOKUP(BQ15,Пресс!$BC$4:$BD$104,2,0),IF(AND(G15=11,H15="ж"),VLOOKUP(BQ15,Пресс!$BF$4:$BG$104,2,0),IF(AND(G15=12,H15="м"),VLOOKUP(BQ15,Пресс!$BI$4:$BJ$104,2,0),IF(AND(G15=12,H15="ж"),VLOOKUP(BQ15,Пресс!$BL$4:$BM$104,2,0),IF(AND(G15=13,H15="м"),VLOOKUP(BQ15,Пресс!$BO$4:$BP$104,2,0),IF(AND(G15=13,H15="ж"),VLOOKUP(BQ15,Пресс!$BR$4:$BS$104,2,0),IF(AND(G15=14,H15="м"),VLOOKUP(BQ15,Пресс!$BU$4:$BV$104,2,0),IF(AND(G15=14,H15="ж"),VLOOKUP(BQ15,Пресс!$BX$4:$BY$104,2,0),IF(AND(G15=15,H15="м"),VLOOKUP(BQ15,Пресс!$CA$4:$CB$104,2,0),IF(AND(G15=15,H15="ж"),VLOOKUP(BQ15,Пресс!$CD$4:$CE$104,2,0),IF(AND(G15=16,H15="м"),VLOOKUP(BQ15,Пресс!$CG$4:$CH$104,2,0),IF(AND(G15=16,H15="ж"),VLOOKUP(BQ15,Пресс!$CJ$4:$CK$104,2,0),IF(AND(G15=17,H15="м"),VLOOKUP(BQ15,Пресс!$CM$4:$CN$104,2,0),IF(AND(G15=17,H15="ж"),VLOOKUP(BQ15,Пресс!$CP$4:$CQ$104,2,0),IF(AND(G15=18,H15="м"),VLOOKUP(BQ15,Пресс!$CS$4:$CT$104,2,0),IF(AND(G15=18,H15="ж"),VLOOKUP(BQ15,Пресс!$CV$4:$CW$104,2,0),""))))))))))))))))))))))))))))))))))) -> 63 | BV15: =IF(BU15="",0,IF(AND(G15=4,H15="м"),VLOOKUP(BU15,Стрельба!$A$4:$B$54,2,0),IF(AND(G15=4,H15="ж"),VLOOKUP(BU15,Стрельба!$D$4:$E$54,2,0),IF(AND(G15=5,H15="м"),VLOOKUP(BU15,Стрельба!$G$4:$H$54,2,0),IF(AND(G15=5,H15="ж"),VLOOKUP(BU15,Стрельба!$J$4:$K$54,2,0),IF(AND(G15=6,H15="м"),VLOOKUP(BU15,Стрельба!$M$4:$N$54,2,0),IF(AND(G15=6,H15="ж"),VLOOKUP(BU15,Стрельба!$P$4:$Q$54,2,0),IF(AND(G15=7,H15="м"),VLOOKUP(BU15,Стрельба!$S$4:$T$54,2,0),IF(AND(G15=7,H15="ж"),VLOOKUP(BU15,Стрельба!$V$4:$W$54,2,0),IF(AND(G15=8,H15="м"),VLOOKUP(BU15,Стрельба!$Y$4:$Z$54,2,0),IF(AND(G15=8,H15="ж"),VLOOKUP(BU15,Стрельба!$AB$4:$AC$54,2,0),IF(AND(G15=9,H15="м"),VLOOKUP(BU15,Стрельба!$AE$4:$AF$54,2,0),IF(AND(G15=9,H15="ж"),VLOOKUP(BU15,Стрельба!$AH$4:$AI$54,2,0),IF(AND(G15=10,H15="м"),VLOOKUP(BU15,Стрельба!$AK$4:$AL$54,2,0),IF(AND(G15=10,H15="ж"),VLOOKUP(BU15,Стрельба!$AN$4:$AO$54,2,0),IF(AND(G15=11,H15="м"),VLOOKUP(BU15,Стрельба!$AQ$4:$AR$54,2,0),IF(AND(G15=11,H15="ж"),VLOOKUP(BU15,Стрельба!$AT$4:$AU$54,2,0),IF(AND(G15=12,H15="м"),VLOOKUP(BU15,Стрельба!$AW$4:$AX$54,2,0),IF(AND(G15=12,H15="ж"),VLOOKUP(BU15,Стрельба!$AZ$4:$BA$54,2,0),IF(AND(G15=13,H15="м"),VLOOKUP(BU15,Стрельба!$BC$4:$BD$54,2,0),IF(AND(G15=13,H15="ж"),VLOOKUP(BU15,Стрельба!$BF$4:$BG$54,2,0),IF(AND(G15=14,H15="м"),VLOOKUP(BU15,Стрельба!$BI$4:$BJ$54,2,0),IF(AND(G15=14,H15="ж"),VLOOKUP(BU15,Стрельба!$BL$4:$BM$54,2,0),IF(AND(G15=15,H15="м"),VLOOKUP(BU15,Стрельба!$BO$4:$BP$54,2,0),IF(AND(G15=15,H15="ж"),VLOOKUP(BU15,Стрельба!$BR$4:$BS$54,2,0),""))))))))))))))))))))))))) -> 0 | BZ15: =IF(BY15="",0,IF(AND(G15=3,H15="м"),VLOOKUP(BY15,'Метание 150г'!$A$4:$B$784,2,0),IF(AND(G15=3,H15="ж"),VLOOKUP(BY15,'Метание 150г'!$D$4:$E$784,2,0),IF(AND(G15=4,H15="м"),VLOOKUP(BY15,'Метание 150г'!$G$4:$H$784,2,0),IF(AND(G15=4,H15="ж"),VLOOKUP(BY15,'Метание 150г'!$J$4:$K$784,2,0),IF(AND(G15=5,H15="м"),VLOOKUP(BY15,'Метание 150г'!$M$4:$N$784,2,0),IF(AND(G15=5,H15="ж"),VLOOKUP(BY15,'Метание 150г'!$P$4:$Q$784,2,0),""))))))) -> 0 | CB15: =IF(CA15="",0,IF(AND(G15=6,H15="м"),VLOOKUP(CA15,'Метание 700г'!$A$4:$B$574,2,0),IF(AND(G15=7,H15="м"),VLOOKUP(CA15,'Метание 700г'!$D$4:$E$574,2,0),IF(AND(G15=8,H15="м"),VLOOKUP(CA15,'Метание 700г'!$G$4:$H$574,2,0),"")))) -> 0 | CD15: =IF(CC15="",0,IF(AND(G15=6,H15="ж"),VLOOKUP(CC15,'Метание 500г'!$A$4:$B$565,2,0),IF(AND(G15=7,H15="ж"),VLOOKUP(CC15,'Метание 500г'!$D$4:$E$565,2,0),IF(AND(G15=8,H15="ж"),VLOOKUP(CC15,'Метание 500г'!$G$4:$H$565,2,0),IF(AND(G15=9,H15="ж"),VLOOKUP(CC15,'Метание 500г'!$J$4:$K$565,2,0),IF(AND(G15=10,H15="ж"),VLOOKUP(CC15,'Метание 500г'!$M$4:$N$565,2,0),IF(AND(G15=11,H15="ж"),VLOOKUP(CC15,'Метание 500г'!$P$4:$Q$565,2,0),""))))))) -> 0 | CH15: =IF(CG15="",0,IF(AND(G15=2,H15="м"),VLOOKUP(CG15,'Плавание 25 м'!$A$4:$B$2333,2,0),IF(AND(G15=2,H15="ж"),VLOOKUP(CG15,'Плавание 25 м'!$D$4:$E$2333,2,0),IF(AND(G15=16,H15="м"),VLOOKUP(CG15,'Плавание 25 м'!$G$4:$H$2333,2,0),IF(AND(G15=16,H15="ж"),VLOOKUP(CG15,'Плавание 25 м'!$J$4:$K$2333,2,0),IF(AND(G15=17,H15="м"),VLOOKUP(CG15,'Плавание 25 м'!$M$4:$N$2333,2,0),IF(AND(G15=17,H15="ж"),VLOOKUP(CG15,'Плавание 25 м'!$P$4:$Q$2333,2,0),IF(AND(G15=18,H15="м"),VLOOKUP(CG15,'Плавание 25 м'!$S$4:$T$2333,2,0),IF(AND(G15=18,H15="ж"),VLOOKUP(CG15,'Плавание 25 м'!$V$4:$W$2333,2,0),""))))))))) -> 0 | CJ15: =IF(CI15="",0,IF(AND(G15=3,H15="м"),VLOOKUP(CI15,'Плавание 50 м'!$A$4:$B$1954,2,0),IF(AND(G15=3,H15="ж"),VLOOKUP(CI15,'Плавание 50 м'!$D$4:$E$1954,2,0),IF(AND(G15=4,H15="м"),VLOOKUP(CI15,'Плавание 50 м'!$G$4:$H$1954,2,0),IF(AND(G15=4,H15="ж"),VLOOKUP(CI15,'Плавание 50 м'!$J$4:$K$1954,2,0),IF(AND(G15=5,H15="м"),VLOOKUP(CI15,'Плавание 50 м'!$M$4:$N$1954,2,0),IF(AND(G15=5,H15="ж"),VLOOKUP(CI15,'Плавание 50 м'!$P$4:$Q$1954,2,0),IF(AND(G15=6,H15="м"),VLOOKUP(CI15,'Плавание 50 м'!$S$4:$T$1954,2,0),IF(AND(G15=6,H15="ж"),VLOOKUP(CI15,'Плавание 50 м'!$V$4:$W$1954,2,0),IF(AND(G15=7,H15="м"),VLOOKUP(CI15,'Плавание 50 м'!$Y$4:$Z$1954,2,0),IF(AND(G15=7,H15="ж"),VLOOKUP(CI15,'Плавание 50 м'!$AB$4:$AC$1954,2,0),IF(AND(G15=8,H15="м"),VLOOKUP(CI15,'Плавание 50 м'!$AE$4:$AF$1954,2,0),IF(AND(G15=8,H15="ж"),VLOOKUP(CI15,'Плавание 50 м'!$AH$4:$AI$1954,2,0),IF(AND(G15=9,H15="м"),VLOOKUP(CI15,'Плавание 50 м'!$AK$4:$AL$1954,2,0),IF(AND(G15=9,H15="ж"),VLOOKUP(CI15,'Плавание 50 м'!$AN$4:$AO$1954,2,0),IF(AND(G15=10,H15="м"),VLOOKUP(CI15,'Плавание 50 м'!$AQ$4:$AR$1954,2,0),IF(AND(G15=10,H15="ж"),VLOOKUP(CI15,'Плавание 50 м'!$AT$4:$AU$1954,2,0),IF(AND(G15=11,H15="м"),VLOOKUP(CI15,'Плавание 50 м'!$AW$4:$AX$1954,2,0),IF(AND(G15=11,H15="ж"),VLOOKUP(CI15,'Плавание 50 м'!$AZ$4:$BA$1954,2,0),IF(AND(G15=12,H15="м"),VLOOKUP(CI15,'Плавание 50 м'!$BC$4:$BD$1954,2,0),IF(AND(G15=12,H15="ж"),VLOOKUP(CI15,'Плавание 50 м'!$BF$4:$BG$1954,2,0),IF(AND(G15=13,H15="м"),VLOOKUP(CI15,'Плавание 50 м'!$BI$4:$BJ$1954,2,0),IF(AND(G15=13,H15="ж"),VLOOKUP(CI15,'Плавание 50 м'!$BL$4:$BM$1954,2,0),IF(AND(G15=14,H15="м"),VLOOKUP(CI15,'Плавание 50 м'!$BO$4:$BP$1954,2,0),IF(AND(G15=14,H15="ж"),VLOOKUP(CI15,'Плавание 50 м'!$BR$4:$BS$1954,2,0),IF(AND(G15=15,H15="м"),VLOOKUP(CI15,'Плавание 50 м'!$BU$4:$BV$1954,2,0),IF(AND(G15=15,H15="ж"),VLOOKUP(CI15,'Плавание 50 м'!$BX$4:$BY$1954,2,0),""))))))))))))))))))))))))))) -> 0 | CK15: =BR15+BN15+BH15 -> 190
A16: 8 | B16: Григорьев Дмитрий Евгеньевич | C16: ПАО "АКРОН" - 2 | D16: 25-53-0011752 | E16: 16.08.1988 | F16: =IF(E16="",0,INT(($B$4-E16)/365.25)) -> 37 | G16: =IFERROR(VLOOKUP(F16,Ступени!$A$2:$B$99,2,0),"") -> 11 | H16: м | J16: =IF(I16="",0,IF(AND(G16=2,H16="м"),VLOOKUP(I16,'30м'!$A$4:$B$71,2,0),IF(AND(G16=2,H16="ж"),VLOOKUP(I16,'30м'!$D$4:$E$71,2,0),IF(AND(G16=3,H16="м"),VLOOKUP(I16,'30м'!$G$4:$H$71,2,0),IF(AND(G16=3,H16="ж"),VLOOKUP(I16,'30м'!$J$4:$K$71,2,0),IF(AND(G16=4,H16="м"),VLOOKUP(I16,'30м'!$M$4:$N$71,2,0),IF(AND(G16=4,H16="ж"),VLOOKUP(I16,'30м'!$P$4:$Q$71,2,0),IF(AND(G16=5,H16="м"),VLOOKUP(I16,'30м'!$S$4:$T$71,2,0),IF(AND(G16=5,H16="ж"),VLOOKUP(I16,'30м'!$V$4:$W$71,2,0),""))))))))) -> 0 | L16: =IF(K16="",0,IF(AND(G16=4,H16="м"),VLOOKUP(K16,'60м'!$A$4:$B$129,2,0),IF(AND(G16=4,H16="ж"),VLOOKUP(K16,'60м'!$D$4:$E$129,2,0),IF(AND(G16=5,H16="м"),VLOOKUP(K16,'60м'!$G$4:$H$129,2,0),IF(AND(G16=5,H16="ж"),VLOOKUP(K16,'60м'!$J$4:$K$129,2,0),IF(AND(G16=6,H16="м"),VLOOKUP(K16,'60м'!$M$4:$N$129,2,0),IF(AND(G16=6,H16="ж"),VLOOKUP(K16,'60м'!$P$4:$Q$129,2,0),IF(AND(G16=7,H16="м"),VLOOKUP(K16,'60м'!$S$4:$T$129,2,0),IF(AND(G16=7,H16="ж"),VLOOKUP(K16,'60м'!$V$4:$W$129,2,0),IF(AND(G16=8,H16="м"),VLOOKUP(K16,'60м'!$Y$4:$Z$129,2,0),IF(AND(G16=8,H16="ж"),VLOOKUP(K16,'60м'!$AB$4:$AC$129,2,0),IF(AND(G16=9,H16="м"),VLOOKUP(K16,'60м'!$AE$4:$AF$129,2,0),IF(AND(G16=9,H16="ж"),VLOOKUP(K16,'60м'!$AH$4:$AI$129,2,0),IF(AND(G16=10,H16="м"),VLOOKUP(K16,'60м'!$AK$4:$AL$129,2,0),IF(AND(G16=10,H16="ж"),VLOOKUP(K16,'60м'!$AN$4:$AO$129,2,0),IF(AND(G16=11,H16="м"),VLOOKUP(K16,'60м'!$AQ$4:$AR$129,2,0),IF(AND(G16=11,H16="ж"),VLOOKUP(K16,'60м'!$AT$4:$AU$129,2,0),IF(AND(G16=12,H16="м"),VLOOKUP(K16,'60м'!$AW$4:$AX$129,2,0),IF(AND(G16=12,H16="ж"),VLOOKUP(K16,'60м'!$AZ$4:$BA$129,2,0),IF(AND(G16=13,H16="м"),VLOOKUP(K16,'60м'!$BC$4:$BD$129,2,0),IF(AND(G16=13,H16="ж"),VLOOKUP(K16,'60м'!$BF$4:$BG$129,2,0),""))))))))))))))))))))) -> 0 | N16: =IF(M16="",0,IF(AND(G16=6,H16="м"),VLOOKUP(M16,'100м'!$A$4:$B$134,2,0),IF(AND(G16=6,H16="ж"),VLOOKUP(M16,'100м'!$D$4:$E$134,2,0),IF(AND(G16=7,H16="м"),VLOOKUP(M16,'100м'!$G$4:$H$134,2,0),IF(AND(G16=7,H16="ж"),VLOOKUP(M16,'100м'!$J$4:$K$134,2,0),IF(AND(G16=8,H16="м"),VLOOKUP(M16,'100м'!$M$4:$N$134,2,0),IF(AND(G16=8,H16="ж"),VLOOKUP(M16,'100м'!$P$4:$Q$134,2,0),IF(AND(G16=9,H16="м"),VLOOKUP(M16,'100м'!$S$4:$T$134,2,0),IF(AND(G16=9,H16="ж"),VLOOKUP(M16,'100м'!$V$4:$W$134,2,0),""))))))))) -> 0 | R16: =IF(Q16="",0,IF(AND(G16=4,H16="м"),VLOOKUP(Q16,'1500м'!$A$4:$B$364,2,0),IF(AND(G16=4,H16="ж"),VLOOKUP(Q16,'1500м'!$D$4:$E$364,2,0),""))) -> 0 | T16: =IF(S16="",0,IF(AND(G16=5,H16="м"),VLOOKUP(S16,'2000м'!$A$4:$B$780,2,0),IF(AND(G16=5,H16="ж"),VLOOKUP(S16,'2000м'!$D$4:$E$780,2,0),IF(AND(G16=6,H16="ж"),VLOOKUP(S16,'2000м'!$G$4:$H$780,2,0),IF(AND(G16=7,H16="ж"),VLOOKUP(S16,'2000м'!$J$4:$K$780,2,0),IF(AND(G16=8,H16="ж"),VLOOKUP(S16,'2000м'!$M$4:$N$780,2,0),"")))))) -> 0 | V16: =IF(U16="",0,IF(AND(G16=6,H16="м"),VLOOKUP(U16,'3000м'!$A$4:$B$594,2,0),IF(AND(G16=7,H16="м"),VLOOKUP(U16,'3000м'!$D$4:$E$594,2,0),IF(AND(G16=8,H16="м"),VLOOKUP(U16,'3000м'!$G$4:$H$594,2,0),IF(AND(G16=9,H16="м"),VLOOKUP(U16,'3000м'!$J$4:$K$594,2,0),IF(AND(G16=10,H16="м"),VLOOKUP(U16,'3000м'!$M$4:$N$594,2,0),IF(AND(G16=11,H16="м"),VLOOKUP(U16,'3000м'!$P$4:$Q$594,2,0),""))))))) -> 0 | BB16: =IF(BA16="",0,IF(AND(G16=2,H16="м"),VLOOKUP(BA16,Подтягивание!$A$4:$B$79,2,0),IF(AND(G16=3,H16="м"),VLOOKUP(BA16,Подтягивание!$D$4:$E$79,2,0),IF(AND(G16=4,H16="м"),VLOOKUP(BA16,Подтягивание!$G$4:$H$79,2,0),IF(AND(G16=5,H16="м"),VLOOKUP(BA16,Подтягивание!$J$4:$K$79,2,0),IF(AND(G16=6,H16="м"),VLOOKUP(BA16,Подтягивание!$M$4:$N$79,2,0),IF(AND(G16=7,H16="м"),VLOOKUP(BA16,Подтягивание!$P$4:$Q$79,2,0),IF(AND(G16=8,H16="м"),VLOOKUP(BA16,Подтягивание!$S$4:$T$79,2,0),IF(AND(G16=9,H16="м"),VLOOKUP(BA16,Подтягивание!$V$4:$W$79,2,0),IF(AND(G16=10,H16="м"),VLOOKUP(BA16,Подтягивание!$Y$4:$Z$79,2,0),IF(AND(G16=11,H16="м"),VLOOKUP(BA16,Подтягивание!$AB$4:$AC$79,2,0),IF(AND(G16=12,H16="м"),VLOOKUP(BA16,Подтягивание!$AE$4:$AF$79,2,0),IF(AND(G16=13,H16="м"),VLOOKUP(BA16,Подтягивание!$AH$4:$AI$79,2,0),IF(AND(G16=14,H16="м"),VLOOKUP(BA16,Подтягивание!$AK$4:$AL$79,2,0),IF(AND(G16=15,H16="м"),VLOOKUP(BA16,Подтягивание!$AN$4:$AO$79,2,0),""))))))))))))))) -> 0 | BF16: =IF(BE16="",0,IF(AND(G16=6,H16="м"),VLOOKUP(BE16,Гиря!$A$4:$B$166,2,0),IF(AND(G16=7,H16="м"),VLOOKUP(BE16,Гиря!$D$4:$E$166,2,0),IF(AND(G16=8,H16="м"),VLOOKUP(BE16,Гиря!$G$4:$H$166,2,0),IF(AND(G16=9,H16="м"),VLOOKUP(BE16,Гиря!$J$4:$K$166,2,0),IF(AND(G16=10,H16="м"),VLOOKUP(BE16,Гиря!$M$4:$N$166,2,0),IF(AND(G16=11,H16="м"),VLOOKUP(BE16,Гиря!$P$4:$Q$166,2,0),IF(AND(G16=12,H16="м"),VLOOKUP(BE16,Гиря!$S$4:$T$166,2,0),IF(AND(G16=13,H16="м"),VLOOKUP(BE16,Гиря!$V$4:$W$166,2,0),IF(AND(G16=14,H16="м"),VLOOKUP(BE16,Гиря!$Y$4:$Z$166,2,0),IF(AND(G16=15,H16="м"),VLOOKUP(BE16,Гиря!$AB$4:$AC$166,2,0),""))))))))))) -> 0 | BG16: 50 | BH16: =IF(BG16="",0,IF(AND(G16=2,H16="м"),VLOOKUP(BG16,'Отж. от пола'!$A$4:$B$169,2,0),IF(AND(G16=2,H16="ж"),VLOOKUP(BG16,'Отж. от пола'!$D$4:$E$169,2,0),IF(AND(G16=3,H16="м"),VLOOKUP(BG16,'Отж. от пола'!$G$4:$H$169,2,0),IF(AND(G16=3,H16="ж"),VLOOKUP(BG16,'Отж. от пола'!$J$4:$K$169,2,0),IF(AND(G16=4,H16="м"),VLOOKUP(BG16,'Отж. от пола'!$M$4:$N$169,2,0),IF(AND(G16=4,H16="ж"),VLOOKUP(BG16,'Отж. от пола'!$P$4:$Q$169,2,0),IF(AND(G16=5,H16="м"),VLOOKUP(BG16,'Отж. от пола'!$S$4:$T$169,2,0),IF(AND(G16=5,H16="ж"),VLOOKUP(BG16,'Отж. от пола'!$V$4:$W$169,2,0),IF(AND(G16=6,H16="м"),VLOOKUP(BG16,'Отж. от пола'!$Y$4:$Z$169,2,0),IF(AND(G16=6,H16="ж"),VLOOKUP(BG16,'Отж. от пола'!$AB$4:$AC$169,2,0),IF(AND(G16=7,H16="м"),VLOOKUP(BG16,'Отж. от пола'!$AE$4:$AF$169,2,0),IF(AND(G16=7,H16="ж"),VLOOKUP(BG16,'Отж. от пола'!$AH$4:$AI$169,2,0),IF(AND(G16=8,H16="м"),VLOOKUP(BG16,'Отж. от пола'!$AK$4:$AL$169,2,0),IF(AND(G16=8,H16="ж"),VLOOKUP(BG16,'Отж. от пола'!$AN$4:$AO$169,2,0),IF(AND(G16=9,H16="м"),VLOOKUP(BG16,'Отж. от пола'!$AQ$4:$AR$169,2,0),IF(AND(G16=9,H16="ж"),VLOOKUP(BG16,'Отж. от пола'!$AT$4:$AU$169,2,0),IF(AND(G16=10,H16="м"),VLOOKUP(BG16,'Отж. от пола'!$AW$4:$AX$169,2,0),IF(AND(G16=10,H16="ж"),VLOOKUP(BG16,'Отж. от пола'!$AZ$4:$BA$169,2,0),IF(AND(G16=11,H16="м"),VLOOKUP(BG16,'Отж. от пола'!$BC$4:$BD$169,2,0),IF(AND(G16=11,H16="ж"),VLOOKUP(BG16,'Отж. от пола'!$BF$4:$BG$169,2,0),IF(AND(G16=12,H16="м"),VLOOKUP(BG16,'Отж. от пола'!$BI$4:$BJ$169,2,0),IF(AND(G16=12,H16="ж"),VLOOKUP(BG16,'Отж. от пола'!$BL$4:$BM$169,2,0),IF(AND(G16=13,H16="м"),VLOOKUP(BG16,'Отж. от пола'!$BO$4:$BP$169,2,0),IF(AND(G16=13,H16="ж"),VLOOKUP(BG16,'Отж. от пола'!$BR$4:$BS$169,2,0),IF(AND(G16=14,H16="м"),VLOOKUP(BG16,'Отж. от пола'!$BU$4:$BV$169,2,0),IF(AND(G16=14,H16="ж"),VLOOKUP(BG16,'Отж. от пола'!$BX$4:$BY$169,2,0),IF(AND(G16=15,H16="м"),VLOOKUP(BG16,'Отж. от пола'!$CA$4:$CB$169,2,0),IF(AND(G16=15,H16="ж"),VLOOKUP(BG16,'Отж. от пола'!$CD$4:$CE$169,2,0),""))))))))))))))))))))))))))))) -> 70 | BJ16: =IF(BI16="",0,IF(AND(G16=16,H16="м"),VLOOKUP(BI16,'Отж.от скамьи'!$A$4:$B$79,2,0),IF(AND(G16=16,H16="ж"),VLOOKUP(BI16,'Отж.от скамьи'!$D$4:$E$79,2,0),IF(AND(G16=17,H16="м"),VLOOKUP(BI16,'Отж.от скамьи'!$G$4:$H$79,2,0),IF(AND(G16=17,H16="ж"),VLOOKUP(BI16,'Отж.от скамьи'!$J$4:$K$79,2,0),""))))) -> 0 | BL16: =IF(BK16="",0,IF(AND(G16=18,H16="м"),VLOOKUP(BK16,'Отж.от стула'!$A$4:$B$68,2,0),IF(AND(G16=18,H16="ж"),VLOOKUP(BK16,'Отж.от стула'!$D$4:$E$69,2,0),""))) -> 0 | BM16: 14 | BN16: =IF(BM16="",0,IF(AND(G16=2,H16="м"),VLOOKUP(BM16,Наклон!$A$4:$B$69,2,0),IF(AND(G16=2,H16="ж"),VLOOKUP(BM16,Наклон!$A$74:$B$139,2,0),IF(AND(G16=3,H16="м"),VLOOKUP(BM16,Наклон!$D$4:$E$69,2,0),IF(AND(G16=3,H16="ж"),VLOOKUP(BM16,Наклон!$D$74:$E$139,2,0),IF(AND(G16=4,H16="м"),VLOOKUP(BM16,Наклон!$G$4:$H$69,2,0),IF(AND(G16=4,H16="ж"),VLOOKUP(BM16,Наклон!$G$74:$H$139,2,0),IF(AND(G16=5,H16="м"),VLOOKUP(BM16,Наклон!$J$4:$K$69,2,0),IF(AND(G16=5,H16="ж"),VLOOKUP(BM16,Наклон!$J$74:$K$139,2,0),IF(AND(G16=6,H16="м"),VLOOKUP(BM16,Наклон!$M$4:$N$69,2,0),IF(AND(G16=6,H16="ж"),VLOOKUP(BM16,Наклон!$M$74:$N$139,2,0),IF(AND(G16=7,H16="м"),VLOOKUP(BM16,Наклон!$P$4:$Q$69,2,0),IF(AND(G16=7,H16="ж"),VLOOKUP(BM16,Наклон!$P$74:$Q$139,2,0),IF(AND(G16=8,H16="м"),VLOOKUP(BM16,Наклон!$S$4:$T$69,2,0),IF(AND(G16=8,H16="ж"),VLOOKUP(BM16,Наклон!$S$74:$T$139,2,0),IF(AND(G16=9,H16="м"),VLOOKUP(BM16,Наклон!$V$4:$W$69,2,0),IF(AND(G16=9,H16="ж"),VLOOKUP(BM16,Наклон!$V$74:$W$139,2,0),IF(AND(G16=10,H16="м"),VLOOKUP(BM16,Наклон!$Y$4:$Z$69,2,0),IF(AND(G16=10,H16="ж"),VLOOKUP(BM16,Наклон!$Y$74:$Z$139,2,0),IF(AND(G16=11,H16="м"),VLOOKUP(BM16,Наклон!$AB$4:$AC$69,2,0),IF(AND(G16=11,H16="ж"),VLOOKUP(BM16,Наклон!$AB$74:$AC$139,2,0),IF(AND(G16=12,H16="м"),VLOOKUP(BM16,Наклон!$AE$4:$AF$69,2,0),IF(AND(G16=12,H16="ж"),VLOOKUP(BM16,Наклон!$AE$74:$AF$139,2,0),IF(AND(G16=13,H16="м"),VLOOKUP(BM16,Наклон!$AH$4:$AI$69,2,0),IF(AND(G16=13,H16="ж"),VLOOKUP(BM16,Наклон!$AH$74:$AI$139,2,0),IF(AND(G16=14,H16="м"),VLOOKUP(BM16,Наклон!$AK$4:$AL$69,2,0),IF(AND(G16=14,H16="ж"),VLOOKUP(BM16,Наклон!$AK$74:$AL$139,2,0),IF(AND(G16=15,H16="м"),VLOOKUP(BM16,Наклон!$AN$4:$AO$69,2,0),IF(AND(G16=15,H16="ж"),VLOOKUP(BM16,Наклон!$AN$74:$AO$139,2,0),IF(AND(G16=16,H16="м"),VLOOKUP(BM16,Наклон!$AQ$4:$AR$69,2,0),IF(AND(G16=16,H16="ж"),VLOOKUP(BM16,Наклон!$AQ$74:$AR$139,2,0),IF(AND(G16=17,H16="м"),VLOOKUP(BM16,Наклон!$AT$4:$AU$69,2,0),IF(AND(G16=17,H16="ж"),VLOOKUP(BM16,Наклон!$AT$74:$AU$139,2,0),IF(AND(G16=18,H16="м"),VLOOKUP(BM16,Наклон!$AW$4:$AX$69,2,0),IF(AND(G16=18,H16="ж"),VLOOKUP(BM16,Наклон!$AW$74:$AX$139,2,0)))))))))))))))))))))))))))))))))))) -> 68 | BP16: =IF(BO16="",0,IF(AND(G16=2,H16="м"),VLOOKUP(BO16,'Прыжок в длину'!$A$4:$B$294,2,0),IF(AND(G16=2,H16="ж"),VLOOKUP(BO16,'Прыжок в длину'!$D$4:$E$294,2,0),IF(AND(G16=3,H16="м"),VLOOKUP(BO16,'Прыжок в длину'!$G$4:$H$294,2,0),IF(AND(G16=3,H16="ж"),VLOOKUP(BO16,'Прыжок в длину'!$J$4:$K$294,2,0),IF(AND(G16=4,H16="м"),VLOOKUP(BO16,'Прыжок в длину'!$M$4:$N$294,2,0),IF(AND(G16=4,H16="ж"),VLOOKUP(BO16,'Прыжок в длину'!$P$4:$Q$294,2,0),IF(AND(G16=5,H16="м"),VLOOKUP(BO16,'Прыжок в длину'!$S$4:$T$294,2,0),IF(AND(G16=5,H16="ж"),VLOOKUP(BO16,'Прыжок в длину'!$V$4:$W$294,2,0),IF(AND(G16=6,H16="м"),VLOOKUP(BO16,'Прыжок в длину'!$Y$4:$Z$294,2,0),IF(AND(G16=6,H16="ж"),VLOOKUP(BO16,'Прыжок в длину'!$AB$4:$AC$294,2,0),IF(AND(G16=7,H16="м"),VLOOKUP(BO16,'Прыжок в длину'!$AE$4:$AF$294,2,0),IF(AND(G16=7,H16="ж"),VLOOKUP(BO16,'Прыжок в длину'!$AH$4:$AI$294,2,0),IF(AND(G16=8,H16="м"),VLOOKUP(BO16,'Прыжок в длину'!$AK$4:$AL$294,2,0),IF(AND(G16=8,H16="ж"),VLOOKUP(BO16,'Прыжок в длину'!$AN$4:$AO$294,2,0),IF(AND(G16=9,H16="м"),VLOOKUP(BO16,'Прыжок в длину'!$AQ$4:$AR$294,2,0),IF(AND(G16=9,H16="ж"),VLOOKUP(BO16,'Прыжок в длину'!$AT$4:$AU$294,2,0),IF(AND(G16=10,H16="м"),VLOOKUP(BO16,'Прыжок в длину'!$AW$4:$AX$294,2,0),IF(AND(G16=10,H16="ж"),VLOOKUP(BO16,'Прыжок в длину'!$AZ$4:$BA$294,2,0),IF(AND(G16=11,H16="м"),VLOOKUP(BO16,'Прыжок в длину'!BC11:$BD$294,2,0),IF(AND(G16=11,H16="ж"),VLOOKUP(BO16,'Прыжок в длину'!$BF$4:$BG$294,2,0),""))))))))))))))))))))) -> 0 | BQ16: 47 | BR16: =IF(BQ16="",0,IF(AND(G16=2,H16="м"),VLOOKUP(BQ16,Пресс!$A$4:$B$104,2,0),IF(AND(G16=2,H16="ж"),VLOOKUP(BQ16,Пресс!$D$4:$E$104,2,0),IF(AND(G16=3,H16="м"),VLOOKUP(BQ16,Пресс!$G$4:$H$104,2,0),IF(AND(G16=3,H16="ж"),VLOOKUP(BQ16,Пресс!$J$4:$K$104,2,0),IF(AND(G16=4,H16="м"),VLOOKUP(BQ16,Пресс!$M$4:$N$104,2,0),IF(AND(G16=4,H16="ж"),VLOOKUP(BQ16,Пресс!$P$4:$Q$104,2,0),IF(AND(G16=5,H16="м"),VLOOKUP(BQ16,Пресс!$S$4:$T$104,2,0),IF(AND(G16=5,H16="ж"),VLOOKUP(BQ16,Пресс!$V$4:$W$104,2,0),IF(AND(G16=6,H16="м"),VLOOKUP(BQ16,Пресс!$Y$4:$Z$104,2,0),IF(AND(G16=6,H16="ж"),VLOOKUP(BQ16,Пресс!$AB$4:$AC$104,2,0),IF(AND(G16=7,H16="м"),VLOOKUP(BQ16,Пресс!$AE$4:$AF$104,2,0),IF(AND(G16=7,H16="ж"),VLOOKUP(BQ16,Пресс!$AH$4:$AI$104,2,0),IF(AND(G16=8,H16="м"),VLOOKUP(BQ16,Пресс!$AK$4:$AL$104,2,0),IF(AND(G16=8,H16="ж"),VLOOKUP(BQ16,Пресс!$AN$4:$AO$104,2,0),IF(AND(G16=9,H16="м"),VLOOKUP(BQ16,Пресс!$AQ$4:$AR$104,2,0),IF(AND(G16=9,H16="ж"),VLOOKUP(BQ16,Пресс!$AT$4:$AU$104,2,0),IF(AND(G16=10,H16="м"),VLOOKUP(BQ16,Пресс!$AW$4:$AX$104,2,0),IF(AND(G16=10,H16="ж"),VLOOKUP(BQ16,Пресс!$AZ$4:$BA$104,2,0),IF(AND(G16=11,H16="м"),VLOOKUP(BQ16,Пресс!$BC$4:$BD$104,2,0),IF(AND(G16=11,H16="ж"),VLOOKUP(BQ16,Пресс!$BF$4:$BG$104,2,0),IF(AND(G16=12,H16="м"),VLOOKUP(BQ16,Пресс!$BI$4:$BJ$104,2,0),IF(AND(G16=12,H16="ж"),VLOOKUP(BQ16,Пресс!$BL$4:$BM$104,2,0),IF(AND(G16=13,H16="м"),VLOOKUP(BQ16,Пресс!$BO$4:$BP$104,2,0),IF(AND(G16=13,H16="ж"),VLOOKUP(BQ16,Пресс!$BR$4:$BS$104,2,0),IF(AND(G16=14,H16="м"),VLOOKUP(BQ16,Пресс!$BU$4:$BV$104,2,0),IF(AND(G16=14,H16="ж"),VLOOKUP(BQ16,Пресс!$BX$4:$BY$104,2,0),IF(AND(G16=15,H16="м"),VLOOKUP(BQ16,Пресс!$CA$4:$CB$104,2,0),IF(AND(G16=15,H16="ж"),VLOOKUP(BQ16,Пресс!$CD$4:$CE$104,2,0),IF(AND(G16=16,H16="м"),VLOOKUP(BQ16,Пресс!$CG$4:$CH$104,2,0),IF(AND(G16=16,H16="ж"),VLOOKUP(BQ16,Пресс!$CJ$4:$CK$104,2,0),IF(AND(G16=17,H16="м"),VLOOKUP(BQ16,Пресс!$CM$4:$CN$104,2,0),IF(AND(G16=17,H16="ж"),VLOOKUP(BQ16,Пресс!$CP$4:$CQ$104,2,0),IF(AND(G16=18,H16="м"),VLOOKUP(BQ16,Пресс!$CS$4:$CT$104,2,0),IF(AND(G16=18,H16="ж"),VLOOKUP(BQ16,Пресс!$CV$4:$CW$104,2,0),""))))))))))))))))))))))))))))))))))) -> 64 | BV16: =IF(BU16="",0,IF(AND(G16=4,H16="м"),VLOOKUP(BU16,Стрельба!$A$4:$B$54,2,0),IF(AND(G16=4,H16="ж"),VLOOKUP(BU16,Стрельба!$D$4:$E$54,2,0),IF(AND(G16=5,H16="м"),VLOOKUP(BU16,Стрельба!$G$4:$H$54,2,0),IF(AND(G16=5,H16="ж"),VLOOKUP(BU16,Стрельба!$J$4:$K$54,2,0),IF(AND(G16=6,H16="м"),VLOOKUP(BU16,Стрельба!$M$4:$N$54,2,0),IF(AND(G16=6,H16="ж"),VLOOKUP(BU16,Стрельба!$P$4:$Q$54,2,0),IF(AND(G16=7,H16="м"),VLOOKUP(BU16,Стрельба!$S$4:$T$54,2,0),IF(AND(G16=7,H16="ж"),VLOOKUP(BU16,Стрельба!$V$4:$W$54,2,0),IF(AND(G16=8,H16="м"),VLOOKUP(BU16,Стрельба!$Y$4:$Z$54,2,0),IF(AND(G16=8,H16="ж"),VLOOKUP(BU16,Стрельба!$AB$4:$AC$54,2,0),IF(AND(G16=9,H16="м"),VLOOKUP(BU16,Стрельба!$AE$4:$AF$54,2,0),IF(AND(G16=9,H16="ж"),VLOOKUP(BU16,Стрельба!$AH$4:$AI$54,2,0),IF(AND(G16=10,H16="м"),VLOOKUP(BU16,Стрельба!$AK$4:$AL$54,2,0),IF(AND(G16=10,H16="ж"),VLOOKUP(BU16,Стрельба!$AN$4:$AO$54,2,0),IF(AND(G16=11,H16="м"),VLOOKUP(BU16,Стрельба!$AQ$4:$AR$54,2,0),IF(AND(G16=11,H16="ж"),VLOOKUP(BU16,Стрельба!$AT$4:$AU$54,2,0),IF(AND(G16=12,H16="м"),VLOOKUP(BU16,Стрельба!$AW$4:$AX$54,2,0),IF(AND(G16=12,H16="ж"),VLOOKUP(BU16,Стрельба!$AZ$4:$BA$54,2,0),IF(AND(G16=13,H16="м"),VLOOKUP(BU16,Стрельба!$BC$4:$BD$54,2,0),IF(AND(G16=13,H16="ж"),VLOOKUP(BU16,Стрельба!$BF$4:$BG$54,2,0),IF(AND(G16=14,H16="м"),VLOOKUP(BU16,Стрельба!$BI$4:$BJ$54,2,0),IF(AND(G16=14,H16="ж"),VLOOKUP(BU16,Стрельба!$BL$4:$BM$54,2,0),IF(AND(G16=15,H16="м"),VLOOKUP(BU16,Стрельба!$BO$4:$BP$54,2,0),IF(AND(G16=15,H16="ж"),VLOOKUP(BU16,Стрельба!$BR$4:$BS$54,2,0),""))))))))))))))))))))))))) -> 0 | BZ16: =IF(BY16="",0,IF(AND(G16=3,H16="м"),VLOOKUP(BY16,'Метание 150г'!$A$4:$B$784,2,0),IF(AND(G16=3,H16="ж"),VLOOKUP(BY16,'Метание 150г'!$D$4:$E$784,2,0),IF(AND(G16=4,H16="м"),VLOOKUP(BY16,'Метание 150г'!$G$4:$H$784,2,0),IF(AND(G16=4,H16="ж"),VLOOKUP(BY16,'Метание 150г'!$J$4:$K$784,2,0),IF(AND(G16=5,H16="м"),VLOOKUP(BY16,'Метание 150г'!$M$4:$N$784,2,0),IF(AND(G16=5,H16="ж"),VLOOKUP(BY16,'Метание 150г'!$P$4:$Q$784,2,0),""))))))) -> 0 | CB16: =IF(CA16="",0,IF(AND(G16=6,H16="м"),VLOOKUP(CA16,'Метание 700г'!$A$4:$B$574,2,0),IF(AND(G16=7,H16="м"),VLOOKUP(CA16,'Метание 700г'!$D$4:$E$574,2,0),IF(AND(G16=8,H16="м"),VLOOKUP(CA16,'Метание 700г'!$G$4:$H$574,2,0),"")))) -> 0 | CD16: =IF(CC16="",0,IF(AND(G16=6,H16="ж"),VLOOKUP(CC16,'Метание 500г'!$A$4:$B$565,2,0),IF(AND(G16=7,H16="ж"),VLOOKUP(CC16,'Метание 500г'!$D$4:$E$565,2,0),IF(AND(G16=8,H16="ж"),VLOOKUP(CC16,'Метание 500г'!$G$4:$H$565,2,0),IF(AND(G16=9,H16="ж"),VLOOKUP(CC16,'Метание 500г'!$J$4:$K$565,2,0),IF(AND(G16=10,H16="ж"),VLOOKUP(CC16,'Метание 500г'!$M$4:$N$565,2,0),IF(AND(G16=11,H16="ж"),VLOOKUP(CC16,'Метание 500г'!$P$4:$Q$565,2,0),""))))))) -> 0 | CH16: =IF(CG16="",0,IF(AND(G16=2,H16="м"),VLOOKUP(CG16,'Плавание 25 м'!$A$4:$B$2333,2,0),IF(AND(G16=2,H16="ж"),VLOOKUP(CG16,'Плавание 25 м'!$D$4:$E$2333,2,0),IF(AND(G16=16,H16="м"),VLOOKUP(CG16,'Плавание 25 м'!$G$4:$H$2333,2,0),IF(AND(G16=16,H16="ж"),VLOOKUP(CG16,'Плавание 25 м'!$J$4:$K$2333,2,0),IF(AND(G16=17,H16="м"),VLOOKUP(CG16,'Плавание 25 м'!$M$4:$N$2333,2,0),IF(AND(G16=17,H16="ж"),VLOOKUP(CG16,'Плавание 25 м'!$P$4:$Q$2333,2,0),IF(AND(G16=18,H16="м"),VLOOKUP(CG16,'Плавание 25 м'!$S$4:$T$2333,2,0),IF(AND(G16=18,H16="ж"),VLOOKUP(CG16,'Плавание 25 м'!$V$4:$W$2333,2,0),""))))))))) -> 0 | CJ16: =IF(CI16="",0,IF(AND(G16=3,H16="м"),VLOOKUP(CI16,'Плавание 50 м'!$A$4:$B$1954,2,0),IF(AND(G16=3,H16="ж"),VLOOKUP(CI16,'Плавание 50 м'!$D$4:$E$1954,2,0),IF(AND(G16=4,H16="м"),VLOOKUP(CI16,'Плавание 50 м'!$G$4:$H$1954,2,0),IF(AND(G16=4,H16="ж"),VLOOKUP(CI16,'Плавание 50 м'!$J$4:$K$1954,2,0),IF(AND(G16=5,H16="м"),VLOOKUP(CI16,'Плавание 50 м'!$M$4:$N$1954,2,0),IF(AND(G16=5,H16="ж"),VLOOKUP(CI16,'Плавание 50 м'!$P$4:$Q$1954,2,0),IF(AND(G16=6,H16="м"),VLOOKUP(CI16,'Плавание 50 м'!$S$4:$T$1954,2,0),IF(AND(G16=6,H16="ж"),VLOOKUP(CI16,'Плавание 50 м'!$V$4:$W$1954,2,0),IF(AND(G16=7,H16="м"),VLOOKUP(CI16,'Плавание 50 м'!$Y$4:$Z$1954,2,0),IF(AND(G16=7,H16="ж"),VLOOKUP(CI16,'Плавание 50 м'!$AB$4:$AC$1954,2,0),IF(AND(G16=8,H16="м"),VLOOKUP(CI16,'Плавание 50 м'!$AE$4:$AF$1954,2,0),IF(AND(G16=8,H16="ж"),VLOOKUP(CI16,'Плавание 50 м'!$AH$4:$AI$1954,2,0),IF(AND(G16=9,H16="м"),VLOOKUP(CI16,'Плавание 50 м'!$AK$4:$AL$1954,2,0),IF(AND(G16=9,H16="ж"),VLOOKUP(CI16,'Плавание 50 м'!$AN$4:$AO$1954,2,0),IF(AND(G16=10,H16="м"),VLOOKUP(CI16,'Плавание 50 м'!$AQ$4:$AR$1954,2,0),IF(AND(G16=10,H16="ж"),VLOOKUP(CI16,'Плавание 50 м'!$AT$4:$AU$1954,2,0),IF(AND(G16=11,H16="м"),VLOOKUP(CI16,'Плавание 50 м'!$AW$4:$AX$1954,2,0),IF(AND(G16=11,H16="ж"),VLOOKUP(CI16,'Плавание 50 м'!$AZ$4:$BA$1954,2,0),IF(AND(G16=12,H16="м"),VLOOKUP(CI16,'Плавание 50 м'!$BC$4:$BD$1954,2,0),IF(AND(G16=12,H16="ж"),VLOOKUP(CI16,'Плавание 50 м'!$BF$4:$BG$1954,2,0),IF(AND(G16=13,H16="м"),VLOOKUP(CI16,'Плавание 50 м'!$BI$4:$BJ$1954,2,0),IF(AND(G16=13,H16="ж"),VLOOKUP(CI16,'Плавание 50 м'!$BL$4:$BM$1954,2,0),IF(AND(G16=14,H16="м"),VLOOKUP(CI16,'Плавание 50 м'!$BO$4:$BP$1954,2,0),IF(AND(G16=14,H16="ж"),VLOOKUP(CI16,'Плавание 50 м'!$BR$4:$BS$1954,2,0),IF(AND(G16=15,H16="м"),VLOOKUP(CI16,'Плавание 50 м'!$BU$4:$BV$1954,2,0),IF(AND(G16=15,H16="ж"),VLOOKUP(CI16,'Плавание 50 м'!$BX$4:$BY$1954,2,0),""))))))))))))))))))))))))))) -> 0 | CK16: =BR16+BN16+BH16 -> 202
A17: 9 | B17: Воронецкий Олег Геннадьевич | C17: ПАО "АКРОН" - 2 | D17: 26-53-0001048 | E17: 17.05.1991 | F17: =IF(E17="",0,INT(($B$4-E17)/365.25)) -> 34 | G17: =IFERROR(VLOOKUP(F17,Ступени!$A$2:$B$99,2,0),"") -> 10 | H17: м | J17: =IF(I17="",0,IF(AND(G17=2,H17="м"),VLOOKUP(I17,'30м'!$A$4:$B$71,2,0),IF(AND(G17=2,H17="ж"),VLOOKUP(I17,'30м'!$D$4:$E$71,2,0),IF(AND(G17=3,H17="м"),VLOOKUP(I17,'30м'!$G$4:$H$71,2,0),IF(AND(G17=3,H17="ж"),VLOOKUP(I17,'30м'!$J$4:$K$71,2,0),IF(AND(G17=4,H17="м"),VLOOKUP(I17,'30м'!$M$4:$N$71,2,0),IF(AND(G17=4,H17="ж"),VLOOKUP(I17,'30м'!$P$4:$Q$71,2,0),IF(AND(G17=5,H17="м"),VLOOKUP(I17,'30м'!$S$4:$T$71,2,0),IF(AND(G17=5,H17="ж"),VLOOKUP(I17,'30м'!$V$4:$W$71,2,0),""))))))))) -> 0 | L17: =IF(K17="",0,IF(AND(G17=4,H17="м"),VLOOKUP(K17,'60м'!$A$4:$B$129,2,0),IF(AND(G17=4,H17="ж"),VLOOKUP(K17,'60м'!$D$4:$E$129,2,0),IF(AND(G17=5,H17="м"),VLOOKUP(K17,'60м'!$G$4:$H$129,2,0),IF(AND(G17=5,H17="ж"),VLOOKUP(K17,'60м'!$J$4:$K$129,2,0),IF(AND(G17=6,H17="м"),VLOOKUP(K17,'60м'!$M$4:$N$129,2,0),IF(AND(G17=6,H17="ж"),VLOOKUP(K17,'60м'!$P$4:$Q$129,2,0),IF(AND(G17=7,H17="м"),VLOOKUP(K17,'60м'!$S$4:$T$129,2,0),IF(AND(G17=7,H17="ж"),VLOOKUP(K17,'60м'!$V$4:$W$129,2,0),IF(AND(G17=8,H17="м"),VLOOKUP(K17,'60м'!$Y$4:$Z$129,2,0),IF(AND(G17=8,H17="ж"),VLOOKUP(K17,'60м'!$AB$4:$AC$129,2,0),IF(AND(G17=9,H17="м"),VLOOKUP(K17,'60м'!$AE$4:$AF$129,2,0),IF(AND(G17=9,H17="ж"),VLOOKUP(K17,'60м'!$AH$4:$AI$129,2,0),IF(AND(G17=10,H17="м"),VLOOKUP(K17,'60м'!$AK$4:$AL$129,2,0),IF(AND(G17=10,H17="ж"),VLOOKUP(K17,'60м'!$AN$4:$AO$129,2,0),IF(AND(G17=11,H17="м"),VLOOKUP(K17,'60м'!$AQ$4:$AR$129,2,0),IF(AND(G17=11,H17="ж"),VLOOKUP(K17,'60м'!$AT$4:$AU$129,2,0),IF(AND(G17=12,H17="м"),VLOOKUP(K17,'60м'!$AW$4:$AX$129,2,0),IF(AND(G17=12,H17="ж"),VLOOKUP(K17,'60м'!$AZ$4:$BA$129,2,0),IF(AND(G17=13,H17="м"),VLOOKUP(K17,'60м'!$BC$4:$BD$129,2,0),IF(AND(G17=13,H17="ж"),VLOOKUP(K17,'60м'!$BF$4:$BG$129,2,0),""))))))))))))))))))))) -> 0 | N17: =IF(M17="",0,IF(AND(G17=6,H17="м"),VLOOKUP(M17,'100м'!$A$4:$B$134,2,0),IF(AND(G17=6,H17="ж"),VLOOKUP(M17,'100м'!$D$4:$E$134,2,0),IF(AND(G17=7,H17="м"),VLOOKUP(M17,'100м'!$G$4:$H$134,2,0),IF(AND(G17=7,H17="ж"),VLOOKUP(M17,'100м'!$J$4:$K$134,2,0),IF(AND(G17=8,H17="м"),VLOOKUP(M17,'100м'!$M$4:$N$134,2,0),IF(AND(G17=8,H17="ж"),VLOOKUP(M17,'100м'!$P$4:$Q$134,2,0),IF(AND(G17=9,H17="м"),VLOOKUP(M17,'100м'!$S$4:$T$134,2,0),IF(AND(G17=9,H17="ж"),VLOOKUP(M17,'100м'!$V$4:$W$134,2,0),""))))))))) -> 0 | R17: =IF(Q17="",0,IF(AND(G17=4,H17="м"),VLOOKUP(Q17,'1500м'!$A$4:$B$364,2,0),IF(AND(G17=4,H17="ж"),VLOOKUP(Q17,'1500м'!$D$4:$E$364,2,0),""))) -> 0 | T17: =IF(S17="",0,IF(AND(G17=5,H17="м"),VLOOKUP(S17,'2000м'!$A$4:$B$780,2,0),IF(AND(G17=5,H17="ж"),VLOOKUP(S17,'2000м'!$D$4:$E$780,2,0),IF(AND(G17=6,H17="ж"),VLOOKUP(S17,'2000м'!$G$4:$H$780,2,0),IF(AND(G17=7,H17="ж"),VLOOKUP(S17,'2000м'!$J$4:$K$780,2,0),IF(AND(G17=8,H17="ж"),VLOOKUP(S17,'2000м'!$M$4:$N$780,2,0),"")))))) -> 0 | V17: =IF(U17="",0,IF(AND(G17=6,H17="м"),VLOOKUP(U17,'3000м'!$A$4:$B$594,2,0),IF(AND(G17=7,H17="м"),VLOOKUP(U17,'3000м'!$D$4:$E$594,2,0),IF(AND(G17=8,H17="м"),VLOOKUP(U17,'3000м'!$G$4:$H$594,2,0),IF(AND(G17=9,H17="м"),VLOOKUP(U17,'3000м'!$J$4:$K$594,2,0),IF(AND(G17=10,H17="м"),VLOOKUP(U17,'3000м'!$M$4:$N$594,2,0),IF(AND(G17=11,H17="м"),VLOOKUP(U17,'3000м'!$P$4:$Q$594,2,0),""))))))) -> 0 | BB17: =IF(BA17="",0,IF(AND(G17=2,H17="м"),VLOOKUP(BA17,Подтягивание!$A$4:$B$79,2,0),IF(AND(G17=3,H17="м"),VLOOKUP(BA17,Подтягивание!$D$4:$E$79,2,0),IF(AND(G17=4,H17="м"),VLOOKUP(BA17,Подтягивание!$G$4:$H$79,2,0),IF(AND(G17=5,H17="м"),VLOOKUP(BA17,Подтягивание!$J$4:$K$79,2,0),IF(AND(G17=6,H17="м"),VLOOKUP(BA17,Подтягивание!$M$4:$N$79,2,0),IF(AND(G17=7,H17="м"),VLOOKUP(BA17,Подтягивание!$P$4:$Q$79,2,0),IF(AND(G17=8,H17="м"),VLOOKUP(BA17,Подтягивание!$S$4:$T$79,2,0),IF(AND(G17=9,H17="м"),VLOOKUP(BA17,Подтягивание!$V$4:$W$79,2,0),IF(AND(G17=10,H17="м"),VLOOKUP(BA17,Подтягивание!$Y$4:$Z$79,2,0),IF(AND(G17=11,H17="м"),VLOOKUP(BA17,Подтягивание!$AB$4:$AC$79,2,0),IF(AND(G17=12,H17="м"),VLOOKUP(BA17,Подтягивание!$AE$4:$AF$79,2,0),IF(AND(G17=13,H17="м"),VLOOKUP(BA17,Подтягивание!$AH$4:$AI$79,2,0),IF(AND(G17=14,H17="м"),VLOOKUP(BA17,Подтягивание!$AK$4:$AL$79,2,0),IF(AND(G17=15,H17="м"),VLOOKUP(BA17,Подтягивание!$AN$4:$AO$79,2,0),""))))))))))))))) -> 0 | BF17: =IF(BE17="",0,IF(AND(G17=6,H17="м"),VLOOKUP(BE17,Гиря!$A$4:$B$166,2,0),IF(AND(G17=7,H17="м"),VLOOKUP(BE17,Гиря!$D$4:$E$166,2,0),IF(AND(G17=8,H17="м"),VLOOKUP(BE17,Гиря!$G$4:$H$166,2,0),IF(AND(G17=9,H17="м"),VLOOKUP(BE17,Гиря!$J$4:$K$166,2,0),IF(AND(G17=10,H17="м"),VLOOKUP(BE17,Гиря!$M$4:$N$166,2,0),IF(AND(G17=11,H17="м"),VLOOKUP(BE17,Гиря!$P$4:$Q$166,2,0),IF(AND(G17=12,H17="м"),VLOOKUP(BE17,Гиря!$S$4:$T$166,2,0),IF(AND(G17=13,H17="м"),VLOOKUP(BE17,Гиря!$V$4:$W$166,2,0),IF(AND(G17=14,H17="м"),VLOOKUP(BE17,Гиря!$Y$4:$Z$166,2,0),IF(AND(G17=15,H17="м"),VLOOKUP(BE17,Гиря!$AB$4:$AC$166,2,0),""))))))))))) -> 0 | BG17: 70 | BH17: =IF(BG17="",0,IF(AND(G17=2,H17="м"),VLOOKUP(BG17,'Отж. от пола'!$A$4:$B$169,2,0),IF(AND(G17=2,H17="ж"),VLOOKUP(BG17,'Отж. от пола'!$D$4:$E$169,2,0),IF(AND(G17=3,H17="м"),VLOOKUP(BG17,'Отж. от пола'!$G$4:$H$169,2,0),IF(AND(G17=3,H17="ж"),VLOOKUP(BG17,'Отж. от пола'!$J$4:$K$169,2,0),IF(AND(G17=4,H17="м"),VLOOKUP(BG17,'Отж. от пола'!$M$4:$N$169,2,0),IF(AND(G17=4,H17="ж"),VLOOKUP(BG17,'Отж. от пола'!$P$4:$Q$169,2,0),IF(AND(G17=5,H17="м"),VLOOKUP(BG17,'Отж. от пола'!$S$4:$T$169,2,0),IF(AND(G17=5,H17="ж"),VLOOKUP(BG17,'Отж. от пола'!$V$4:$W$169,2,0),IF(AND(G17=6,H17="м"),VLOOKUP(BG17,'Отж. от пола'!$Y$4:$Z$169,2,0),IF(AND(G17=6,H17="ж"),VLOOKUP(BG17,'Отж. от пола'!$AB$4:$AC$169,2,0),IF(AND(G17=7,H17="м"),VLOOKUP(BG17,'Отж. от пола'!$AE$4:$AF$169,2,0),IF(AND(G17=7,H17="ж"),VLOOKUP(BG17,'Отж. от пола'!$AH$4:$AI$169,2,0),IF(AND(G17=8,H17="м"),VLOOKUP(BG17,'Отж. от пола'!$AK$4:$AL$169,2,0),IF(AND(G17=8,H17="ж"),VLOOKUP(BG17,'Отж. от пола'!$AN$4:$AO$169,2,0),IF(AND(G17=9,H17="м"),VLOOKUP(BG17,'Отж. от пола'!$AQ$4:$AR$169,2,0),IF(AND(G17=9,H17="ж"),VLOOKUP(BG17,'Отж. от пола'!$AT$4:$AU$169,2,0),IF(AND(G17=10,H17="м"),VLOOKUP(BG17,'Отж. от пола'!$AW$4:$AX$169,2,0),IF(AND(G17=10,H17="ж"),VLOOKUP(BG17,'Отж. от пола'!$AZ$4:$BA$169,2,0),IF(AND(G17=11,H17="м"),VLOOKUP(BG17,'Отж. от пола'!$BC$4:$BD$169,2,0),IF(AND(G17=11,H17="ж"),VLOOKUP(BG17,'Отж. от пола'!$BF$4:$BG$169,2,0),IF(AND(G17=12,H17="м"),VLOOKUP(BG17,'Отж. от пола'!$BI$4:$BJ$169,2,0),IF(AND(G17=12,H17="ж"),VLOOKUP(BG17,'Отж. от пола'!$BL$4:$BM$169,2,0),IF(AND(G17=13,H17="м"),VLOOKUP(BG17,'Отж. от пола'!$BO$4:$BP$169,2,0),IF(AND(G17=13,H17="ж"),VLOOKUP(BG17,'Отж. от пола'!$BR$4:$BS$169,2,0),IF(AND(G17=14,H17="м"),VLOOKUP(BG17,'Отж. от пола'!$BU$4:$BV$169,2,0),IF(AND(G17=14,H17="ж"),VLOOKUP(BG17,'Отж. от пола'!$BX$4:$BY$169,2,0),IF(AND(G17=15,H17="м"),VLOOKUP(BG17,'Отж. от пола'!$CA$4:$CB$169,2,0),IF(AND(G17=15,H17="ж"),VLOOKUP(BG17,'Отж. от пола'!$CD$4:$CE$169,2,0),""))))))))))))))))))))))))))))) -> 78 | BJ17: =IF(BI17="",0,IF(AND(G17=16,H17="м"),VLOOKUP(BI17,'Отж.от скамьи'!$A$4:$B$79,2,0),IF(AND(G17=16,H17="ж"),VLOOKUP(BI17,'Отж.от скамьи'!$D$4:$E$79,2,0),IF(AND(G17=17,H17="м"),VLOOKUP(BI17,'Отж.от скамьи'!$G$4:$H$79,2,0),IF(AND(G17=17,H17="ж"),VLOOKUP(BI17,'Отж.от скамьи'!$J$4:$K$79,2,0),""))))) -> 0 | BL17: =IF(BK17="",0,IF(AND(G17=18,H17="м"),VLOOKUP(BK17,'Отж.от стула'!$A$4:$B$68,2,0),IF(AND(G17=18,H17="ж"),VLOOKUP(BK17,'Отж.от стула'!$D$4:$E$69,2,0),""))) -> 0 | BM17: 17 | BN17: =IF(BM17="",0,IF(AND(G17=2,H17="м"),VLOOKUP(BM17,Наклон!$A$4:$B$69,2,0),IF(AND(G17=2,H17="ж"),VLOOKUP(BM17,Наклон!$A$74:$B$139,2,0),IF(AND(G17=3,H17="м"),VLOOKUP(BM17,Наклон!$D$4:$E$69,2,0),IF(AND(G17=3,H17="ж"),VLOOKUP(BM17,Наклон!$D$74:$E$139,2,0),IF(AND(G17=4,H17="м"),VLOOKUP(BM17,Наклон!$G$4:$H$69,2,0),IF(AND(G17=4,H17="ж"),VLOOKUP(BM17,Наклон!$G$74:$H$139,2,0),IF(AND(G17=5,H17="м"),VLOOKUP(BM17,Наклон!$J$4:$K$69,2,0),IF(AND(G17=5,H17="ж"),VLOOKUP(BM17,Наклон!$J$74:$K$139,2,0),IF(AND(G17=6,H17="м"),VLOOKUP(BM17,Наклон!$M$4:$N$69,2,0),IF(AND(G17=6,H17="ж"),VLOOKUP(BM17,Наклон!$M$74:$N$139,2,0),IF(AND(G17=7,H17="м"),VLOOKUP(BM17,Наклон!$P$4:$Q$69,2,0),IF(AND(G17=7,H17="ж"),VLOOKUP(BM17,Наклон!$P$74:$Q$139,2,0),IF(AND(G17=8,H17="м"),VLOOKUP(BM17,Наклон!$S$4:$T$69,2,0),IF(AND(G17=8,H17="ж"),VLOOKUP(BM17,Наклон!$S$74:$T$139,2,0),IF(AND(G17=9,H17="м"),VLOOKUP(BM17,Наклон!$V$4:$W$69,2,0),IF(AND(G17=9,H17="ж"),VLOOKUP(BM17,Наклон!$V$74:$W$139,2,0),IF(AND(G17=10,H17="м"),VLOOKUP(BM17,Наклон!$Y$4:$Z$69,2,0),IF(AND(G17=10,H17="ж"),VLOOKUP(BM17,Наклон!$Y$74:$Z$139,2,0),IF(AND(G17=11,H17="м"),VLOOKUP(BM17,Наклон!$AB$4:$AC$69,2,0),IF(AND(G17=11,H17="ж"),VLOOKUP(BM17,Наклон!$AB$74:$AC$139,2,0),IF(AND(G17=12,H17="м"),VLOOKUP(BM17,Наклон!$AE$4:$AF$69,2,0),IF(AND(G17=12,H17="ж"),VLOOKUP(BM17,Наклон!$AE$74:$AF$139,2,0),IF(AND(G17=13,H17="м"),VLOOKUP(BM17,Наклон!$AH$4:$AI$69,2,0),IF(AND(G17=13,H17="ж"),VLOOKUP(BM17,Наклон!$AH$74:$AI$139,2,0),IF(AND(G17=14,H17="м"),VLOOKUP(BM17,Наклон!$AK$4:$AL$69,2,0),IF(AND(G17=14,H17="ж"),VLOOKUP(BM17,Наклон!$AK$74:$AL$139,2,0),IF(AND(G17=15,H17="м"),VLOOKUP(BM17,Наклон!$AN$4:$AO$69,2,0),IF(AND(G17=15,H17="ж"),VLOOKUP(BM17,Наклон!$AN$74:$AO$139,2,0),IF(AND(G17=16,H17="м"),VLOOKUP(BM17,Наклон!$AQ$4:$AR$69,2,0),IF(AND(G17=16,H17="ж"),VLOOKUP(BM17,Наклон!$AQ$74:$AR$139,2,0),IF(AND(G17=17,H17="м"),VLOOKUP(BM17,Наклон!$AT$4:$AU$69,2,0),IF(AND(G17=17,H17="ж"),VLOOKUP(BM17,Наклон!$AT$74:$AU$139,2,0),IF(AND(G17=18,H17="м"),VLOOKUP(BM17,Наклон!$AW$4:$AX$69,2,0),IF(AND(G17=18,H17="ж"),VLOOKUP(BM17,Наклон!$AW$74:$AX$139,2,0)))))))))))))))))))))))))))))))))))) -> 72 | BP17: =IF(BO17="",0,IF(AND(G17=2,H17="м"),VLOOKUP(BO17,'Прыжок в длину'!$A$4:$B$294,2,0),IF(AND(G17=2,H17="ж"),VLOOKUP(BO17,'Прыжок в длину'!$D$4:$E$294,2,0),IF(AND(G17=3,H17="м"),VLOOKUP(BO17,'Прыжок в длину'!$G$4:$H$294,2,0),IF(AND(G17=3,H17="ж"),VLOOKUP(BO17,'Прыжок в длину'!$J$4:$K$294,2,0),IF(AND(G17=4,H17="м"),VLOOKUP(BO17,'Прыжок в длину'!$M$4:$N$294,2,0),IF(AND(G17=4,H17="ж"),VLOOKUP(BO17,'Прыжок в длину'!$P$4:$Q$294,2,0),IF(AND(G17=5,H17="м"),VLOOKUP(BO17,'Прыжок в длину'!$S$4:$T$294,2,0),IF(AND(G17=5,H17="ж"),VLOOKUP(BO17,'Прыжок в длину'!$V$4:$W$294,2,0),IF(AND(G17=6,H17="м"),VLOOKUP(BO17,'Прыжок в длину'!$Y$4:$Z$294,2,0),IF(AND(G17=6,H17="ж"),VLOOKUP(BO17,'Прыжок в длину'!$AB$4:$AC$294,2,0),IF(AND(G17=7,H17="м"),VLOOKUP(BO17,'Прыжок в длину'!$AE$4:$AF$294,2,0),IF(AND(G17=7,H17="ж"),VLOOKUP(BO17,'Прыжок в длину'!$AH$4:$AI$294,2,0),IF(AND(G17=8,H17="м"),VLOOKUP(BO17,'Прыжок в длину'!$AK$4:$AL$294,2,0),IF(AND(G17=8,H17="ж"),VLOOKUP(BO17,'Прыжок в длину'!$AN$4:$AO$294,2,0),IF(AND(G17=9,H17="м"),VLOOKUP(BO17,'Прыжок в длину'!$AQ$4:$AR$294,2,0),IF(AND(G17=9,H17="ж"),VLOOKUP(BO17,'Прыжок в длину'!$AT$4:$AU$294,2,0),IF(AND(G17=10,H17="м"),VLOOKUP(BO17,'Прыжок в длину'!$AW$4:$AX$294,2,0),IF(AND(G17=10,H17="ж"),VLOOKUP(BO17,'Прыжок в длину'!$AZ$4:$BA$294,2,0),IF(AND(G17=11,H17="м"),VLOOKUP(BO17,'Прыжок в длину'!BC12:$BD$294,2,0),IF(AND(G17=11,H17="ж"),VLOOKUP(BO17,'Прыжок в длину'!$BF$4:$BG$294,2,0),""))))))))))))))))))))) -> 0 | BQ17: 39 | BR17: =IF(BQ17="",0,IF(AND(G17=2,H17="м"),VLOOKUP(BQ17,Пресс!$A$4:$B$104,2,0),IF(AND(G17=2,H17="ж"),VLOOKUP(BQ17,Пресс!$D$4:$E$104,2,0),IF(AND(G17=3,H17="м"),VLOOKUP(BQ17,Пресс!$G$4:$H$104,2,0),IF(AND(G17=3,H17="ж"),VLOOKUP(BQ17,Пресс!$J$4:$K$104,2,0),IF(AND(G17=4,H17="м"),VLOOKUP(BQ17,Пресс!$M$4:$N$104,2,0),IF(AND(G17=4,H17="ж"),VLOOKUP(BQ17,Пресс!$P$4:$Q$104,2,0),IF(AND(G17=5,H17="м"),VLOOKUP(BQ17,Пресс!$S$4:$T$104,2,0),IF(AND(G17=5,H17="ж"),VLOOKUP(BQ17,Пресс!$V$4:$W$104,2,0),IF(AND(G17=6,H17="м"),VLOOKUP(BQ17,Пресс!$Y$4:$Z$104,2,0),IF(AND(G17=6,H17="ж"),VLOOKUP(BQ17,Пресс!$AB$4:$AC$104,2,0),IF(AND(G17=7,H17="м"),VLOOKUP(BQ17,Пресс!$AE$4:$AF$104,2,0),IF(AND(G17=7,H17="ж"),VLOOKUP(BQ17,Пресс!$AH$4:$AI$104,2,0),IF(AND(G17=8,H17="м"),VLOOKUP(BQ17,Пресс!$AK$4:$AL$104,2,0),IF(AND(G17=8,H17="ж"),VLOOKUP(BQ17,Пресс!$AN$4:$AO$104,2,0),IF(AND(G17=9,H17="м"),VLOOKUP(BQ17,Пресс!$AQ$4:$AR$104,2,0),IF(AND(G17=9,H17="ж"),VLOOKUP(BQ17,Пресс!$AT$4:$AU$104,2,0),IF(AND(G17=10,H17="м"),VLOOKUP(BQ17,Пресс!$AW$4:$AX$104,2,0),IF(AND(G17=10,H17="ж"),VLOOKUP(BQ17,Пресс!$AZ$4:$BA$104,2,0),IF(AND(G17=11,H17="м"),VLOOKUP(BQ17,Пресс!$BC$4:$BD$104,2,0),IF(AND(G17=11,H17="ж"),VLOOKUP(BQ17,Пресс!$BF$4:$BG$104,2,0),IF(AND(G17=12,H17="м"),VLOOKUP(BQ17,Пресс!$BI$4:$BJ$104,2,0),IF(AND(G17=12,H17="ж"),VLOOKUP(BQ17,Пресс!$BL$4:$BM$104,2,0),IF(AND(G17=13,H17="м"),VLOOKUP(BQ17,Пресс!$BO$4:$BP$104,2,0),IF(AND(G17=13,H17="ж"),VLOOKUP(BQ17,Пресс!$BR$4:$BS$104,2,0),IF(AND(G17=14,H17="м"),VLOOKUP(BQ17,Пресс!$BU$4:$BV$104,2,0),IF(AND(G17=14,H17="ж"),VLOOKUP(BQ17,Пресс!$BX$4:$BY$104,2,0),IF(AND(G17=15,H17="м"),VLOOKUP(BQ17,Пресс!$CA$4:$CB$104,2,0),IF(AND(G17=15,H17="ж"),VLOOKUP(BQ17,Пресс!$CD$4:$CE$104,2,0),IF(AND(G17=16,H17="м"),VLOOKUP(BQ17,Пресс!$CG$4:$CH$104,2,0),IF(AND(G17=16,H17="ж"),VLOOKUP(BQ17,Пресс!$CJ$4:$CK$104,2,0),IF(AND(G17=17,H17="м"),VLOOKUP(BQ17,Пресс!$CM$4:$CN$104,2,0),IF(AND(G17=17,H17="ж"),VLOOKUP(BQ17,Пресс!$CP$4:$CQ$104,2,0),IF(AND(G17=18,H17="м"),VLOOKUP(BQ17,Пресс!$CS$4:$CT$104,2,0),IF(AND(G17=18,H17="ж"),VLOOKUP(BQ17,Пресс!$CV$4:$CW$104,2,0),""))))))))))))))))))))))))))))))))))) -> 55 | BV17: =IF(BU17="",0,IF(AND(G17=4,H17="м"),VLOOKUP(BU17,Стрельба!$A$4:$B$54,2,0),IF(AND(G17=4,H17="ж"),VLOOKUP(BU17,Стрельба!$D$4:$E$54,2,0),IF(AND(G17=5,H17="м"),VLOOKUP(BU17,Стрельба!$G$4:$H$54,2,0),IF(AND(G17=5,H17="ж"),VLOOKUP(BU17,Стрельба!$J$4:$K$54,2,0),IF(AND(G17=6,H17="м"),VLOOKUP(BU17,Стрельба!$M$4:$N$54,2,0),IF(AND(G17=6,H17="ж"),VLOOKUP(BU17,Стрельба!$P$4:$Q$54,2,0),IF(AND(G17=7,H17="м"),VLOOKUP(BU17,Стрельба!$S$4:$T$54,2,0),IF(AND(G17=7,H17="ж"),VLOOKUP(BU17,Стрельба!$V$4:$W$54,2,0),IF(AND(G17=8,H17="м"),VLOOKUP(BU17,Стрельба!$Y$4:$Z$54,2,0),IF(AND(G17=8,H17="ж"),VLOOKUP(BU17,Стрельба!$AB$4:$AC$54,2,0),IF(AND(G17=9,H17="м"),VLOOKUP(BU17,Стрельба!$AE$4:$AF$54,2,0),IF(AND(G17=9,H17="ж"),VLOOKUP(BU17,Стрельба!$AH$4:$AI$54,2,0),IF(AND(G17=10,H17="м"),VLOOKUP(BU17,Стрельба!$AK$4:$AL$54,2,0),IF(AND(G17=10,H17="ж"),VLOOKUP(BU17,Стрельба!$AN$4:$AO$54,2,0),IF(AND(G17=11,H17="м"),VLOOKUP(BU17,Стрельба!$AQ$4:$AR$54,2,0),IF(AND(G17=11,H17="ж"),VLOOKUP(BU17,Стрельба!$AT$4:$AU$54,2,0),IF(AND(G17=12,H17="м"),VLOOKUP(BU17,Стрельба!$AW$4:$AX$54,2,0),IF(AND(G17=12,H17="ж"),VLOOKUP(BU17,Стрельба!$AZ$4:$BA$54,2,0),IF(AND(G17=13,H17="м"),VLOOKUP(BU17,Стрельба!$BC$4:$BD$54,2,0),IF(AND(G17=13,H17="ж"),VLOOKUP(BU17,Стрельба!$BF$4:$BG$54,2,0),IF(AND(G17=14,H17="м"),VLOOKUP(BU17,Стрельба!$BI$4:$BJ$54,2,0),IF(AND(G17=14,H17="ж"),VLOOKUP(BU17,Стрельба!$BL$4:$BM$54,2,0),IF(AND(G17=15,H17="м"),VLOOKUP(BU17,Стрельба!$BO$4:$BP$54,2,0),IF(AND(G17=15,H17="ж"),VLOOKUP(BU17,Стрельба!$BR$4:$BS$54,2,0),""))))))))))))))))))))))))) -> 0 | BZ17: =IF(BY17="",0,IF(AND(G17=3,H17="м"),VLOOKUP(BY17,'Метание 150г'!$A$4:$B$784,2,0),IF(AND(G17=3,H17="ж"),VLOOKUP(BY17,'Метание 150г'!$D$4:$E$784,2,0),IF(AND(G17=4,H17="м"),VLOOKUP(BY17,'Метание 150г'!$G$4:$H$784,2,0),IF(AND(G17=4,H17="ж"),VLOOKUP(BY17,'Метание 150г'!$J$4:$K$784,2,0),IF(AND(G17=5,H17="м"),VLOOKUP(BY17,'Метание 150г'!$M$4:$N$784,2,0),IF(AND(G17=5,H17="ж"),VLOOKUP(BY17,'Метание 150г'!$P$4:$Q$784,2,0),""))))))) -> 0 | CB17: =IF(CA17="",0,IF(AND(G17=6,H17="м"),VLOOKUP(CA17,'Метание 700г'!$A$4:$B$574,2,0),IF(AND(G17=7,H17="м"),VLOOKUP(CA17,'Метание 700г'!$D$4:$E$574,2,0),IF(AND(G17=8,H17="м"),VLOOKUP(CA17,'Метание 700г'!$G$4:$H$574,2,0),"")))) -> 0 | CD17: =IF(CC17="",0,IF(AND(G17=6,H17="ж"),VLOOKUP(CC17,'Метание 500г'!$A$4:$B$565,2,0),IF(AND(G17=7,H17="ж"),VLOOKUP(CC17,'Метание 500г'!$D$4:$E$565,2,0),IF(AND(G17=8,H17="ж"),VLOOKUP(CC17,'Метание 500г'!$G$4:$H$565,2,0),IF(AND(G17=9,H17="ж"),VLOOKUP(CC17,'Метание 500г'!$J$4:$K$565,2,0),IF(AND(G17=10,H17="ж"),VLOOKUP(CC17,'Метание 500г'!$M$4:$N$565,2,0),IF(AND(G17=11,H17="ж"),VLOOKUP(CC17,'Метание 500г'!$P$4:$Q$565,2,0),""))))))) -> 0 | CH17: =IF(CG17="",0,IF(AND(G17=2,H17="м"),VLOOKUP(CG17,'Плавание 25 м'!$A$4:$B$2333,2,0),IF(AND(G17=2,H17="ж"),VLOOKUP(CG17,'Плавание 25 м'!$D$4:$E$2333,2,0),IF(AND(G17=16,H17="м"),VLOOKUP(CG17,'Плавание 25 м'!$G$4:$H$2333,2,0),IF(AND(G17=16,H17="ж"),VLOOKUP(CG17,'Плавание 25 м'!$J$4:$K$2333,2,0),IF(AND(G17=17,H17="м"),VLOOKUP(CG17,'Плавание 25 м'!$M$4:$N$2333,2,0),IF(AND(G17=17,H17="ж"),VLOOKUP(CG17,'Плавание 25 м'!$P$4:$Q$2333,2,0),IF(AND(G17=18,H17="м"),VLOOKUP(CG17,'Плавание 25 м'!$S$4:$T$2333,2,0),IF(AND(G17=18,H17="ж"),VLOOKUP(CG17,'Плавание 25 м'!$V$4:$W$2333,2,0),""))))))))) -> 0 | CJ17: =IF(CI17="",0,IF(AND(G17=3,H17="м"),VLOOKUP(CI17,'Плавание 50 м'!$A$4:$B$1954,2,0),IF(AND(G17=3,H17="ж"),VLOOKUP(CI17,'Плавание 50 м'!$D$4:$E$1954,2,0),IF(AND(G17=4,H17="м"),VLOOKUP(CI17,'Плавание 50 м'!$G$4:$H$1954,2,0),IF(AND(G17=4,H17="ж"),VLOOKUP(CI17,'Плавание 50 м'!$J$4:$K$1954,2,0),IF(AND(G17=5,H17="м"),VLOOKUP(CI17,'Плавание 50 м'!$M$4:$N$1954,2,0),IF(AND(G17=5,H17="ж"),VLOOKUP(CI17,'Плавание 50 м'!$P$4:$Q$1954,2,0),IF(AND(G17=6,H17="м"),VLOOKUP(CI17,'Плавание 50 м'!$S$4:$T$1954,2,0),IF(AND(G17=6,H17="ж"),VLOOKUP(CI17,'Плавание 50 м'!$V$4:$W$1954,2,0),IF(AND(G17=7,H17="м"),VLOOKUP(CI17,'Плавание 50 м'!$Y$4:$Z$1954,2,0),IF(AND(G17=7,H17="ж"),VLOOKUP(CI17,'Плавание 50 м'!$AB$4:$AC$1954,2,0),IF(AND(G17=8,H17="м"),VLOOKUP(CI17,'Плавание 50 м'!$AE$4:$AF$1954,2,0),IF(AND(G17=8,H17="ж"),VLOOKUP(CI17,'Плавание 50 м'!$AH$4:$AI$1954,2,0),IF(AND(G17=9,H17="м"),VLOOKUP(CI17,'Плавание 50 м'!$AK$4:$AL$1954,2,0),IF(AND(G17=9,H17="ж"),VLOOKUP(CI17,'Плавание 50 м'!$AN$4:$AO$1954,2,0),IF(AND(G17=10,H17="м"),VLOOKUP(CI17,'Плавание 50 м'!$AQ$4:$AR$1954,2,0),IF(AND(G17=10,H17="ж"),VLOOKUP(CI17,'Плавание 50 м'!$AT$4:$AU$1954,2,0),IF(AND(G17=11,H17="м"),VLOOKUP(CI17,'Плавание 50 м'!$AW$4:$AX$1954,2,0),IF(AND(G17=11,H17="ж"),VLOOKUP(CI17,'Плавание 50 м'!$AZ$4:$BA$1954,2,0),IF(AND(G17=12,H17="м"),VLOOKUP(CI17,'Плавание 50 м'!$BC$4:$BD$1954,2,0),IF(AND(G17=12,H17="ж"),VLOOKUP(CI17,'Плавание 50 м'!$BF$4:$BG$1954,2,0),IF(AND(G17=13,H17="м"),VLOOKUP(CI17,'Плавание 50 м'!$BI$4:$BJ$1954,2,0),IF(AND(G17=13,H17="ж"),VLOOKUP(CI17,'Плавание 50 м'!$BL$4:$BM$1954,2,0),IF(AND(G17=14,H17="м"),VLOOKUP(CI17,'Плавание 50 м'!$BO$4:$BP$1954,2,0),IF(AND(G17=14,H17="ж"),VLOOKUP(CI17,'Плавание 50 м'!$BR$4:$BS$1954,2,0),IF(AND(G17=15,H17="м"),VLOOKUP(CI17,'Плавание 50 м'!$BU$4:$BV$1954,2,0),IF(AND(G17=15,H17="ж"),VLOOKUP(CI17,'Плавание 50 м'!$BX$4:$BY$1954,2,0),""))))))))))))))))))))))))))) -> 0 | CK17: =BR17+BN17+BH17 -> 205
